Workbook
Name D_Indice100: 1636.83
Name Estado: [1]Listas_limites!#REF!
Name Mês: [1]Listas_limites!#REF!

Sheet Categorias
A1: Aquisição de patentes e direitos de propriedade
A2: Matérias-primas e materiais consumíveis
A3: Aquisição de componentes
A4: Consultoria
A5: Estudos/Relatórios DNSH
A6: Assistência técnica
A7: Aquisição de serviços
A8: Equipamento informático
A9: Software e licenças
A10: Máquinas e equipamentos
A11: Aquisição de instrumentos e equipamento científico e técnico
A12: Registo de patentes (Taxas Oficiais)
... A21: CC/ROC

Sheet Tecnicos
A1: ID | B1: Beneficiário | C1: Nova | D1: NIF | E1: Beneficiário | F1: Nível | G1: Vínculo | H1: Vencimento mês (Consultar SAAF para Valores) | I1: Seguro Social Voluntário | J1: Seguro Acidentes Pessoais | K1: Taxa Segurança Social | L1: Critico | M1: Custo ETI
B2: INESC TEC | C2: Não | E2: C1 - Specialist in technical coordination and the development of digital solutions to support operations management and optimization | F2: Nível 7 - Mestre | G2: Contrato de Trablho a Termo Incerto | H2: =4443.99 -> 4443.99 | I2: =IF(G2="Bolseiro",158.99,0) -> 0 | J2: =IF(G2="Bolseiro",68.65,0) -> 0 | K2: =IF(G2="Bolseiro",0,22.3%) -> 0.223 | L2: Não | M2: =IF(G2="Bolseiro",(H2+I2+J2)*12/11,H2*(1+K2)*14/11) -> 6917.2724 | O2: R03160 | Rui Diogo Rebelo
B3: INESC TEC | C3: Não | E3: C2 - Specialist in digital transformation, process modelling, and the development of technology-based innovation solutions | F3: Nível 7 - Mestre | G3: Contrato de Trablho a Termo Incerto | H3: =1749.16 -> 1749.16 | I3: =IF(G3="Bolseiro",158.99,0) -> 0 | J3: =IF(G3="Bolseiro",68.65,0) -> 0 | K3: =IF(G3="Bolseiro",0,22.3%) -> 0.223 | L3: Não | M3: =IF(G3="Bolseiro",(H3+I3+J3)*12/11,H3*(1+K3)*14/11) -> 2722.647 | O3: R08460 | Sthefan Berwanger
B4: INESC TEC | C4: Não | E4: C3 - Specialist in software engineering, data integration, and the development of interoperable digital platforms | F4: Nível 7 - Mestre | G4: Contrato de Trablho a Termo Incerto | H4: =1896.07 -> 1896.07 | I4: =IF(G4="Bolseiro",158.99,0) -> 0 | J4: =IF(G4="Bolseiro",68.65,0) -> 0 | K4: =IF(G4="Bolseiro",0,22.3%) -> 0.223 | L4: Não | M4: =IF(G4="Bolseiro",(H4+I4+J4)*12/11,H4*(1+K4)*14/11) -> 2951.3191 | O4: R07929 | Ana Carolina Chaves
B5: INESC TEC | C5: Não | E5: C4 - Specialist in information systems, operational planning, and decision-support in industrial environments | F5: Nível 7 - Mestre | G5: Contrato de Trablho a Termo Incerto | H5: =4029.99 -> 4029.99 | I5: =IF(G5="Bolseiro",158.99,0) -> 0 | J5: =IF(G5="Bolseiro",68.65,0) -> 0 | K5: =IF(G5="Bolseiro",0,22.3%) -> 0.223 | L5: Não | M5: =IF(G5="Bolseiro",(H5+I5+J5)*12/11,H5*(1+K5)*14/11) -> 6272.8626 | O5: R00283 | César Toscano
B6: INESC TEC | C6: Não | E6: D1 - Specialist in industrial processes, operational improvement, and the implementation of production support methodologies | F6: Nível 8 - Doutorado | G6: Quadro de Cedência Ocasional [Docentes] | H6: =3393.14 -> 3393.14 | I6: =IF(G6="Bolseiro",158.99,0) -> 0 | J6: =IF(G6="Bolseiro",68.65,0) -> 0 | K6: =IF(G6="Bolseiro",0,22.3%) -> 0.223 | L6: Não | M6: =IF(G6="Bolseiro",(H6+I6+J6)*12/11,H6*(1+K6)*14/11) -> 5281.5766 | O6: R08340 | Hélio Cristiano Castro
B7: INESC TEC | C7: Não | E7: D2 - Specialist in systems architecture, digital traceability, and the development of solutions for information integration and sharing | F7: Nível 8 - Doutorado | G7: Quadro de Cedência Ocasional [Docentes] | H7: =4035 -> 4035 | I7: =IF(G7="Bolseiro",158.99,0) -> 0 | J7: =IF(G7="Bolseiro",68.65,0) -> 0 | K7: =IF(G7="Bolseiro",0,22.3%) -> 0.223 | L7: Sim | M7: =IF(G7="Bolseiro",(H7+I7+J7)*12/11,H7*(1+K7)*14/11) -> 6280.6609 | O7: R04363 | Cristovão Sousa
B8: INESC TEC | C8: Não | E8: D3 - Specialist in data analysis, quantitative methods, and decision-support for process optimization | F8: Nível 8 - Doutorado | G8: Quadro de Cedência Ocasional [Docentes] | H8: =4218.5 -> 4218.5 | I8: =IF(G8="Bolseiro",158.99,0) -> 0 | J8: =IF(G8="Bolseiro",68.65,0) -> 0 | K8: =IF(G8="Bolseiro",0,22.3%) -> 0.223 | L8: Não | M8: =IF(G8="Bolseiro",(H8+I8+J8)*12/11,H8*(1+K8)*14/11) -> 6566.287 | O8: R05965 | Luís Guimarães
B9: INESC TEC | C9: Não | E9: C5 - Specialist in software development, systems integration, and digital traceability | F9: Nível 7 - Mestre | G9: Contrato de Trablho a Termo Incerto | H9: =2229.65 -> 2229.65 | I9: =IF(G9="Bolseiro",158.99,0) -> 0 | J9: =IF(G9="Bolseiro",68.65,0) -> 0 | K9: =IF(G9="Bolseiro",0,22.3%) -> 0.223 | L9: Não | M9: =IF(G9="Bolseiro",(H9+I9+J9)*12/11,H9*(1+K9)*14/11) -> 3470.5516 | O9: R08941 | Ricardo Ferreira
B10: INESC TEC | C10: Não | E10: C6 - Specialist in digital infrastructures and technology development | F10: Nível 7 - Mestre | G10: Contrato de Trablho a Termo Incerto | H10: =1800 -> 1800 | I10: =IF(G10="Bolseiro",158.99,0) -> 0 | J10: =IF(G10="Bolseiro",68.65,0) -> 0 | K10: =IF(G10="Bolseiro",0,22.3%) -> 0.223 | L10: Não | M10: =IF(G10="Bolseiro",(H10+I10+J10)*12/11,H10*(1+K10)*14/11) -> 2801.7818 | O10: RG10N004 | C I&D - Equida B (Henrique Silva)
B11: INESC TEC | C11: Não | E11: D4 - Specialist in quantitative analysis, performance assessment, and analytical support for results monitoring | F11: Nível 8 - Doutorado | G11: Quadro de Cedência Ocasional [Docentes] | H11: =4218.5 -> 4218.5 | I11: =IF(G11="Bolseiro",158.99,0) -> 0 | J11: =IF(G11="Bolseiro",68.65,0) -> 0 | K11: =IF(G11="Bolseiro",0,22.3%) -> 0.223 | L11: Não | M11: =IF(G11="Bolseiro",(H11+I11+J11)*12/11,H11*(1+K11)*14/11) -> 6566.287 | O11: R05988 | Vera Miguéis
B12: INESC TEC | C12: Não | E12: D5 - Specialist in operations management, organizational processes, and continuous improvement solutions | F12: Nível 8 - Doutorado | G12: Quadro de Cedência Ocasional [Docentes] | H12: 5227.28 | I12: =IF(G12="Bolseiro",158.99,0) -> 0 | J12: =IF(G12="Bolseiro",68.65,0) -> 0 | K12: =IF(G12="Bolseiro",0,22.3%) -> 0.223 | L12: Não | M12: =IF(G12="Bolseiro",(H12+I12+J12)*12/11,H12*(1+K12)*14/11) -> 8136.4989 | O12: R02160-1 | Américo Azevedo
B13: INESC TEC | C13: Sim | E13: C7 - Specialist in Spectral imaging and chemical sensing | F13: Nível 8 - Doutorado | G13: A contratar | H13: 2500 | I13: =IF(G13="Bolseiro",158.99,0) -> 0 | J13: =IF(G13="Bolseiro",68.65,0) -> 0 | K13: =IF(G13="Bolseiro",0,22.3%) -> 0.223 | M13: =IF(G13="Bolseiro",(H13+I13+J13)*12/11,H13*(1+K13)*14/11) -> 3891.3636 | O13: Doutorado 1
B14: INESC TEC | C14: Não | E14: C8 - Specialist in Optical Sensors and Integration | F14: Nível 8 - Doutorado | G14: Contrato de Trablho a Termo Incerto | H14: 2500 | I14: =IF(G14="Bolseiro",158.99,0) -> 0 | J14: =IF(G14="Bolseiro",68.65,0) -> 0 | K14: =IF(G14="Bolseiro",0,22.3%) -> 0.223 | M14: =IF(G14="Bolseiro",(H14+I14+J14)*12/11,H14*(1+K14)*14/11) -> 3891.3636 | O14: Catarina Monteiro
B15: INESC TEC | C15: Não | E15: C9 - Specialist in Spectral imaging for Mining Applications | F15: Nível 8 - Doutorado | G15: Contrato de Trabalho a Tempo Indeterminado (Sem Termo) | H15: 2500 | I15: =IF(G15="Bolseiro",158.99,0) -> 0 | J15: =IF(G15="Bolseiro",68.65,0) -> 0 | K15: =IF(G15="Bolseiro",0,22.3%) -> 0.223 | M15: =IF(G15="Bolseiro",(H15+I15+J15)*12/11,H15*(1+K15)*14/11) -> 3891.3636 | O15: Diana Guimarães
B16: INESC TEC | C16: Não | E16: D6 - Specialist in AI | F16: Nível 8 - Doutorado | G16: Quadro de Cedência Ocasional [Docentes] | H16: 3700 | I16: =IF(G16="Bolseiro",158.99,0) -> 0 | J16: =IF(G16="Bolseiro",68.65,0) -> 0 | K16: =IF(G16="Bolseiro",0,22.3%) -> 0.223 | M16: =IF(G16="Bolseiro",(H16+I16+J16)*12/11,H16*(1+K16)*14/11) -> 5759.2182 | O16: Pedro Jorge (*FCUP, a confirmar)
B17: INESC TEC | C17: Não | E17: D7 - Specialist in AI | F17: Nível 8 - Doutorado | G17: Quadro de Cedência Ocasional [Docentes] | H17: 3500 | I17: =IF(G17="Bolseiro",158.99,0) -> 0 | J17: =IF(G17="Bolseiro",68.65,0) -> 0 | K17: =IF(G17="Bolseiro",0,22.3%) -> 0.223 | M17: =IF(G17="Bolseiro",(H17+I17+J17)*12/11,H17*(1+K17)*14/11) -> 5447.9091 | O17: Nuno Silva (*FCUP, a confirmar)
B18: INESC TEC | C18: Sim | E18: C10 - Specialist in Hardware Design and Integration | F18: Nível 7 - Mestre | G18: Bolseiro | H18: 1400 | I18: =IF(G18="Bolseiro",158.99,0) -> 158.99 | J18: =IF(G18="Bolseiro",68.65,0) -> 68.65 | K18: =IF(G18="Bolseiro",0,22.3%) -> 0 | M18: =IF(G18="Bolseiro",(H18+I18+J18)*12/11,H18*(1+K18)*14/11) -> 1775.6073 | O18: Bolsa Mestre
B19: INESC TEC | C19: Sim | E19: C11 - Specialist in Signal Processing | F19: Nível 7 - Mestre | G19: Bolseiro | H19: 1400 | I19: =IF(G19="Bolseiro",158.99,0) -> 158.99 | J19: =IF(G19="Bolseiro",68.65,0) -> 68.65 | K19: =IF(G19="Bolseiro",0,22.3%) -> 0 | M19: =IF(G19="Bolseiro",(H19+I19+J19)*12/11,H19*(1+K19)*14/11) -> 1775.6073 | O19: Bolsa Mestre
I20: =IF(G20="Bolseiro",158.99,0) -> 0 | J20: =IF(G20="Bolseiro",68.65,0) -> 0 | K20: =IF(G20="Bolseiro",0,22.3%) -> 0.223 | M20: =IF(G20="Bolseiro",(H20+I20+J20)*12/11,H20*(1+K20)*14/11) -> 0
I21: =IF(G21="Bolseiro",158.99,0) -> 0 | J21: =IF(G21="Bolseiro",68.65,0) -> 0 | K21: =IF(G21="Bolseiro",0,22.3%) -> 0.223 | M21: =IF(G21="Bolseiro",(H21+I21+J21)*12/11,H21*(1+K21)*14/11) -> 0
I22: =IF(G22="Bolseiro",158.99,0) -> 0 | J22: =IF(G22="Bolseiro",68.65,0) -> 0 | K22: =IF(G22="Bolseiro",0,22.3%) -> 0.223 | M22: =IF(G22="Bolseiro",(H22+I22+J22)*12/11,H22*(1+K22)*14/11) -> 0
I23: =IF(G23="Bolseiro",158.99,0) -> 0 | J23: =IF(G23="Bolseiro",68.65,0) -> 0 | K23: =IF(G23="Bolseiro",0,22.3%) -> 0.223 | M23: =IF(G23="Bolseiro",(H23+I23+J23)*12/11,H23*(1+K23)*14/11) -> 0
I24: =IF(G24="Bolseiro",158.99,0) -> 0 | J24: =IF(G24="Bolseiro",68.65,0) -> 0 | K24: =IF(G24="Bolseiro",0,22.3%) -> 0.223 | M24: =IF(G24="Bolseiro",(H24+I24+J24)*12/11,H24*(1+K24)*14/11) -> 0
I25: =IF(G25="Bolseiro",158.99,0) -> 0 | J25: =IF(G25="Bolseiro",68.65,0) -> 0 | K25: =IF(G25="Bolseiro",0,22.3%) -> 0.223 | M25: =IF(G25="Bolseiro",(H25+I25+J25)*12/11,H25*(1+K25)*14/11) -> 0
I26: =IF(G26="Bolseiro",158.99,0) -> 0 | J26: =IF(G26="Bolseiro",68.65,0) -> 0 | K26: =IF(G26="Bolseiro",0,22.3%) -> 0.223 | M26: =IF(G26="Bolseiro",(H26+I26+J26)*12/11,H26*(1+K26)*14/11) -> 0

Sheet Pessoal
A1: N.º | B1: Perfil | C1: Conteúdo Funcional | D1: Estab. | E1: Perfil | F1: Atividade | G1: ETI 0 (Ano 2027) | H1: ETI 1 (Ano 2028) | I1: ET2 (Ano 2029) | J1: ET3 (Ano 2030) | K1: Valor (Custo Total Pessoal) | L1: Custo ETI (Ano 2027) | M1: Custo ETI (Ano 2028) | N1: Custo ETI (Ano 2029) | O1: Custo ETI (Ano 2030)
A2: C1 | B2: C1 - Specialist in technical coordination and the development of digital solutions to support operations management and optimization | D2: Sede | E2: C1 - Specialist in technical coordination and the development of digital solutions to support operations management and optimization | F2: A1-Diagnóstico, Mapeamento e Especificação do Sistema | G2: 1.2 | K2: =SUM(G2:J2)*L2 -> 9960.8723 | L2: =IFERROR(VLOOKUP($B2,Tecnicos!$E$1:$M$26,9,0)*G2,) -> 8300.7269 | M2: =IFERROR(VLOOKUP($B2,Tecnicos!$E$1:$M$26,9,0)*H2,) -> 0 | N2: =IFERROR(VLOOKUP($B2,Tecnicos!$E$1:$M$26,9,0)*I2,) -> 0 | O2: =IFERROR(VLOOKUP($B2,Tecnicos!$E$1:$M$26,9,0)*J2,) -> 0
A3: C2 | B3: C2 - Specialist in digital transformation, process modelling, and the development of technology-based innovation solutions | D3: Sede | E3: C2 - Specialist in digital transformation, process modelling, and the development of technology-based innovation solutions | F3: A1-Diagnóstico, Mapeamento e Especificação do Sistema | G3: 2.75 | K3: =SUM(G3:J3)*L3 -> 20590.018 | L3: =IFERROR(VLOOKUP($B3,Tecnicos!$E$1:$M$26,9,0)*G3,) -> 7487.2794 | M3: =IFERROR(VLOOKUP($B3,Tecnicos!$E$1:$M$26,9,0)*H3,) -> 0 | N3: =IFERROR(VLOOKUP($B3,Tecnicos!$E$1:$M$26,9,0)*I3,) -> 0 | O3: =IFERROR(VLOOKUP($B3,Tecnicos!$E$1:$M$26,9,0)*J3,) -> 0
A4: C3 | B4: C3 - Specialist in software engineering, data integration, and the development of interoperable digital platforms | D4: Sede | E4: C3 - Specialist in software engineering, data integration, and the development of interoperable digital platforms | F4: A1-Diagnóstico, Mapeamento e Especificação do Sistema | G4: 1.2 | K4: =SUM(G4:J4)*L4 -> 4249.8996 | L4: =IFERROR(VLOOKUP($B4,Tecnicos!$E$1:$M$26,9,0)*G4,) -> 3541.583 | M4: =IFERROR(VLOOKUP($B4,Tecnicos!$E$1:$M$26,9,0)*H4,) -> 0 | N4: =IFERROR(VLOOKUP($B4,Tecnicos!$E$1:$M$26,9,0)*I4,) -> 0 | O4: =IFERROR(VLOOKUP($B4,Tecnicos!$E$1:$M$26,9,0)*J4,) -> 0
A5: C4 | B5: C4 - Specialist in information systems, operational planning, and decision-support in industrial environments | D5: Sede | E5: C4 - Specialist in information systems, operational planning, and decision-support in industrial environments | F5: A1-Diagnóstico, Mapeamento e Especificação do Sistema | G5: 1.2 | K5: =SUM(G5:J5)*L5 -> 9032.9222 | L5: =IFERROR(VLOOKUP($B5,Tecnicos!$E$1:$M$26,9,0)*G5,) -> 7527.4351 | M5: =IFERROR(VLOOKUP($B5,Tecnicos!$E$1:$M$26,9,0)*H5,) -> 0 | N5: =IFERROR(VLOOKUP($B5,Tecnicos!$E$1:$M$26,9,0)*I5,) -> 0 | O5: =IFERROR(VLOOKUP($B5,Tecnicos!$E$1:$M$26,9,0)*J5,) -> 0
A6: D1 | B6: D1 - Specialist in industrial processes, operational improvement, and the implementation of production support methodologies | D6: Sede | E6: D1 - Specialist in industrial processes, operational improvement, and the implementation of production support methodologies | F6: A1-Diagnóstico, Mapeamento e Especificação do Sistema | G6: 1.2 | K6: =SUM(G6:J6)*L6 -> 7605.4704 | L6: =IFERROR(VLOOKUP($B6,Tecnicos!$E$1:$M$26,9,0)*G6,) -> 6337.892 | M6: =IFERROR(VLOOKUP($B6,Tecnicos!$E$1:$M$26,9,0)*H6,) -> 0 | N6: =IFERROR(VLOOKUP($B6,Tecnicos!$E$1:$M$26,9,0)*I6,) -> 0 | O6: =IFERROR(VLOOKUP($B6,Tecnicos!$E$1:$M$26,9,0)*J6,) -> 0
A7: D2 | B7: D2 - Specialist in systems architecture, digital traceability, and the development of solutions for information integration and sharing | D7: Sede | E7: D2 - Specialist in systems architecture, digital traceability, and the development of solutions for information integration and sharing | F7: A1-Diagnóstico, Mapeamento e Especificação do Sistema | G7: 1.2 | K7: =SUM(G7:J7)*L7 -> 9044.1517 | L7: =IFERROR(VLOOKUP($B7,Tecnicos!$E$1:$M$26,9,0)*G7,) -> 7536.7931 | M7: =IFERROR(VLOOKUP($B7,Tecnicos!$E$1:$M$26,9,0)*H7,) -> 0 | N7: =IFERROR(VLOOKUP($B7,Tecnicos!$E$1:$M$26,9,0)*I7,) -> 0 | O7: =IFERROR(VLOOKUP($B7,Tecnicos!$E$1:$M$26,9,0)*J7,) -> 0
A8: D3 | B8: D3 - Specialist in data analysis, quantitative methods, and decision-support for process optimization | D8: Sede | E8: D3 - Specialist in data analysis, quantitative methods, and decision-support for process optimization | F8: A1-Diagnóstico, Mapeamento e Especificação do Sistema | G8: 1.2 | K8: =SUM(G8:J8)*L8 -> 9455.4533 | L8: =IFERROR(VLOOKUP($B8,Tecnicos!$E$1:$M$26,9,0)*G8,) -> 7879.5444 | M8: =IFERROR(VLOOKUP($B8,Tecnicos!$E$1:$M$26,9,0)*H8,) -> 0 | N8: =IFERROR(VLOOKUP($B8,Tecnicos!$E$1:$M$26,9,0)*I8,) -> 0 | O8: =IFERROR(VLOOKUP($B8,Tecnicos!$E$1:$M$26,9,0)*J8,) -> 0
A9: C5 | B9: C5 - Specialist in software development, systems integration, and digital traceability | D9: Sede | E9: C5 - Specialist in software development, systems integration, and digital traceability | F9: A1-Diagnóstico, Mapeamento e Especificação do Sistema | G9: 2.75 | K9: =SUM(G9:J9)*L9 -> 26246.046 | L9: =IFERROR(VLOOKUP($B9,Tecnicos!$E$1:$M$26,9,0)*G9,) -> 9544.0168 | M9: =IFERROR(VLOOKUP($B9,Tecnicos!$E$1:$M$26,9,0)*H9,) -> 0 | N9: =IFERROR(VLOOKUP($B9,Tecnicos!$E$1:$M$26,9,0)*I9,) -> 0 | O9: =IFERROR(VLOOKUP($B9,Tecnicos!$E$1:$M$26,9,0)*J9,) -> 0
A10: C6 | B10: C6 - Specialist in digital infrastructures and technology development | D10: Sede | E10: C6 - Specialist in digital infrastructures and technology development | F10: A1-Diagnóstico, Mapeamento e Especificação do Sistema | G10: 2.75 | K10: =SUM(G10:J10)*L10 -> 21188.475 | L10: =IFERROR(VLOOKUP($B10,Tecnicos!$E$1:$M$26,9,0)*G10,) -> 7704.9 | M10: =IFERROR(VLOOKUP($B10,Tecnicos!$E$1:$M$26,9,0)*H10,) -> 0 | N10: =IFERROR(VLOOKUP($B10,Tecnicos!$E$1:$M$26,9,0)*I10,) -> 0 | O10: =IFERROR(VLOOKUP($B10,Tecnicos!$E$1:$M$26,9,0)*J10,) -> 0
A11: D4 | B11: D4 - Specialist in quantitative analysis, performance assessment, and analytical support for results monitoring | D11: Sede | E11: D4 - Specialist in quantitative analysis, performance assessment, and analytical support for results monitoring | F11: A1-Diagnóstico, Mapeamento e Especificação do Sistema | G11: 1.2 | K11: =SUM(G11:J11)*L11 -> 9455.4533 | L11: =IFERROR(VLOOKUP($B11,Tecnicos!$E$1:$M$26,9,0)*G11,) -> 7879.5444 | M11: =IFERROR(VLOOKUP($B11,Tecnicos!$E$1:$M$26,9,0)*H11,) -> 0 | N11: =IFERROR(VLOOKUP($B11,Tecnicos!$E$1:$M$26,9,0)*I11,) -> 0 | O11: =IFERROR(VLOOKUP($B11,Tecnicos!$E$1:$M$26,9,0)*J11,) -> 0
A12: D5 | B12: D5 - Specialist in operations management, organizational processes, and continuous improvement solutions | D12: Sede | E12: D5 - Specialist in operations management, organizational processes, and continuous improvement solutions | F12: A1-Diagnóstico, Mapeamento e Especificação do Sistema | G12: 1.2 | K12: =SUM(G12:J12)*L12 -> 11716.558 | L12: =IFERROR(VLOOKUP($B12,Tecnicos!$E$1:$M$26,9,0)*G12,) -> 9763.7987 | M12: =IFERROR(VLOOKUP($B12,Tecnicos!$E$1:$M$26,9,0)*H12,) -> 0 | N12: =IFERROR(VLOOKUP($B12,Tecnicos!$E$1:$M$26,9,0)*I12,) -> 0 | O12: =IFERROR(VLOOKUP($B12,Tecnicos!$E$1:$M$26,9,0)*J12,) -> 0
A13: C1 | B13: C1 - Specialist in technical coordination and the development of digital solutions to support operations management and optimization | D13: Sede | E13: C1 - Specialist in technical coordination and the development of digital solutions to support operations management and optimization | F13: A2- Desenvolvimento dos Modelos, Métodos e Protótipos | G13: 3.8 | H13: 3.9 | K13: =SUM(G13:J13)*L13 -> 202399.39 | L13: =IFERROR(VLOOKUP($B13,Tecnicos!$E$1:$M$26,9,0)*G13,) -> 26285.635 | M13: =IFERROR(VLOOKUP($B13,Tecnicos!$E$1:$M$26,9,0)*H13,) -> 26977.362 | N13: =IFERROR(VLOOKUP($B13,Tecnicos!$E$1:$M$26,9,0)*I13,) -> 0 | O13: =IFERROR(VLOOKUP($B13,Tecnicos!$E$1:$M$26,9,0)*J13,) -> 0
A14: C2 | B14: C2 - Specialist in digital transformation, process modelling, and the development of technology-based innovation solutions | D14: Sede | E14: C2 - Specialist in digital transformation, process modelling, and the development of technology-based innovation solutions | F14: A2- Desenvolvimento dos Modelos, Métodos e Protótipos | G14: 5.25 | H14: 6 | K14: =SUM(G14:J14)*L14 -> 160806.34 | L14: =IFERROR(VLOOKUP($B14,Tecnicos!$E$1:$M$26,9,0)*G14,) -> 14293.897 | M14: =IFERROR(VLOOKUP($B14,Tecnicos!$E$1:$M$26,9,0)*H14,) -> 16335.882 | N14: =IFERROR(VLOOKUP($B14,Tecnicos!$E$1:$M$26,9,0)*I14,) -> 0 | O14: =IFERROR(VLOOKUP($B14,Tecnicos!$E$1:$M$26,9,0)*J14,) -> 0
A15: C3 | B15: C3 - Specialist in software engineering, data integration, and the development of interoperable digital platforms | D15: Sede | E15: C3 - Specialist in software engineering, data integration, and the development of interoperable digital platforms | F15: A2- Desenvolvimento dos Modelos, Métodos e Protótipos | G15: 3.8 | H15: 3.9 | K15: =SUM(G15:J15)*L15 -> 86355.598 | L15: =IFERROR(VLOOKUP($B15,Tecnicos!$E$1:$M$26,9,0)*G15,) -> 11215.013 | M15: =IFERROR(VLOOKUP($B15,Tecnicos!$E$1:$M$26,9,0)*H15,) -> 11510.145 | N15: =IFERROR(VLOOKUP($B15,Tecnicos!$E$1:$M$26,9,0)*I15,) -> 0 | O15: =IFERROR(VLOOKUP($B15,Tecnicos!$E$1:$M$26,9,0)*J15,) -> 0
A16: C4 | B16: C4 - Specialist in information systems, operational planning, and decision-support in industrial environments | D16: Sede | E16: C4 - Specialist in information systems, operational planning, and decision-support in industrial environments | F16: A2- Desenvolvimento dos Modelos, Métodos e Protótipos | G16: 3.8 | H16: 3.9 | K16: =SUM(G16:J16)*L16 -> 183543.96 | L16: =IFERROR(VLOOKUP($B16,Tecnicos!$E$1:$M$26,9,0)*G16,) -> 23836.878 | M16: =IFERROR(VLOOKUP($B16,Tecnicos!$E$1:$M$26,9,0)*H16,) -> 24464.164 | N16: =IFERROR(VLOOKUP($B16,Tecnicos!$E$1:$M$26,9,0)*I16,) -> 0 | O16: =IFERROR(VLOOKUP($B16,Tecnicos!$E$1:$M$26,9,0)*J16,) -> 0
A17: D1 | B17: D1 - Specialist in industrial processes, operational improvement, and the implementation of production support methodologies | D17: Sede | E17: D1 - Specialist in industrial processes, operational improvement, and the implementation of production support methodologies | F17: A2- Desenvolvimento dos Modelos, Métodos e Protótipos | G17: 1.8 | H17: 1.8 | K17: =SUM(G17:J17)*L17 -> 34224.617 | L17: =IFERROR(VLOOKUP($B17,Tecnicos!$E$1:$M$26,9,0)*G17,) -> 9506.838 | M17: =IFERROR(VLOOKUP($B17,Tecnicos!$E$1:$M$26,9,0)*H17,) -> 9506.838 | N17: =IFERROR(VLOOKUP($B17,Tecnicos!$E$1:$M$26,9,0)*I17,) -> 0 | O17: =IFERROR(VLOOKUP($B17,Tecnicos!$E$1:$M$26,9,0)*J17,) -> 0
A18: D2 | B18: D2 - Specialist in systems architecture, digital traceability, and the development of solutions for information integration and sharing | D18: Sede | E18: D2 - Specialist in systems architecture, digital traceability, and the development of solutions for information integration and sharing | F18: A2- Desenvolvimento dos Modelos, Métodos e Protótipos | G18: 1.8 | H18: 1.8 | K18: =SUM(G18:J18)*L18 -> 40698.683 | L18: =IFERROR(VLOOKUP($B18,Tecnicos!$E$1:$M$26,9,0)*G18,) -> 11305.19 | M18: =IFERROR(VLOOKUP($B18,Tecnicos!$E$1:$M$26,9,0)*H18,) -> 11305.19 | N18: =IFERROR(VLOOKUP($B18,Tecnicos!$E$1:$M$26,9,0)*I18,) -> 0 | O18: =IFERROR(VLOOKUP($B18,Tecnicos!$E$1:$M$26,9,0)*J18,) -> 0
A19: D3 | B19: D3 - Specialist in data analysis, quantitative methods, and decision-support for process optimization | D19: Sede | E19: D3 - Specialist in data analysis, quantitative methods, and decision-support for process optimization | F19: A2- Desenvolvimento dos Modelos, Métodos e Protótipos | G19: 2.8 | H19: 2.8 | K19: =SUM(G19:J19)*L19 -> 102959.38 | L19: =IFERROR(VLOOKUP($B19,Tecnicos!$E$1:$M$26,9,0)*G19,) -> 18385.604 | M19: =IFERROR(VLOOKUP($B19,Tecnicos!$E$1:$M$26,9,0)*H19,) -> 18385.604 | N19: =IFERROR(VLOOKUP($B19,Tecnicos!$E$1:$M$26,9,0)*I19,) -> 0 | O19: =IFERROR(VLOOKUP($B19,Tecnicos!$E$1:$M$26,9,0)*J19,) -> 0
A20: C5 | B20: C5 - Specialist in software development, systems integration, and digital traceability | D20: Sede | E20: C5 - Specialist in software development, systems integration, and digital traceability | F20: A2- Desenvolvimento dos Modelos, Métodos e Protótipos | G20: 5.25 | H20: 6 | K20: =SUM(G20:J20)*L20 -> 204979.45 | L20: =IFERROR(VLOOKUP($B20,Tecnicos!$E$1:$M$26,9,0)*G20,) -> 18220.396 | M20: =IFERROR(VLOOKUP($B20,Tecnicos!$E$1:$M$26,9,0)*H20,) -> 20823.309 | N20: =IFERROR(VLOOKUP($B20,Tecnicos!$E$1:$M$26,9,0)*I20,) -> 0 | O20: =IFERROR(VLOOKUP($B20,Tecnicos!$E$1:$M$26,9,0)*J20,) -> 0
A21: C6 | B21: C6 - Specialist in digital infrastructures and technology development | D21: Sede | E21: C6 - Specialist in digital infrastructures and technology development | F21: A2- Desenvolvimento dos Modelos, Métodos e Protótipos | G21: 5.25 | H21: 6 | K21: =SUM(G21:J21)*L21 -> 165480.24 | L21: =IFERROR(VLOOKUP($B21,Tecnicos!$E$1:$M$26,9,0)*G21,) -> 14709.355 | M21: =IFERROR(VLOOKUP($B21,Tecnicos!$E$1:$M$26,9,0)*H21,) -> 16810.691 | N21: =IFERROR(VLOOKUP($B21,Tecnicos!$E$1:$M$26,9,0)*I21,) -> 0 | O21: =IFERROR(VLOOKUP($B21,Tecnicos!$E$1:$M$26,9,0)*J21,) -> 0
A22: D4 | B22: D4 - Specialist in quantitative analysis, performance assessment, and analytical support for results monitoring | D22: Sede | E22: D4 - Specialist in quantitative analysis, performance assessment, and analytical support for results monitoring | F22: A2- Desenvolvimento dos Modelos, Métodos e Protótipos | G22: 2.8 | H22: 2.8 | K22: =SUM(G22:J22)*L22 -> 102959.38 | L22: =IFERROR(VLOOKUP($B22,Tecnicos!$E$1:$M$26,9,0)*G22,) -> 18385.604 | M22: =IFERROR(VLOOKUP($B22,Tecnicos!$E$1:$M$26,9,0)*H22,) -> 18385.604 | N22: =IFERROR(VLOOKUP($B22,Tecnicos!$E$1:$M$26,9,0)*I22,) -> 0 | O22: =IFERROR(VLOOKUP($B22,Tecnicos!$E$1:$M$26,9,0)*J22,) -> 0
A23: D5 | B23: D5 - Specialist in operations management, organizational processes, and continuous improvement solutions | D23: Sede | E23: D5 - Specialist in operations management, organizational processes, and continuous improvement solutions | F23: A2- Desenvolvimento dos Modelos, Métodos e Protótipos | G23: 1.8 | H23: 1.8 | K23: =SUM(G23:J23)*L23 -> 52724.513 | L23: =IFERROR(VLOOKUP($B23,Tecnicos!$E$1:$M$26,9,0)*G23,) -> 14645.698 | M23: =IFERROR(VLOOKUP($B23,Tecnicos!$E$1:$M$26,9,0)*H23,) -> 14645.698 | N23: =IFERROR(VLOOKUP($B23,Tecnicos!$E$1:$M$26,9,0)*I23,) -> 0 | O23: =IFERROR(VLOOKUP($B23,Tecnicos!$E$1:$M$26,9,0)*J23,) -> 0
A24: C1 | B24: C1 - Specialist in technical coordination and the development of digital solutions to support operations management and optimization | D24: Sede | E24: C1 - Specialist in technical coordination and the development of digital solutions to support operations management and optimization | F24: A3 - Instalação, Integração e Implementação Piloto | H24: 1.1 | I24: 1.95 | K24: =SUM(G24:J24)*L24 -> 0 | L24: =IFERROR(VLOOKUP($B24,Tecnicos!$E$1:$M$26,9,0)*G24,) -> 0 | M24: =IFERROR(VLOOKUP($B24,Tecnicos!$E$1:$M$26,9,0)*H24,) -> 7608.9997 | N24: =IFERROR(VLOOKUP($B24,Tecnicos!$E$1:$M$26,9,0)*I24,) -> 13488.681 | O24: =IFERROR(VLOOKUP($B24,Tecnicos!$E$1:$M$26,9,0)*J24,) -> 0
A25: C2 | B25: C2 - Specialist in digital transformation, process modelling, and the development of technology-based innovation solutions | D25: Sede | E25: C2 - Specialist in digital transformation, process modelling, and the development of technology-based innovation solutions | F25: A3 - Instalação, Integração e Implementação Piloto | H25: 2 | I25: 3 | K25: =SUM(G25:J25)*L25 -> 0 | L25: =IFERROR(VLOOKUP($B25,Tecnicos!$E$1:$M$26,9,0)*G25,) -> 0 | M25: =IFERROR(VLOOKUP($B25,Tecnicos!$E$1:$M$26,9,0)*H25,) -> 5445.2941 | N25: =IFERROR(VLOOKUP($B25,Tecnicos!$E$1:$M$26,9,0)*I25,) -> 8167.9411 | O25: =IFERROR(VLOOKUP($B25,Tecnicos!$E$1:$M$26,9,0)*J25,) -> 0
A26: C3 | B26: C3 - Specialist in software engineering, data integration, and the development of interoperable digital platforms | D26: Sede | E26: C3 - Specialist in software engineering, data integration, and the development of interoperable digital platforms | F26: A3 - Instalação, Integração e Implementação Piloto | H26: 1.1 | I26: 1.95 | K26: =SUM(G26:J26)*L26 -> 0 | L26: =IFERROR(VLOOKUP($B26,Tecnicos!$E$1:$M$26,9,0)*G26,) -> 0 | M26: =IFERROR(VLOOKUP($B26,Tecnicos!$E$1:$M$26,9,0)*H26,) -> 3246.4511 | N26: =IFERROR(VLOOKUP($B26,Tecnicos!$E$1:$M$26,9,0)*I26,) -> 5755.0723 | O26: =IFERROR(VLOOKUP($B26,Tecnicos!$E$1:$M$26,9,0)*J26,) -> 0
A27: C4 | B27: C4 - Specialist in information systems, operational planning, and decision-support in industrial environments | D27: Sede | E27: C4 - Specialist in information systems, operational planning, and decision-support in industrial environments | F27: A3 - Instalação, Integração e Implementação Piloto | H27: 1.1 | I27: 1.95 | K27: =SUM(G27:J27)*L27 -> 0 | L27: =IFERROR(VLOOKUP($B27,Tecnicos!$E$1:$M$26,9,0)*G27,) -> 0 | M27: =IFERROR(VLOOKUP($B27,Tecnicos!$E$1:$M$26,9,0)*H27,) -> 6900.1489 | N27: =IFERROR(VLOOKUP($B27,Tecnicos!$E$1:$M$26,9,0)*I27,) -> 12232.082 | O27: =IFERROR(VLOOKUP($B27,Tecnicos!$E$1:$M$26,9,0)*J27,) -> 0
A28: D1 | B28: D1 - Specialist in industrial processes, operational improvement, and the implementation of production support methodologies | D28: Sede | E28: D1 - Specialist in industrial processes, operational improvement, and the implementation of production support methodologies | F28: A3 - Instalação, Integração e Implementação Piloto | H28: 1 | I28: 0.5 | K28: =SUM(G28:J28)*L28 -> 0 | L28: =IFERROR(VLOOKUP($B28,Tecnicos!$E$1:$M$26,9,0)*G28,) -> 0 | M28: =IFERROR(VLOOKUP($B28,Tecnicos!$E$1:$M$26,9,0)*H28,) -> 5281.5766 | N28: =IFERROR(VLOOKUP($B28,Tecnicos!$E$1:$M$26,9,0)*I28,) -> 2640.7883 | O28: =IFERROR(VLOOKUP($B28,Tecnicos!$E$1:$M$26,9,0)*J28,) -> 0
A29: D2 | B29: D2 - Specialist in systems architecture, digital traceability, and the development of solutions for information integration and sharing | D29: Sede | E29: D2 - Specialist in systems architecture, digital traceability, and the development of solutions for information integration and sharing | F29: A3 - Instalação, Integração e Implementação Piloto | H29: 1.2 | I29: 0.9 | K29: =SUM(G29:J29)*L29 -> 0 | L29: =IFERROR(VLOOKUP($B29,Tecnicos!$E$1:$M$26,9,0)*G29,) -> 0 | M29: =IFERROR(VLOOKUP($B29,Tecnicos!$E$1:$M$26,9,0)*H29,) -> 7536.7931 | N29: =IFERROR(VLOOKUP($B29,Tecnicos!$E$1:$M$26,9,0)*I29,) -> 5652.5948 | O29: =IFERROR(VLOOKUP($B29,Tecnicos!$E$1:$M$26,9,0)*J29,) -> 0
A30: D3 | B30: D3 - Specialist in data analysis, quantitative methods, and decision-support for process optimization | D30: Sede | E30: D3 - Specialist in data analysis, quantitative methods, and decision-support for process optimization | F30: A3 - Instalação, Integração e Implementação Piloto | H30: 1 | I30: 1 | K30: =SUM(G30:J30)*L30 -> 0 | L30: =IFERROR(VLOOKUP($B30,Tecnicos!$E$1:$M$26,9,0)*G30,) -> 0 | M30: =IFERROR(VLOOKUP($B30,Tecnicos!$E$1:$M$26,9,0)*H30,) -> 6566.287 | N30: =IFERROR(VLOOKUP($B30,Tecnicos!$E$1:$M$26,9,0)*I30,) -> 6566.287 | O30: =IFERROR(VLOOKUP($B30,Tecnicos!$E$1:$M$26,9,0)*J30,) -> 0
A31: C5 | B31: C5 - Specialist in software development, systems integration, and digital traceability | D31: Sede | E31: C5 - Specialist in software development, systems integration, and digital traceability | F31: A3 - Instalação, Integração e Implementação Piloto | H31: 2 | I31: 3 | K31: =SUM(G31:J31)*L31 -> 0 | L31: =IFERROR(VLOOKUP($B31,Tecnicos!$E$1:$M$26,9,0)*G31,) -> 0 | M31: =IFERROR(VLOOKUP($B31,Tecnicos!$E$1:$M$26,9,0)*H31,) -> 6941.1031 | N31: =IFERROR(VLOOKUP($B31,Tecnicos!$E$1:$M$26,9,0)*I31,) -> 10411.655 | O31: =IFERROR(VLOOKUP($B31,Tecnicos!$E$1:$M$26,9,0)*J31,) -> 0
A32: C6 | B32: C6 - Specialist in digital infrastructures and technology development | D32: Sede | E32: C6 - Specialist in digital infrastructures and technology development | F32: A3 - Instalação, Integração e Implementação Piloto | H32: 2 | I32: 3 | K32: =SUM(G32:J32)*L32 -> 0 | L32: =IFERROR(VLOOKUP($B32,Tecnicos!$E$1:$M$26,9,0)*G32,) -> 0 | M32: =IFERROR(VLOOKUP($B32,Tecnicos!$E$1:$M$26,9,0)*H32,) -> 5603.5636 | N32: =IFERROR(VLOOKUP($B32,Tecnicos!$E$1:$M$26,9,0)*I32,) -> 8405.3455 | O32: =IFERROR(VLOOKUP($B32,Tecnicos!$E$1:$M$26,9,0)*J32,) -> 0
A33: D4 | B33: D4 - Specialist in quantitative analysis, performance assessment, and analytical support for results monitoring | D33: Sede | E33: D4 - Specialist in quantitative analysis, performance assessment, and analytical support for results monitoring | F33: A3 - Instalação, Integração e Implementação Piloto | H33: 1 | I33: 1 | K33: =SUM(G33:J33)*L33 -> 0 | L33: =IFERROR(VLOOKUP($B33,Tecnicos!$E$1:$M$26,9,0)*G33,) -> 0 | M33: =IFERROR(VLOOKUP($B33,Tecnicos!$E$1:$M$26,9,0)*H33,) -> 6566.287 | N33: =IFERROR(VLOOKUP($B33,Tecnicos!$E$1:$M$26,9,0)*I33,) -> 6566.287 | O33: =IFERROR(VLOOKUP($B33,Tecnicos!$E$1:$M$26,9,0)*J33,) -> 0
A34: D5 | B34: D5 - Specialist in operations management, organizational processes, and continuous improvement solutions | D34: Sede | E34: D5 - Specialist in operations management, organizational processes, and continuous improvement solutions | F34: A3 - Instalação, Integração e Implementação Piloto | H34: 1.2 | I34: 0.9 | K34: =SUM(G34:J34)*L34 -> 0 | L34: =IFERROR(VLOOKUP($B34,Tecnicos!$E$1:$M$26,9,0)*G34,) -> 0 | M34: =IFERROR(VLOOKUP($B34,Tecnicos!$E$1:$M$26,9,0)*H34,) -> 9763.7987 | N34: =IFERROR(VLOOKUP($B34,Tecnicos!$E$1:$M$26,9,0)*I34,) -> 7322.849 | O34: =IFERROR(VLOOKUP($B34,Tecnicos!$E$1:$M$26,9,0)*J34,) -> 0
A35: C1 | B35: C1 - Specialist in technical coordination and the development of digital solutions to support operations management and optimization | D35: Sede | E35: C1 - Specialist in technical coordination and the development of digital solutions to support operations management and optimization | F35: A4 - Testes, Demonstração e Validação Industrial | I35: 3.05 | K35: =SUM(G35:J35)*L35 -> 0 | L35: =IFERROR(VLOOKUP($B35,Tecnicos!$E$1:$M$26,9,0)*G35,) -> 0 | M35: =IFERROR(VLOOKUP($B35,Tecnicos!$E$1:$M$26,9,0)*H35,) -> 0 | N35: =IFERROR(VLOOKUP($B35,Tecnicos!$E$1:$M$26,9,0)*I35,) -> 21097.681 | O35: =IFERROR(VLOOKUP($B35,Tecnicos!$E$1:$M$26,9,0)*J35,) -> 0
A36: C2 | B36: C2 - Specialist in digital transformation, process modelling, and the development of technology-based innovation solutions | D36: Sede | E36: C2 - Specialist in digital transformation, process modelling, and the development of technology-based innovation solutions | F36: A4 - Testes, Demonstração e Validação Industrial | I36: 5 | K36: =SUM(G36:J36)*L36 -> 0 | L36: =IFERROR(VLOOKUP($B36,Tecnicos!$E$1:$M$26,9,0)*G36,) -> 0 | M36: =IFERROR(VLOOKUP($B36,Tecnicos!$E$1:$M$26,9,0)*H36,) -> 0 | N36: =IFERROR(VLOOKUP($B36,Tecnicos!$E$1:$M$26,9,0)*I36,) -> 13613.235 | O36: =IFERROR(VLOOKUP($B36,Tecnicos!$E$1:$M$26,9,0)*J36,) -> 0
A37: C3 | B37: C3 - Specialist in software engineering, data integration, and the development of interoperable digital platforms | D37: Sede | E37: C3 - Specialist in software engineering, data integration, and the development of interoperable digital platforms | F37: A4 - Testes, Demonstração e Validação Industrial | I37: 3.05 | K37: =SUM(G37:J37)*L37 -> 0 | L37: =IFERROR(VLOOKUP($B37,Tecnicos!$E$1:$M$26,9,0)*G37,) -> 0 | M37: =IFERROR(VLOOKUP($B37,Tecnicos!$E$1:$M$26,9,0)*H37,) -> 0 | N37: =IFERROR(VLOOKUP($B37,Tecnicos!$E$1:$M$26,9,0)*I37,) -> 9001.5234 | O37: =IFERROR(VLOOKUP($B37,Tecnicos!$E$1:$M$26,9,0)*J37,) -> 0
A38: C4 | B38: C4 - Specialist in information systems, operational planning, and decision-support in industrial environments | D38: Sede | E38: C4 - Specialist in information systems, operational planning, and decision-support in industrial environments | F38: A4 - Testes, Demonstração e Validação Industrial | I38: 3.05 | K38: =SUM(G38:J38)*L38 -> 0 | L38: =IFERROR(VLOOKUP($B38,Tecnicos!$E$1:$M$26,9,0)*G38,) -> 0 | M38: =IFERROR(VLOOKUP($B38,Tecnicos!$E$1:$M$26,9,0)*H38,) -> 0 | N38: =IFERROR(VLOOKUP($B38,Tecnicos!$E$1:$M$26,9,0)*I38,) -> 19132.231 | O38: =IFERROR(VLOOKUP($B38,Tecnicos!$E$1:$M$26,9,0)*J38,) -> 0
A39: D1 | B39: D1 - Specialist in industrial processes, operational improvement, and the implementation of production support methodologies | D39: Sede | E39: D1 - Specialist in industrial processes, operational improvement, and the implementation of production support methodologies | F39: A4 - Testes, Demonstração e Validação Industrial | I39: 2.1 | K39: =SUM(G39:J39)*L39 -> 0 | L39: =IFERROR(VLOOKUP($B39,Tecnicos!$E$1:$M$26,9,0)*G39,) -> 0 | M39: =IFERROR(VLOOKUP($B39,Tecnicos!$E$1:$M$26,9,0)*H39,) -> 0 | N39: =IFERROR(VLOOKUP($B39,Tecnicos!$E$1:$M$26,9,0)*I39,) -> 11091.311 | O39: =IFERROR(VLOOKUP($B39,Tecnicos!$E$1:$M$26,9,0)*J39,) -> 0
A40: D2 | B40: D2 - Specialist in systems architecture, digital traceability, and the development of solutions for information integration and sharing | D40: Sede | E40: D2 - Specialist in systems architecture, digital traceability, and the development of solutions for information integration and sharing | F40: A4 - Testes, Demonstração e Validação Industrial | I40: 2.1 | K40: =SUM(G40:J40)*L40 -> 0 | L40: =IFERROR(VLOOKUP($B40,Tecnicos!$E$1:$M$26,9,0)*G40,) -> 0 | M40: =IFERROR(VLOOKUP($B40,Tecnicos!$E$1:$M$26,9,0)*H40,) -> 0 | N40: =IFERROR(VLOOKUP($B40,Tecnicos!$E$1:$M$26,9,0)*I40,) -> 13189.388 | O40: =IFERROR(VLOOKUP($B40,Tecnicos!$E$1:$M$26,9,0)*J40,) -> 0
...

Sheet Custos
A1: ID | B1: Âmbito | C1: N.º | D1: Beneficiário | E1: Estab. | F1: Ativ. | G1: Designação | H1: Rubrica | I1: Ano | J1: Mês | K1: Custo | L1: EF | N1: SYSTEM | O1: CAP
H2: Custos com Pessoal | I2: 2027 | K2: =Pessoal!L90 -> 420997.38
H3: Custos com Pessoal | I3: 2028 | K3: =Pessoal!M90 -> 431651.02
H4: Custos com Pessoal | I4: 2029 | K4: =Pessoal!N90 -> 386503.26
H5: Custos com Pessoal | I5: 2030 | K5: =Pessoal!O90 -> 0 | N5: =SUM(Pessoal!L2:O57) -> 803820.67 | O5: =SUM(Pessoal!L58:O88) -> 435330.99
D6: INESC TEC | E6: Sede | F6: A2- Desenvolvimento dos Modelos, Métodos e Protótipos | H6: Equipamento informático | I6: 2027 | J6: 4 | K6: 20000 | N6: =K6 -> 20000
D7: INESC TEC | E7: Sede | F7: A2- Desenvolvimento dos Modelos, Métodos e Protótipos | H7: Software e licenças | I7: 2027 | J7: 4 | K7: 15000 | N7: =K7 -> 15000
D8: INESC TEC | E8: Sede | F8: A3 - Instalação, Integração e Implementação Piloto | H8: Software e licenças | I8: 2028 | J8: 1 | K8: 15000 | N8: =K8 -> 15000
D9: INESC TEC | E9: Sede | F9: A3 - Instalação, Integração e Implementação Piloto | H9: Software e licenças | I9: 2029 | J9: 1 | K9: 15000 | N9: =K9 -> 15000
D10: INESC TEC | E10: Sede | F10: A5 - Promoção e Disseminação de Resultados | H10: Seminários e Conferências | I10: 2028 | J10: 1 | K10: 1500 | N10: =K10 -> 1500
D11: INESC TEC | E11: Sede | F11: A5 - Promoção e Disseminação de Resultados | H11: Seminários e Conferências | I11: 2029 | J11: 1 | K11: 1500 | N11: =K11 -> 1500
D12: INESC TEC | E12: Sede | F12: A5 - Promoção e Disseminação de Resultados | H12: Deslocações | I12: 2028 | J12: 1 | K12: 2000 | N12: =K12 -> 2000
D13: INESC TEC | E13: Sede | F13: A5 - Promoção e Disseminação de Resultados | H13: Deslocações | I13: 2029 | J13: 1 | K13: 2000 | N13: =K13 -> 2000
D14: INESC TEC | E14: Sede | F14: A5 - Promoção e Disseminação de Resultados | H14: Estadias | I14: 2028 | J14: 1 | K14: 2000 | N14: =K14 -> 2000
D15: INESC TEC | E15: Sede | F15: A5 - Promoção e Disseminação de Resultados | H15: Estadias | I15: 2029 | J15: 1 | K15: 2000 | N15: =K15 -> 2000
D16: INESC TEC | E16: Sede | F16: A5 - Promoção e Disseminação de Resultados | G16: Open Access Pub | H16: Promoção e divulgação | I16: 2029 | J16: 1 | K16: 3000 | N16: =K16 -> 3000 | V16: NOTA: Limite de 85,00€/noite por estadia em Hotel (DL 106/98) em território nacional; 148,91€/noite no estrangeiro
D17: INESC TEC | E17: =Pessoal!D64 -> Pólo Ciências | H17: Aquisição de componentes | I17: 2027 | K17: 20000 | O17: =K17 -> 20000
D18: INESC TEC | E18: =Pessoal!D65 -> Pólo Ciências | H18: Matérias-primas e materiais consumíveis | I18: 2027 | K18: 10000 | O18: =K18 -> 10000
D19: INESC TEC | E19: =Pessoal!D66 -> Pólo Ciências | H19: Aquisição de componentes | I19: 2028 | K19: 20000 | O19: =K19 -> 20000
D20: INESC TEC | E20: =Pessoal!D67 -> Pólo Ciências | H20: Matérias-primas e materiais consumíveis | I20: 2028 | K20: 10000 | O20: =K20 -> 10000
D21: INESC TEC | E21: =Pessoal!D68 -> Pólo Ciências | H21: Seminários e Conferências | I21: 2028 | K21: 3000 | O21: =K21 -> 3000 | V21: Orçamento Total
D22: INESC TEC | E22: =Pessoal!D69 -> Pólo Ciências | H22: Seminários e Conferências | I22: 2029 | K22: 3000 | O22: =K22 -> 3000 | V22: 2027 | W22: =SUMIFS($K$2:$K$32,$I$2:$I$32,V22) -> 520017.2
D23: INESC TEC | E23: =Pessoal!D70 -> Pólo Ciências | H23: Promoção e divulgação | I23: 2028 | K23: 3000 | O23: =K23 -> 3000 | V23: 2028 | W23: =SUMIFS($K$2:$K$32,$I$2:$I$32,V23) -> 528741.59
D24: INESC TEC | E24: =Pessoal!D71 -> Pólo Ciências | H24: Promoção e divulgação | I24: 2029 | K24: 3000 | O24: =K24 -> 3000 | V24: 2029 | W24: =SUMIFS($K$2:$K$32,$I$2:$I$32,V24) -> 451543.49
D25: INESC TEC | E25: =Pessoal!D72 -> Pólo Ciências | H25: Estadias | I25: 2028 | K25: 4000 | O25: =K25 -> 4000 | V25: 2030 | W25: =SUMIFS($K$2:$K$32,$I$2:$I$32,V25) -> 0
D26: INESC TEC | E26: =Pessoal!D73 -> Pólo Ciências | H26: Estadias | I26: 2029 | K26: 4000 | O26: =K26 -> 4000 | V26: Total | W26: =SUM(W22:W25) -> 1500302.3
D27: INESC TEC | E27: =Pessoal!D74 -> Pólo Ciências | H27: Deslocações | I27: 2028 | K27: 2000 | O27: =K27 -> 2000
D28: INESC TEC | E28: =Pessoal!D75 -> Pólo Ciências | H28: Deslocações | I28: 2029 | K28: 2000 | O28: =K28 -> 2000
H29: Custos Indiretos | I29: 2025 | K29: =SUMIFS($K$2:$K$28,$I$2:$I$28,2025)*0.07 -> 0
H30: Custos Indiretos | I30: 2027 | K30: =SUMIFS($K$2:$K$28,$I$2:$I$28,2027)*0.07 -> 34019.817
H31: Custos Indiretos | I31: 2028 | K31: =SUMIFS($K$2:$K$28,$I$2:$I$28,2028)*0.07 -> 34590.572
H32: Custos Indiretos | I32: 2029 | K32: =SUMIFS($K$2:$K$28,$I$2:$I$28,2029)*0.07 -> 29540.228 | N32: =SUM($N$2:$N$28)*0.07 -> 61797.447 | O32: =SUM($O$2:$O$28)*0.07 -> 36353.169
H35: Total: | K35: =SUM(K2:K32) -> 1500302.3 | M35: =N35+O35 -> 1500302.3 | N35: =SUM(N2:N32) -> 944618.12 | O35: =SUM(O2:O32) -> 555684.16
M37: =N37+O37 -> 1 | N37: =N35/M35 -> 0.62961853 | O37: =O35/M35 -> 0.37038147
M39: 1281399 | N39: =M39*N37 -> 806792.56 | O39: =M39*O37 -> 474606.44
