Workbook
Name D_Indice100: 1636.83
Name Estado: [1]Listas_limites!#REF!
Name Mês: [1]Listas_limites!#REF!

Sheet Categorias
A1: Aquisição de patentes e direitos de propriedade
A2: Matérias-primas e materiais consumíveis
A3: Aquisição de componentes
A4: Consultoria
A5: Estudos/Relatórios DNSH
A6: Assistência técnica
A7: Aquisição de serviços
A8: Equipamento informático
A9: Software e licenças
A10: Máquinas e equipamentos
A11: Aquisição de instrumentos e equipamento científico e técnico
A12: Registo de patentes (Taxas Oficiais)
... A21: CC/ROC

Sheet Tecnicos
A1: ID | B1: Beneficiário | C1: Nova | D1: NIF | E1: Beneficiário | F1: Nível | G1: Vínculo | H1: Vencimento mês (Consultar SAAF para Valores) | I1: Seguro Social Voluntário | J1: Seguro Acidentes Pessoais | K1: Taxa Segurança Social | L1: Critico | M1: Custo ETI
B2: INESC TEC | C2: Não | E2: C1 - Specialist in technical coordination and the development of digital solutions to support operations management and optimization | F2: Nível 7 - Mestre | G2: Contrato de Trablho a Termo Incerto | H2: =4443.99 -> 4443.99 | I2: =IF(G2="Bolseiro",158.99,0) -> 0 | J2: =IF(G2="Bolseiro",68.65,0) -> 0 | K2: =IF(G2="Bolseiro",0,22.3%) -> 0.223 | L2: Não | M2: =IF(G2="Bolseiro",(H2+I2+J2)*12/11,H2*(1+K2)*14/11) -> 6917.2724 | O2: R03160 | Rui Diogo Rebelo
B3: INESC TEC | C3: Não | E3: C2 - Specialist in digital transformation, process modelling, and the development of technology-based innovation solutions | F3: Nível 7 - Mestre | G3: Contrato de Trablho a Termo Incerto | H3: =1749.16 -> 1749.16 | I3: =IF(G3="Bolseiro",158.99,0) -> 0 | J3: =IF(G3="Bolseiro",68.65,0) -> 0 | K3: =IF(G3="Bolseiro",0,22.3%) -> 0.223 | L3: Não | M3: =IF(G3="Bolseiro",(H3+I3+J3)*12/11,H3*(1+K3)*14/11) -> 2722.647 | O3: R08460 | Sthefan Berwanger
B4: INESC TEC | C4: Não | E4: C3 - Specialist in software engineering, data integration, and the development of interoperable digital platforms | F4: Nível 7 - Mestre | G4: Contrato de Trablho a Termo Incerto | H4: =1896.07 -> 1896.07 | I4: =IF(G4="Bolseiro",158.99,0) -> 0 | J4: =IF(G4="Bolseiro",68.65,0) -> 0 | K4: =IF(G4="Bolseiro",0,22.3%) -> 0.223 | L4: Não | M4: =IF(G4="Bolseiro",(H4+I4+J4)*12/11,H4*(1+K4)*14/11) -> 2951.3191 | O4: R07929 | Ana Carolina Chaves
B5: INESC TEC | C5: Não | E5: C4 - Specialist in information systems, operational planning, and decision-support in industrial environments | F5: Nível 7 - Mestre | G5: Contrato de Trablho a Termo Incerto | H5: =4029.99 -> 4029.99 | I5: =IF(G5="Bolseiro",158.99,0) -> 0 | J5: =IF(G5="Bolseiro",68.65,0) -> 0 | K5: =IF(G5="Bolseiro",0,22.3%) -> 0.223 | L5: Não | M5: =IF(G5="Bolseiro",(H5+I5+J5)*12/11,H5*(1+K5)*14/11) -> 6272.8626 | O5: R00283 | César Toscano
B6: INESC TEC | C6: Não | E6: D1 - Specialist in industrial processes, operational improvement, and the implementation of production support methodologies | F6: Nível 8 - Doutorado | G6: Quadro de Cedência Ocasional [Docentes] | H6: =3393.14 -> 3393.14 | I6: =IF(G6="Bolseiro",158.99,0) -> 0 | J6: =IF(G6="Bolseiro",68.65,0) -> 0 | K6: =IF(G6="Bolseiro",0,22.3%) -> 0.223 | L6: Não | M6: =IF(G6="Bolseiro",(H6+I6+J6)*12/11,H6*(1+K6)*14/11) -> 5281.5766 | O6: R08340 | Hélio Cristiano Castro
B7: INESC TEC | C7: Não | E7: D2 - Specialist in systems architecture, digital traceability, and the development of solutions for information integration and sharing | F7: Nível 8 - Doutorado | G7: Quadro de Cedência Ocasional [Docentes] | H7: =4035 -> 4035 | I7: =IF(G7="Bolseiro",158.99,0) -> 0 | J7: =IF(G7="Bolseiro",68.65,0) -> 0 | K7: =IF(G7="Bolseiro",0,22.3%) -> 0.223 | L7: Sim | M7: =IF(G7="Bolseiro",(H7+I7+J7)*12/11,H7*(1+K7)*14/11) -> 6280.6609 | O7: R04363 | Cristovão Sousa
B8: INESC TEC | C8: Não | E8: D3 - Specialist in data analysis, quantitative methods, and decision-support for process optimization | F8: Nível 8 - Doutorado | G8: Quadro de Cedência Ocasional [Docentes] | H8: =4218.5 -> 4218.5 | I8: =IF(G8="Bolseiro",158.99,0) -> 0 | J8: =IF(G8="Bolseiro",68.65,0) -> 0 | K8: =IF(G8="Bolseiro",0,22.3%) -> 0.223 | L8: Não | M8: =IF(G8="Bolseiro",(H8+I8+J8)*12/11,H8*(1+K8)*14/11) -> 6566.287 | O8: R05965 | Luís Guimarães
B9: INESC TEC | C9: Não | E9: C5 - Specialist in software development, systems integration, and digital traceability | F9: Nível 7 - Mestre | G9: Contrato de Trablho a Termo Incerto | H9: =2229.65 -> 2229.65 | I9: =IF(G9="Bolseiro",158.99,0) -> 0 | J9: =IF(G9="Bolseiro",68.65,0) -> 0 | K9: =IF(G9="Bolseiro",0,22.3%) -> 0.223 | L9: Não | M9: =IF(G9="Bolseiro",(H9+I9+J9)*12/11,H9*(1+K9)*14/11) -> 3470.5516 | O9: R08941 | Ricardo Ferreira
B10: INESC TEC | C10: Não | E10: C6 - Specialist in digital infrastructures and technology development | F10: Nível 7 - Mestre | G10: Contrato de Trablho a Termo Incerto | H10: =1800 -> 1800 | I10: =IF(G10="Bolseiro",158.99,0) -> 0 | J10: =IF(G10="Bolseiro",68.65,0) -> 0 | K10: =IF(G10="Bolseiro",0,22.3%) -> 0.223 | L10: Não | M10: =IF(G10="Bolseiro",(H10+I10+J10)*12/11,H10*(1+K10)*14/11) -> 2801.7818 | O10: RG10N004 | C I&D - Equida B (Henrique Silva)
B11: INESC TEC | C11: Não | E11: D4 - Specialist in quantitative analysis, performance assessment, and analytical support for results monitoring | F11: Nível 8 - Doutorado | G11: Quadro de Cedência Ocasional [Docentes] | H11: =4218.5 -> 4218.5 | I11: =IF(G11="Bolseiro",158.99,0) -> 0 | J11: =IF(G11="Bolseiro",68.65,0) -> 0 | K11: =IF(G11="Bolseiro",0,22.3%) -> 0.223 | L11: Não | M11: =IF(G11="Bolseiro",(H11+I11+J11)*12/11,H11*(1+K11)*14/11) -> 6566.287 | O11: R05988 | Vera Miguéis
B12: INESC TEC | C12: Não | E12: D5 - Specialist in operations management, organizational processes, and continuous improvement solutions | F12: Nível 8 - Doutorado | G12: Quadro de Cedência Ocasional [Docentes] | H12: 5227.28 | I12: =IF(G12="Bolseiro",158.99,0) -> 0 | J12: =IF(G12="Bolseiro",68.65,0) -> 0 | K12: =IF(G12="Bolseiro",0,22.3%) -> 0.223 | L12: Não | M12: =IF(G12="Bolseiro",(H12+I12+J12)*12/11,H12*(1+K12)*14/11) -> 8136.4989 | O12: R02160-1 | Américo Azevedo
B13: INESC TEC | C13: Sim | E13: C7 - Specialist in Spectral imaging and chemical sensing | F13: Nível 8 - Doutorado | G13: A contratar | H13: 2500 | I13: =IF(G13="Bolseiro",158.99,0) -> 0 | J13: =IF(G13="Bolseiro",68.65,0) -> 0 | K13: =IF(G13="Bolseiro",0,22.3%) -> 0.223 | M13: =IF(G13="Bolseiro",(H13+I13+J13)*12/11,H13*(1+K13)*14/11) -> 3891.3636 | O13: Doutorado 1
B14: INESC TEC | C14: Não | E14: C8 - Specialist in Optical Sensors and Integration | F14: Nível 8 - Doutorado | G14: Contrato de Trablho a Termo Incerto | H14: 2500 | I14: =IF(G14="Bolseiro",158.99,0) -> 0 | J14: =IF(G14="Bolseiro",68.65,0) -> 0 | K14: =IF(G14="Bolseiro",0,22.3%) -> 0.223 | M14: =IF(G14="Bolseiro",(H14+I14+J14)*12/11,H14*(1+K14)*14/11) -> 3891.3636 | O14: Catarina Monteiro
B15: INESC TEC | C15: Não | E15: C9 - Specialist in Spectral imaging for Mining Applications | F15: Nível 8 - Doutorado | G15: Contrato de Trabalho a Tempo Indeterminado (Sem Termo) | H15: 2500 | I15: =IF(G15="Bolseiro",158.99,0) -> 0 | J15: =IF(G15="Bolseiro",68.65,0) -> 0 | K15: =IF(G15="Bolseiro",0,22.3%) -> 0.223 | M15: =IF(G15="Bolseiro",(H15+I15+J15)*12/11,H15*(1+K15)*14/11) -> 3891.3636 | O15: Diana Guimarães
B16: INESC TEC | C16: Não | E16: D6 - Specialist in AI | F16: Nível 8 - Doutorado | G16: Quadro de Cedência Ocasional [Docentes] | H16: 3700 | I16: =IF(G16="Bolseiro",158.99,0) -> 0 | J16: =IF(G16="Bolseiro",68.65,0) -> 0 | K16: =IF(G16="Bolseiro",0,22.3%) -> 0.223 | M16: =IF(G16="Bolseiro",(H16+I16+J16)*12/11,H16*(1+K16)*14/11) -> 5759.2182 | O16: Pedro Jorge (*FCUP, a confirmar)
B17: INESC TEC | C17: Não | E17: D7 - Specialist in AI | F17: Nível 8 - Doutorado | G17: Quadro de Cedência Ocasional [Docentes] | H17: 3500 | I17: =IF(G17="Bolseiro",158.99,0) -> 0 | J17: =IF(G17="Bolseiro",68.65,0) -> 0 | K17: =IF(G17="Bolseiro",0,22.3%) -> 0.223 | M17: =IF(G17="Bolseiro",(H17+I17+J17)*12/11,H17*(1+K17)*14/11) -> 5447.9091 | O17: Nuno Silva (*FCUP, a confirmar)
B18: INESC TEC | C18: Sim | E18: C10 - Specialist in Hardware Design and Integration | F18: Nível 7 - Mestre | G18: Bolseiro | H18: 1400 | I18: =IF(G18="Bolseiro",158.99,0) -> 158.99 | J18: =IF(G18="Bolseiro",68.65,0) -> 68.65 | K18: =IF(G18="Bolseiro",0,22.3%) -> 0 | M18: =IF(G18="Bolseiro",(H18+I18+J18)*12/11,H18*(1+K18)*14/11) -> 1775.6073 | O18: Bolsa Mestre
B19: INESC TEC | C19: Sim | E19: C11 - Specialist in Signal Processing | F19: Nível 7 - Mestre | G19: Bolseiro | H19: 1400 | I19: =IF(G19="Bolseiro",158.99,0) -> 158.99 | J19: =IF(G19="Bolseiro",68.65,0) -> 68.65 | K19: =IF(G19="Bolseiro",0,22.3%) -> 0 | M19: =IF(G19="Bolseiro",(H19+I19+J19)*12/11,H19*(1+K19)*14/11) -> 1775.6073 | O19: Bolsa Mestre
I20: =IF(G20="Bolseiro",158.99,0) -> 0 | J20: =IF(G20="Bolseiro",68.65,0) -> 0 | K20: =IF(G20="Bolseiro",0,22.3%) -> 0.223 | M20: =IF(G20="Bolseiro",(H20+I20+J20)*12/11,H20*(1+K20)*14/11) -> 0
I21: =IF(G21="Bolseiro",158.99,0) -> 0 | J21: =IF(G21="Bolseiro",68.65,0) -> 0 | K21: =IF(G21="Bolseiro",0,22.3%) -> 0.223 | M21: =IF(G21="Bolseiro",(H21+I21+J21)*12/11,H21*(1+K21)*14/11) -> 0
I22: =IF(G22="Bolseiro",158.99,0) -> 0 | J22: =IF(G22="Bolseiro",68.65,0) -> 0 | K22: =IF(G22="Bolseiro",0,22.3%) -> 0.223 | M22: =IF(G22="Bolseiro",(H22+I22+J22)*12/11,H22*(1+K22)*14/11) -> 0
I23: =IF(G23="Bolseiro",158.99,0) -> 0 | J23: =IF(G23="Bolseiro",68.65,0) -> 0 | K23: =IF(G23="Bolseiro",0,22.3%) -> 0.223 | M23: =IF(G23="Bolseiro",(H23+I23+J23)*12/11,H23*(1+K23)*14/11) -> 0
I24: =IF(G24="Bolseiro",158.99,0) -> 0 | J24: =IF(G24="Bolseiro",68.65,0) -> 0 | K24: =IF(G24="Bolseiro",0,22.3%) -> 0.223 | M24: =IF(G24="Bolseiro",(H24+I24+J24)*12/11,H24*(1+K24)*14/11) -> 0
I25: =IF(G25="Bolseiro",158.99,0) -> 0 | J25: =IF(G25="Bolseiro",68.65,0) -> 0 | K25: =IF(G25="Bolseiro",0,22.3%) -> 0.223 | M25: =IF(G25="Bolseiro",(H25+I25+J25)*12/11,H25*(1+K25)*14/11) -> 0
I26: =IF(G26="Bolseiro",158.99,0) -> 0 | J26: =IF(G26="Bolseiro",68.65,0) -> 0 | K26: =IF(G26="Bolseiro",0,22.3%) -> 0.223 | M26: =IF(G26="Bolseiro",(H26+I26+J26)*12/11,H26*(1+K26)*14/11) -> 0

Sheet Pessoal
A1: N.º | B1: Perfil | C1: Conteúdo Funcional | D1: Estab. | E1: Perfil | F1: Atividade | G1: ETI 0 (Ano 2027) | H1: ETI 1 (Ano 2028) | I1: ET2 (Ano 2029) | J1: ET3 (Ano 2030) | K1: Valor (Custo Total Pessoal) | L1: Custo ETI (Ano 2027) | M1: Custo ETI (Ano 2028) | N1: Custo ETI (Ano 2029) | O1: Custo ETI (Ano 2030)
A2: C1 | B2: C1 - Specialist in technical coordination and the development of digital solutions to support operations management and optimization | D2: Sede | E2: C1 - Specialist in technical coordination and the development of digital solutions to support operations management and optimization | F2: A1-Diagnóstico, Mapeamento e Especificação do Sistema | G2: 1.2 | K2: =SUM(G2:J2)*L2 -> 9960.8723 | L2: =IFERROR(VLOOKUP($B2,Tecnicos!$E$1:$M$26,9,0)*G2,) -> 8300.7269 | M2: =IFERROR(VLOOKUP($B2,Tecnicos!$E$1:$M$26,9,0)*H2,) -> 0 | N2: =IFERROR(VLOOKUP($B2,Tecnicos!$E$1:$M$26,9,0)*I2,) -> 0 | O2: =IFERROR(VLOOKUP($B2,Tecnicos!$E$1:$M$26,9,0)*J2,) -> 0
A3: C2 | B3: C2 - Specialist in digital transformation, process modelling, and the development of technology-based innovation solutions | D3: Sede | E3: C2 - Specialist in digital transformation, process modelling, and the development of technology-based innovation solutions | F3: A1-Diagnóstico, Mapeamento e Especificação do Sistema | G3: 2.75 | K3: =SUM(G3:J3)*L3 -> 20590.018 | L3: =IFERROR(VLOOKUP($B3,Tecnicos!$E$1:$M$26,9,0)*G3,) -> 7487.2794 | M3: =IFERROR(VLOOKUP($B3,Tecnicos!$E$1:$M$26,9,0)*H3,) -> 0 | N3: =IFERROR(VLOOKUP($B3,Tecnicos!$E$1:$M$26,9,0)*I3,) -> 0 | O3: =IFERROR(VLOOKUP($B3,Tecnicos!$E$1:$M$26,9,0)*J3,) -> 0
A4: C3 | B4: C3 - Specialist in software engineering, data integration, and the development of interoperable digital platforms | D4: Sede | E4: C3 - Specialist in software engineering, data integration, and the development of interoperable digital platforms | F4: A1-Diagnóstico, Mapeamento e Especificação do Sistema | G4: 1.2 | K4: =SUM(G4:J4)*L4 -> 4249.8996 | L4: =IFERROR(VLOOKUP($B4,Tecnicos!$E$1:$M$26,9,0)*G4,) -> 3541.583 | M4: =IFERROR(VLOOKUP($B4,Tecnicos!$E$1:$M$26,9,0)*H4,) -> 0 | N4: =IFERROR(VLOOKUP($B4,Tecnicos!$E$1:$M$26,9,0)*I4,) -> 0 | O4: =IFERROR(VLOOKUP($B4,Tecnicos!$E$1:$M$26,9,0)*J4,) -> 0
A5: C4 | B5: C4 - Specialist in information systems, operational planning, and decision-support in industrial environments | D5: Sede | E5: C4 - Specialist in information systems, operational planning, and decision-support in industrial environments | F5: A1-Diagnóstico, Mapeamento e Especificação do Sistema | G5: 1.2 | K5: =SUM(G5:J5)*L5 -> 9032.9222 | L5: =IFERROR(VLOOKUP($B5,Tecnicos!$E$1:$M$26,9,0)*G5,) -> 7527.4351 | M5: =IFERROR(VLOOKUP($B5,Tecnicos!$E$1:$M$26,9,0)*H5,) -> 0 | N5: =IFERROR(VLOOKUP($B5,Tecnicos!$E$1:$M$26,9,0)*I5,) -> 0 | O5: =IFERROR(VLOOKUP($B5,Tecnicos!$E$1:$M$26,9,0)*J5,) -> 0
A6: D1 | B6: D1 - Specialist in industrial processes, operational improvement, and the implementation of production support methodologies | D6: Sede | E6: D1 - Specialist in industrial processes, operational improvement, and the implementation of production support methodologies | F6: A1-Diagnóstico, Mapeamento e Especificação do Sistema | G6: 1.2 | K6: =SUM(G6:J6)*L6 -> 7605.4704 | L6: =IFERROR(VLOOKUP($B6,Tecnicos!$E$1:$M$26,9,0)*G6,) -> 6337.892 | M6: =IFERROR(VLOOKUP($B6,Tecnicos!$E$1:$M$26,9,0)*H6,) -> 0 | N6: =IFERROR(VLOOKUP($B6,Tecnicos!$E$1:$M$26,9,0)*I6,) -> 0 | O6: =IFERROR(VLOOKUP($B6,Tecnicos!$E$1:$M$26,9,0)*J6,) -> 0
A7: D2 | B7: D2 - Specialist in systems architecture, digital traceability, and the development of solutions for information integration and sharing | D7: Sede | E7: D2 - Specialist in systems architecture, digital traceability, and the development of solutions for information integration and sharing | F7: A1-Diagnóstico, Mapeamento e Especificação do Sistema | G7: 1.2 | K7: =SUM(G7:J7)*L7 -> 9044.1517 | L7: =IFERROR(VLOOKUP($B7,Tecnicos!$E$1:$M$26,9,0)*G7,) -> 7536.7931 | M7: =IFERROR(VLOOKUP($B7,Tecnicos!$E$1:$M$26,9,0)*H7,) -> 0 | N7: =IFERROR(VLOOKUP($B7,Tecnicos!$E$1:$M$26,9,0)*I7,) -> 0 | O7: =IFERROR(VLOOKUP($B7,Tecnicos!$E$1:$M$26,9,0)*J7,) -> 0
A8: D3 | B8: D3 - Specialist in data analysis, quantitative methods, and decision-support for process optimization | D8: Sede | E8: D3 - Specialist in data analysis, quantitative methods, and decision-support for process optimization | F8: A1-Diagnóstico, Mapeamento e Especificação do Sistema | G8: 1.2 | K8: =SUM(G8:J8)*L8 -> 9455.4533 | L8: =IFERROR(VLOOKUP($B8,Tecnicos!$E$1:$M$26,9,0)*G8,) -> 7879.5444 | M8: =IFERROR(VLOOKUP($B8,Tecnicos!$E$1:$M$26,9,0)*H8,) -> 0 | N8: =IFERROR(VLOOKUP($B8,Tecnicos!$E$1:$M$26,9,0)*I8,) -> 0 | O8: =IFERROR(VLOOKUP($B8,Tecnicos!$E$1:$M$26,9,0)*J8,) -> 0
A9: C5 | B9: C5 - Specialist in software development, systems integration, and digital traceability | D9: Sede | E9: C5 - Specialist in software development, systems integration, and digital traceability | F9: A1-Diagnóstico, Mapeamento e Especificação do Sistema | G9: 2.75 | K9: =SUM(G9:J9)*L9 -> 26246.046 | L9: =IFERROR(VLOOKUP($B9,Tecnicos!$E$1:$M$26,9,0)*G9,) -> 9544.0168 | M9: =IFERROR(VLOOKUP($B9,Tecnicos!$E$1:$M$26,9,0)*H9,) -> 0 | N9: =IFERROR(VLOOKUP($B9,Tecnicos!$E$1:$M$26,9,0)*I9,) -> 0 | O9: =IFERROR(VLOOKUP($B9,Tecnicos!$E$1:$M$26,9,0)*J9,) -> 0
A10: C6 | B10: C6 - Specialist in digital infrastructures and technology development | D10: Sede | E10: C6 - Specialist in digital infrastructures and technology development | F10: A1-Diagnóstico, Mapeamento e Especificação do Sistema | G10: 2.75 | K10: =SUM(G10:J10)*L10 -> 21188.475 | L10: =IFERROR(VLOOKUP($B10,Tecnicos!$E$1:$M$26,9,0)*G10,) -> 7704.9 | M10: =IFERROR(VLOOKUP($B10,Tecnicos!$E$1:$M$26,9,0)*H10,) -> 0 | N10: =IFERROR(VLOOKUP($B10,Tecnicos!$E$1:$M$26,9,0)*I10,) -> 0 | O10: =IFERROR(VLOOKUP($B10,Tecnicos!$E$1:$M$26,9,0)*J10,) -> 0
A11: D4 | B11: D4 - Specialist in quantitative analysis, performance assessment, and analytical support for results monitoring | D11: Sede | E11: D4 - Specialist in quantitative analysis, performance assessment, and analytical support for results monitoring | F11: A1-Diagnóstico, Mapeamento e Especificação do Sistema | G11: 1.2 | K11: =SUM(G11:J11)*L11 -> 9455.4533 | L11: =IFERROR(VLOOKUP($B11,Tecnicos!$E$1:$M$26,9,0)*G11,) -> 7879.5444 | M11: =IFERROR(VLOOKUP($B11,Tecnicos!$E$1:$M$26,9,0)*H11,) -> 0 | N11: =IFERROR(VLOOKUP($B11,Tecnicos!$E$1:$M$26,9,0)*I11,) -> 0 | O11: =IFERROR(VLOOKUP($B11,Tecnicos!$E$1:$M$26,9,0)*J11,) -> 0
A12: D5 | B12: D5 - Specialist in operations management, organizational processes, and continuous improvement solutions | D12: Sede | E12: D5 - Specialist in operations management, organizational processes, and continuous improvement solutions | F12: A1-Diagnóstico, Mapeamento e Especificação do Sistema | G12: 1.2 | K12: =SUM(G12:J12)*L12 -> 11716.558 | L12: =IFERROR(VLOOKUP($B12,Tecnicos!$E$1:$M$26,9,0)*G12,) -> 9763.7987 | M12: =IFERROR(VLOOKUP($B12,Tecnicos!$E$1:$M$26,9,0)*H12,) -> 0 | N12: =IFERROR(VLOOKUP($B12,Tecnicos!$E$1:$M$26,9,0)*I12,) -> 0 | O12: =IFERROR(VLOOKUP($B12,Tecnicos!$E$1:$M$26,9,0)*J12,) -> 0
A13: C1 | B13: C1 - Specialist in technical coordination and the development of digital solutions to support operations management and optimization | D13: Sede | E13: C1 - Specialist in technical coordination and the development of digital solutions to support operations management and optimization | F13: A2- Desenvolvimento dos Modelos, Métodos e Protótipos | G13: 3.8 | H13: 3.9 | K13: =SUM(G13:J13)*L13 -> 202399.39 | L13: =IFERROR(VLOOKUP($B13,Tecnicos!$E$1:$M$26,9,0)*G13,) -> 26285.635 | M13: =IFERROR(VLOOKUP($B13,Tecnicos!$E$1:$M$26,9,0)*H13,) -> 26977.362 | N13: =IFERROR(VLOOKUP($B13,Tecnicos!$E$1:$M$26,9,0)*I13,) -> 0 | O13: =IFERROR(VLOOKUP($B13,Tecnicos!$E$1:$M$26,9,0)*J13,) -> 0
A14: C2 | B14: C2 - Specialist in digital transformation, process modelling, and the development of technology-based innovation solutions | D14: Sede | E14: C2 - Specialist in digital transformation, process modelling, and the development of technology-based innovation solutions | F14: A2- Desenvolvimento dos Modelos, Métodos e Protótipos | G14: 5.25 | H14: 6 | K14: =SUM(G14:J14)*L14 -> 160806.34 | L14: =IFERROR(VLOOKUP($B14,Tecnicos!$E$1:$M$26,9,0)*G14,) -> 14293.897 | M14: =IFERROR(VLOOKUP($B14,Tecnicos!$E$1:$M$26,9,0)*H14,) -> 16335.882 | N14: =IFERROR(VLOOKUP($B14,Tecnicos!$E$1:$M$26,9,0)*I14,) -> 0 | O14: =IFERROR(VLOOKUP($B14,Tecnicos!$E$1:$M$26,9,0)*J14,) -> 0
A15: C3 | B15: C3 - Specialist in software engineering, data integration, and the development of interoperable digital platforms | D15: Sede | E15: C3 - Specialist in software engineering, data integration, and the development of interoperable digital platforms | F15: A2- Desenvolvimento dos Modelos, Métodos e Protótipos | G15: 3.8 | H15: 3.9 | K15: =SUM(G15:J15)*L15 -> 86355.598 | L15: =IFERROR(VLOOKUP($B15,Tecnicos!$E$1:$M$26,9,0)*G15,) -> 11215.013 | M15: =IFERROR(VLOOKUP($B15,Tecnicos!$E$1:$M$26,9,0)*H15,) -> 11510.145 | N15: =IFERROR(VLOOKUP($B15,Tecnicos!$E$1:$M$26,9,0)*I15,) -> 0 | O15: =IFERROR(VLOOKUP($B15,Tecnicos!$E$1:$M$26,9,0)*J15,) -> 0
A16: C4 | B16: C4 - Specialist in information systems, operational planning, and decision-support in industrial environments | D16: Sede | E16: C4 - Specialist in information systems, operational planning, and decision-support in industrial environments | F16: A2- Desenvolvimento dos Modelos, Métodos e Protótipos | G16: 3.8 | H16: 3.9 | K16: =SUM(G16:J16)*L16 -> 183543.96 | L16: =IFERROR(VLOOKUP($B16,Tecnicos!$E$1:$M$26,9,0)*G16,) -> 23836.878 | M16: =IFERROR(VLOOKUP($B16,Tecnicos!$E$1:$M$26,9,0)*H16,) -> 24464.164 | N16: =IFERROR(VLOOKUP($B16,Tecnicos!$E$1:$M$26,9,0)*I16,) -> 0 | O16: =IFERROR(VLOOKUP($B16,Tecnicos!$E$1:$M$26,9,0)*J16,) -> 0
A17: D1 | B17: D1 - Specialist in industrial processes, operational improvement, and the implementation of production support methodologies | D17: Sede | E17: D1 - Specialist in industrial processes, operational improvement, and the implementation of production support methodologies | F17: A2- Desenvolvimento dos Modelos, Métodos e Protótipos | G17: 1.8 | H17: 1.8 | K17: =SUM(G17:J17)*L17 -> 34224.617 | L17: =IFERROR(VLOOKUP($B17,Tecnicos!$E$1:$M$26,9,0)*G17,) -> 9506.838 | M17: =IFERROR(VLOOKUP($B17,Tecnicos!$E$1:$M$26,9,0)*H17,) -> 9506.838 | N17: =IFERROR(VLOOKUP($B17,Tecnicos!$E$1:$M$26,9,0)*I17,) -> 0 | O17: =IFERROR(VLOOKUP($B17,Tecnicos!$E$1:$M$26,9,0)*J17,) -> 0
A18: D2 | B18: D2 - Specialist in systems architecture, digital traceability, and the development of solutions for information integration and sharing | D18: Sede | E18: D2 - Specialist in systems architecture, digital traceability, and the development of solutions for information integration and sharing | F18: A2- Desenvolvimento dos Modelos, Métodos e Protótipos | G18: 1.8 | H18: 1.8 | K18: =SUM(G18:J18)*L18 -> 40698.683 | L18: =IFERROR(VLOOKUP($B18,Tecnicos!$E$1:$M$26,9,0)*G18,) -> 11305.19 | M18: =IFERROR(VLOOKUP($B18,Tecnicos!$E$1:$M$26,9,0)*H18,) -> 11305.19 | N18: =IFERROR(VLOOKUP($B18,Tecnicos!$E$1:$M$26,9,0)*I18,) -> 0 | O18: =IFERROR(VLOOKUP($B18,Tecnicos!$E$1:$M$26,9,0)*J18,) -> 0
A19: D3 | B19: D3 - Specialist in data analysis, quantitative methods, and decision-support for process optimization | D19: Sede | E19: D3 - Specialist in data analysis, quantitative methods, and decision-support for process optimization | F19: A2- Desenvolvimento dos Modelos, Métodos e Protótipos | G19: 2.8 | H19: 2.8 | K19: =SUM(G19:J19)*L19 -> 102959.38 | L19: =IFERROR(VLOOKUP($B19,Tecnicos!$E$1:$M$26,9,0)*G19,) -> 18385.604 | M19: =IFERROR(VLOOKUP($B19,Tecnicos!$E$1:$M$26,9,0)*H19,) -> 18385.604 | N19: =IFERROR(VLOOKUP($B19,Tecnicos!$E$1:$M$26,9,0)*I19,) -> 0 | O19: =IFERROR(VLOOKUP($B19,Tecnicos!$E$1:$M$26,9,0)*J19,) -> 0
A20: C5 | B20: C5 - Specialist in software development, systems integration, and digital traceability | D20: Sede | E20: C5 - Specialist in software development, systems integration, and digital traceability | F20: A2- Desenvolvimento dos Modelos, Métodos e Protótipos | G20: 5.25 | H20: 6 | K20: =SUM(G20:J20)*L20 -> 204979.45 | L20: =IFERROR(VLOOKUP($B20,Tecnicos!$E$1:$M$26,9,0)*G20,) -> 18220.396 | M20: =IFERROR(VLOOKUP($B20,Tecnicos!$E$1:$M$26,9,0)*H20,) -> 20823.309 | N20: =IFERROR(VLOOKUP($B20,Tecnicos!$E$1:$M$26,9,0)*I20,) -> 0 | O20: =IFERROR(VLOOKUP($B20,Tecnicos!$E$1:$M$26,9,0)*J20,) -> 0
A21: C6 | B21: C6 - Specialist in digital infrastructures and technology development | D21: Sede | E21: C6 - Specialist in digital infrastructures and technology development | F21: A2- Desenvolvimento dos Modelos, Métodos e Protótipos | G21: 5.25 | H21: 6 | K21: =SUM(G21:J21)*L21 -> 165480.24 | L21: =IFERROR(VLOOKUP($B21,Tecnicos!$E$1:$M$26,9,0)*G21,) -> 14709.355 | M21: =IFERROR(VLOOKUP($B21,Tecnicos!$E$1:$M$26,9,0)*H21,) -> 16810.691 | N21: =IFERROR(VLOOKUP($B21,Tecnicos!$E$1:$M$26,9,0)*I21,) -> 0 | O21: =IFERROR(VLOOKUP($B21,Tecnicos!$E$1:$M$26,9,0)*J21,) -> 0
A22: D4 | B22: D4 - Specialist in quantitative analysis, performance assessment, and analytical support for results monitoring | D22: Sede | E22: D4 - Specialist in quantitative analysis, performance assessment, and analytical support for results monitoring | F22: A2- Desenvolvimento dos Modelos, Métodos e Protótipos | G22: 2.8 | H22: 2.8 | K22: =SUM(G22:J22)*L22 -> 102959.38 | L22: =IFERROR(VLOOKUP($B22,Tecnicos!$E$1:$M$26,9,0)*G22,) -> 18385.604 | M22: =IFERROR(VLOOKUP($B22,Tecnicos!$E$1:$M$26,9,0)*H22,) -> 18385.604 | N22: =IFERROR(VLOOKUP($B22,Tecnicos!$E$1:$M$26,9,0)*I22,) -> 0 | O22: =IFERROR(VLOOKUP($B22,Tecnicos!$E$1:$M$26,9,0)*J22,) -> 0
A23: D5 | B23: D5 - Specialist in operations management, organizational processes, and continuous improvement solutions | D23: Sede | E23: D5 - Specialist in operations management, organizational processes, and continuous improvement solutions | F23: A2- Desenvolvimento dos Modelos, Métodos e Protótipos | G23: 1.8 | H23: 1.8 | K23: =SUM(G23:J23)*L23 -> 52724.513 | L23: =IFERROR(VLOOKUP($B23,Tecnicos!$E$1:$M$26,9,0)*G23,) -> 14645.698 | M23: =IFERROR(VLOOKUP($B23,Tecnicos!$E$1:$M$26,9,0)*H23,) -> 14645.698 | N23: =IFERROR(VLOOKUP($B23,Tecnicos!$E$1:$M$26,9,0)*I23,) -> 0 | O23: =IFERROR(VLOOKUP($B23,Tecnicos!$E$1:$M$26,9,0)*J23,) -> 0
A24: C1 | B24: C1 - Specialist in technical coordination and the development of digital solutions to support operations management and optimization | D24: Sede | E24: C1 - Specialist in technical coordination and the development of digital solutions to support operations management and optimization | F24: A3 - Instalação, Integração e Implementação Piloto | H24: 1.1 | I24: 1.95 | K24: =SUM(G24:J24)*L24 -> 0 | L24: =IFERROR(VLOOKUP($B24,Tecnicos!$E$1:$M$26,9,0)*G24,) -> 0 | M24: =IFERROR(VLOOKUP($B24,Tecnicos!$E$1:$M$26,9,0)*H24,) -> 7608.9997 | N24: =IFERROR(VLOOKUP($B24,Tecnicos!$E$1:$M$26,9,0)*I24,) -> 13488.681 | O24: =IFERROR(VLOOKUP($B24,Tecnicos!$E$1:$M$26,9,0)*J24,) -> 0
A25: C2 | B25: C2 - Specialist in digital transformation, process modelling, and the development of technology-based innovation solutions | D25: Sede | E25: C2 - Specialist in digital transformation, process modelling, and the development of technology-based innovation solutions | F25: A3 - Instalação, Integração e Implementação Piloto | H25: 2 | I25: 3 | K25: =SUM(G25:J25)*L25 -> 0 | L25: =IFERROR(VLOOKUP($B25,Tecnicos!$E$1:$M$26,9,0)*G25,) -> 0 | M25: =IFERROR(VLOOKUP($B25,Tecnicos!$E$1:$M$26,9,0)*H25,) -> 5445.2941 | N25: =IFERROR(VLOOKUP($B25,Tecnicos!$E$1:$M$26,9,0)*I25,) -> 8167.9411 | O25: =IFERROR(VLOOKUP($B25,Tecnicos!$E$1:$M$26,9,0)*J25,) -> 0
A26: C3 | B26: C3 - Specialist in software engineering, data integration, and the development of interoperable digital platforms | D26: Sede | E26: C3 - Specialist in software engineering, data integration, and the development of interoperable digital platforms | F26: A3 - Instalação, Integração e Implementação Piloto | H26: 1.1 | I26: 1.95 | K26: =SUM(G26:J26)*L26 -> 0 | L26: =IFERROR(VLOOKUP($B26,Tecnicos!$E$1:$M$26,9,0)*G26,) -> 0 | M26: =IFERROR(VLOOKUP($B26,Tecnicos!$E$1:$M$26,9,0)*H26,) -> 3246.4511 | N26: =IFERROR(VLOOKUP($B26,Tecnicos!$E$1:$M$26,9,0)*I26,) -> 5755.0723 | O26: =IFERROR(VLOOKUP($B26,Tecnicos!$E$1:$M$26,9,0)*J26,) -> 0
A27: C4 | B27: C4 - Specialist in information systems, operational planning, and decision-support in industrial environments | D27: Sede | E27: C4 - Specialist in information systems, operational planning, and decision-support in industrial environments | F27: A3 - Instalação, Integração e Implementação Piloto | H27: 1.1 | I27: 1.95 | K27: =SUM(G27:J27)*L27 -> 0 | L27: =IFERROR(VLOOKUP($B27,Tecnicos!$E$1:$M$26,9,0)*G27,) -> 0 | M27: =IFERROR(VLOOKUP($B27,Tecnicos!$E$1:$M$26,9,0)*H27,) -> 6900.1489 | N27: =IFERROR(VLOOKUP($B27,Tecnicos!$E$1:$M$26,9,0)*I27,) -> 12232.082 | O27: =IFERROR(VLOOKUP($B27,Tecnicos!$E$1:$M$26,9,0)*J27,) -> 0
A28: D1 | B28: D1 - Specialist in industrial processes, operational improvement, and the implementation of production support methodologies | D28: Sede | E28: D1 - Specialist in industrial processes, operational improvement, and the implementation of production support methodologies | F28: A3 - Instalação, Integração e Implementação Piloto | H28: 1 | I28: 0.5 | K28: =SUM(G28:J28)*L28 -> 0 | L28: =IFERROR(VLOOKUP($B28,Tecnicos!$E$1:$M$26,9,0)*G28,) -> 0 | M28: =IFERROR(VLOOKUP($B28,Tecnicos!$E$1:$M$26,9,0)*H28,) -> 5281.5766 | N28: =IFERROR(VLOOKUP($B28,Tecnicos!$E$1:$M$26,9,0)*I28,) -> 2640.7883 | O28: =IFERROR(VLOOKUP($B28,Tecnicos!$E$1:$M$26,9,0)*J28,) -> 0
A29: D2 | B29: D2 - Specialist in systems architecture, digital traceability, and the development of solutions for information integration and sharing | D29: Sede | E29: D2 - Specialist in systems architecture, digital traceability, and the development of solutions for information integration and sharing | F29: A3 - Instalação, Integração e Implementação Piloto | H29: 1.2 | I29: 0.9 | K29: =SUM(G29:J29)*L29 -> 0 | L29: =IFERROR(VLOOKUP($B29,Tecnicos!$E$1:$M$26,9,0)*G29,) -> 0 | M29: =IFERROR(VLOOKUP($B29,Tecnicos!$E$1:$M$26,9,0)*H29,) -> 7536.7931 | N29: =IFERROR(VLOOKUP($B29,Tecnicos!$E$1:$M$26,9,0)*I29,) -> 5652.5948 | O29: =IFERROR(VLOOKUP($B29,Tecnicos!$E$1:$M$26,9,0)*J29,) -> 0
A30: D3 | B30: D3 - Specialist in data analysis, quantitative methods, and decision-support for process optimization | D30: Sede | E30: D3 - Specialist in data analysis, quantitative methods, and decision-support for process optimization | F30: A3 - Instalação, Integração e Implementação Piloto | H30: 1 | I30: 1 | K30: =SUM(G30:J30)*L30 -> 0 | L30: =IFERROR(VLOOKUP($B30,Tecnicos!$E$1:$M$26,9,0)*G30,) -> 0 | M30: =IFERROR(VLOOKUP($B30,Tecnicos!$E$1:$M$26,9,0)*H30,) -> 6566.287 | N30: =IFERROR(VLOOKUP($B30,Tecnicos!$E$1:$M$26,9,0)*I30,) -> 6566.287 | O30: =IFERROR(VLOOKUP($B30,Tecnicos!$E$1:$M$26,9,0)*J30,) -> 0
A31: C5 | B31: C5 - Specialist in software development, systems integration, and digital traceability | D31: Sede | E31: C5 - Specialist in software development, systems integration, and digital traceability | F31: A3 - Instalação, Integração e Implementação Piloto | H31: 2 | I31: 3 | K31: =SUM(G31:J31)*L31 -> 0 | L31: =IFERROR(VLOOKUP($B31,Tecnicos!$E$1:$M$26,9,0)*G31,) -> 0 | M31: =IFERROR(VLOOKUP($B31,Tecnicos!$E$1:$M$26,9,0)*H31,) -> 6941.1031 | N31: =IFERROR(VLOOKUP($B31,Tecnicos!$E$1:$M$26,9,0)*I31,) -> 10411.655 | O31: =IFERROR(VLOOKUP($B31,Tecnicos!$E$1:$M$26,9,0)*J31,) -> 0
A32: C6 | B32: C6 - Specialist in digital infrastructures and technology development | D32: Sede | E32: C6 - Specialist in digital infrastructures and technology development | F32: A3 - Instalação, Integração e Implementação Piloto | H32: 2 | I32: 3 | K32: =SUM(G32:J32)*L32 -> 0 | L32: =IFERROR(VLOOKUP($B32,Tecnicos!$E$1:$M$26,9,0)*G32,) -> 0 | M32: =IFERROR(VLOOKUP($B32,Tecnicos!$E$1:$M$26,9,0)*H32,) -> 5603.5636 | N32: =IFERROR(VLOOKUP($B32,Tecnicos!$E$1:$M$26,9,0)*I32,) -> 8405.3455 | O32: =IFERROR(VLOOKUP($B32,Tecnicos!$E$1:$M$26,9,0)*J32,) -> 0
A33: D4 | B33: D4 - Specialist in quantitative analysis, performance assessment, and analytical support for results monitoring | D33: Sede | E33: D4 - Specialist in quantitative analysis, performance assessment, and analytical support for results monitoring | F33: A3 - Instalação, Integração e Implementação Piloto | H33: 1 | I33: 1 | K33: =SUM(G33:J33)*L33 -> 0 | L33: =IFERROR(VLOOKUP($B33,Tecnicos!$E$1:$M$26,9,0)*G33,) -> 0 | M33: =IFERROR(VLOOKUP($B33,Tecnicos!$E$1:$M$26,9,0)*H33,) -> 6566.287 | N33: =IFERROR(VLOOKUP($B33,Tecnicos!$E$1:$M$26,9,0)*I33,) -> 6566.287 | O33: =IFERROR(VLOOKUP($B33,Tecnicos!$E$1:$M$26,9,0)*J33,) -> 0
A34: D5 | B34: D5 - Specialist in operations management, organizational processes, and continuous improvement solutions | D34: Sede | E34: D5 - Specialist in operations management, organizational processes, and continuous improvement solutions | F34: A3 - Instalação, Integração e Implementação Piloto | H34: 1.2 | I34: 0.9 | K34: =SUM(G34:J34)*L34 -> 0 | L34: =IFERROR(VLOOKUP($B34,Tecnicos!$E$1:$M$26,9,0)*G34,) -> 0 | M34: =IFERROR(VLOOKUP($B34,Tecnicos!$E$1:$M$26,9,0)*H34,) -> 9763.7987 | N34: =IFERROR(VLOOKUP($B34,Tecnicos!$E$1:$M$26,9,0)*I34,) -> 7322.849 | O34: =IFERROR(VLOOKUP($B34,Tecnicos!$E$1:$M$26,9,0)*J34,) -> 0
A35: C1 | B35: C1 - Specialist in technical coordination and the development of digital solutions to support operations management and optimization | D35: Sede | E35: C1 - Specialist in technical coordination and the development of digital solutions to support operations management and optimization | F35: A4 - Testes, Demonstração e Validação Industrial | I35: 3.05 | K35: =SUM(G35:J35)*L35 -> 0 | L35: =IFERROR(VLOOKUP($B35,Tecnicos!$E$1:$M$26,9,0)*G35,) -> 0 | M35: =IFERROR(VLOOKUP($B35,Tecnicos!$E$1:$M$26,9,0)*H35,) -> 0 | N35: =IFERROR(VLOOKUP($B35,Tecnicos!$E$1:$M$26,9,0)*I35,) -> 21097.681 | O35: =IFERROR(VLOOKUP($B35,Tecnicos!$E$1:$M$26,9,0)*J35,) -> 0
A36: C2 | B36: C2 - Specialist in digital transformation, process modelling, and the development of technology-based innovation solutions | D36: Sede | E36: C2 - Specialist in digital transformation, process modelling, and the development of technology-based innovation solutions | F36: A4 - Testes, Demonstração e Validação Industrial | I36: 5 | K36: =SUM(G36:J36)*L36 -> 0 | L36: =IFERROR(VLOOKUP($B36,Tecnicos!$E$1:$M$26,9,0)*G36,) -> 0 | M36: =IFERROR(VLOOKUP($B36,Tecnicos!$E$1:$M$26,9,0)*H36,) -> 0 | N36: =IFERROR(VLOOKUP($B36,Tecnicos!$E$1:$M$26,9,0)*I36,) -> 13613.235 | O36: =IFERROR(VLOOKUP($B36,Tecnicos!$E$1:$M$26,9,0)*J36,) -> 0
A37: C3 | B37: C3 - Specialist in software engineering, data integration, and the development of interoperable digital platforms | D37: Sede | E37: C3 - Specialist in software engineering, data integration, and the development of interoperable digital platforms | F37: A4 - Testes, Demonstração e Validação Industrial | I37: 3.05 | K37: =SUM(G37:J37)*L37 -> 0 | L37: =IFERROR(VLOOKUP($B37,Tecnicos!$E$1:$M$26,9,0)*G37,) -> 0 | M37: =IFERROR(VLOOKUP($B37,Tecnicos!$E$1:$M$26,9,0)*H37,) -> 0 | N37: =IFERROR(VLOOKUP($B37,Tecnicos!$E$1:$M$26,9,0)*I37,) -> 9001.5234 | O37: =IFERROR(VLOOKUP($B37,Tecnicos!$E$1:$M$26,9,0)*J37,) -> 0
A38: C4 | B38: C4 - Specialist in information systems, operational planning, and decision-support in industrial environments | D38: Sede | E38: C4 - Specialist in information systems, operational planning, and decision-support in industrial environments | F38: A4 - Testes, Demonstração e Validação Industrial | I38: 3.05 | K38: =SUM(G38:J38)*L38 -> 0 | L38: =IFERROR(VLOOKUP($B38,Tecnicos!$E$1:$M$26,9,0)*G38,) -> 0 | M38: =IFERROR(VLOOKUP($B38,Tecnicos!$E$1:$M$26,9,0)*H38,) -> 0 | N38: =IFERROR(VLOOKUP($B38,Tecnicos!$E$1:$M$26,9,0)*I38,) -> 19132.231 | O38: =IFERROR(VLOOKUP($B38,Tecnicos!$E$1:$M$26,9,0)*J38,) -> 0
A39: D1 | B39: D1 - Specialist in industrial processes, operational improvement, and the implementation of production support methodologies | D39: Sede | E39: D1 - Specialist in industrial processes, operational improvement, and the implementation of production support methodologies | F39: A4 - Testes, Demonstração e Validação Industrial | I39: 2.1 | K39: =SUM(G39:J39)*L39 -> 0 | L39: =IFERROR(VLOOKUP($B39,Tecnicos!$E$1:$M$26,9,0)*G39,) -> 0 | M39: =IFERROR(VLOOKUP($B39,Tecnicos!$E$1:$M$26,9,0)*H39,) -> 0 | N39: =IFERROR(VLOOKUP($B39,Tecnicos!$E$1:$M$26,9,0)*I39,) -> 11091.311 | O39: =IFERROR(VLOOKUP($B39,Tecnicos!$E$1:$M$26,9,0)*J39,) -> 0
A40: D2 | B40: D2 - Specialist in systems architecture, digital traceability, and the development of solutions for information integration and sharing | D40: Sede | E40: D2 - Specialist in systems architecture, digital traceability, and the development of solutions for information integration and sharing | F40: A4 - Testes, Demonstração e Validação Industrial | I40: 2.1 | K40: =SUM(G40:J40)*L40 -> 0 | L40: =IFERROR(VLOOKUP($B40,Tecnicos!$E$1:$M$26,9,0)*G40,) -> 0 | M40: =IFERROR(VLOOKUP($B40,Tecnicos!$E$1:$M$26,9,0)*H40,) -> 0 | N40: =IFERROR(VLOOKUP($B40,Tecnicos!$E$1:$M$26,9,0)*I40,) -> 13189.388 | O40: =IFERROR(VLOOKUP($B40,Tecnicos!$E$1:$M$26,9,0)*J40,) -> 0
A41: D3 | B41: D3 - Specialist in data analysis, quantitative methods, and decision-support for process optimization | D41: Sede | E41: D3 - Specialist in data analysis, quantitative methods, and decision-support for process optimization | F41: A4 - Testes, Demonstração e Validação Industrial | I41: 2.5 | K41: =SUM(G41:J41)*L41 -> 0 | L41: =IFERROR(VLOOKUP($B41,Tecnicos!$E$1:$M$26,9,0)*G41,) -> 0 | M41: =IFERROR(VLOOKUP($B41,Tecnicos!$E$1:$M$26,9,0)*H41,) -> 0 | N41: =IFERROR(VLOOKUP($B41,Tecnicos!$E$1:$M$26,9,0)*I41,) -> 16415.717 | O41: =IFERROR(VLOOKUP($B41,Tecnicos!$E$1:$M$26,9,0)*J41,) -> 0
A42: C5 | B42: C5 - Specialist in software development, systems integration, and digital traceability | D42: Sede | E42: C5 - Specialist in software development, systems integration, and digital traceability | F42: A4 - Testes, Demonstração e Validação Industrial | I42: 5 | K42: =SUM(G42:J42)*L42 -> 0 | L42: =IFERROR(VLOOKUP($B42,Tecnicos!$E$1:$M$26,9,0)*G42,) -> 0 | M42: =IFERROR(VLOOKUP($B42,Tecnicos!$E$1:$M$26,9,0)*H42,) -> 0 | N42: =IFERROR(VLOOKUP($B42,Tecnicos!$E$1:$M$26,9,0)*I42,) -> 17352.758 | O42: =IFERROR(VLOOKUP($B42,Tecnicos!$E$1:$M$26,9,0)*J42,) -> 0
A43: C6 | B43: C6 - Specialist in digital infrastructures and technology development | D43: Sede | E43: C6 - Specialist in digital infrastructures and technology development | F43: A4 - Testes, Demonstração e Validação Industrial | I43: 5 | K43: =SUM(G43:J43)*L43 -> 0 | L43: =IFERROR(VLOOKUP($B43,Tecnicos!$E$1:$M$26,9,0)*G43,) -> 0 | M43: =IFERROR(VLOOKUP($B43,Tecnicos!$E$1:$M$26,9,0)*H43,) -> 0 | N43: =IFERROR(VLOOKUP($B43,Tecnicos!$E$1:$M$26,9,0)*I43,) -> 14008.909 | O43: =IFERROR(VLOOKUP($B43,Tecnicos!$E$1:$M$26,9,0)*J43,) -> 0
A44: D4 | B44: D4 - Specialist in quantitative analysis, performance assessment, and analytical support for results monitoring | D44: Sede | E44: D4 - Specialist in quantitative analysis, performance assessment, and analytical support for results monitoring | F44: A4 - Testes, Demonstração e Validação Industrial | I44: 2.5 | K44: =SUM(G44:J44)*L44 -> 0 | L44: =IFERROR(VLOOKUP($B44,Tecnicos!$E$1:$M$26,9,0)*G44,) -> 0 | M44: =IFERROR(VLOOKUP($B44,Tecnicos!$E$1:$M$26,9,0)*H44,) -> 0 | N44: =IFERROR(VLOOKUP($B44,Tecnicos!$E$1:$M$26,9,0)*I44,) -> 16415.717 | O44: =IFERROR(VLOOKUP($B44,Tecnicos!$E$1:$M$26,9,0)*J44,) -> 0
A45: D5 | B45: D5 - Specialist in operations management, organizational processes, and continuous improvement solutions | D45: Sede | E45: D5 - Specialist in operations management, organizational processes, and continuous improvement solutions | F45: A4 - Testes, Demonstração e Validação Industrial | I45: 2.1 | K45: =SUM(G45:J45)*L45 -> 0 | L45: =IFERROR(VLOOKUP($B45,Tecnicos!$E$1:$M$26,9,0)*G45,) -> 0 | M45: =IFERROR(VLOOKUP($B45,Tecnicos!$E$1:$M$26,9,0)*H45,) -> 0 | N45: =IFERROR(VLOOKUP($B45,Tecnicos!$E$1:$M$26,9,0)*I45,) -> 17086.648 | O45: =IFERROR(VLOOKUP($B45,Tecnicos!$E$1:$M$26,9,0)*J45,) -> 0
A46: C1 | B46: C1 - Specialist in technical coordination and the development of digital solutions to support operations management and optimization | D46: Sede | E46: C1 - Specialist in technical coordination and the development of digital solutions to support operations management and optimization | F46: A5 - Promoção e Disseminação de Resultados | K46: =SUM(G46:J46)*L46 -> 0 | L46: =IFERROR(VLOOKUP($B46,Tecnicos!$E$1:$M$26,9,0)*G46,) -> 0 | M46: =IFERROR(VLOOKUP($B46,Tecnicos!$E$1:$M$26,9,0)*H46,) -> 0 | N46: =IFERROR(VLOOKUP($B46,Tecnicos!$E$1:$M$26,9,0)*I46,) -> 0 | O46: =IFERROR(VLOOKUP($B46,Tecnicos!$E$1:$M$26,9,0)*J46,) -> 0
A47: C2 | B47: C2 - Specialist in digital transformation, process modelling, and the development of technology-based innovation solutions | D47: Sede | E47: C2 - Specialist in digital transformation, process modelling, and the development of technology-based innovation solutions | F47: A5 - Promoção e Disseminação de Resultados | K47: =SUM(G47:J47)*L47 -> 0 | L47: =IFERROR(VLOOKUP($B47,Tecnicos!$E$1:$M$26,9,0)*G47,) -> 0 | M47: =IFERROR(VLOOKUP($B47,Tecnicos!$E$1:$M$26,9,0)*H47,) -> 0 | N47: =IFERROR(VLOOKUP($B47,Tecnicos!$E$1:$M$26,9,0)*I47,) -> 0 | O47: =IFERROR(VLOOKUP($B47,Tecnicos!$E$1:$M$26,9,0)*J47,) -> 0
A48: C3 | B48: C3 - Specialist in software engineering, data integration, and the development of interoperable digital platforms | D48: Sede | E48: C3 - Specialist in software engineering, data integration, and the development of interoperable digital platforms | F48: A5 - Promoção e Disseminação de Resultados | K48: =SUM(G48:J48)*L48 -> 0 | L48: =IFERROR(VLOOKUP($B48,Tecnicos!$E$1:$M$26,9,0)*G48,) -> 0 | M48: =IFERROR(VLOOKUP($B48,Tecnicos!$E$1:$M$26,9,0)*H48,) -> 0 | N48: =IFERROR(VLOOKUP($B48,Tecnicos!$E$1:$M$26,9,0)*I48,) -> 0 | O48: =IFERROR(VLOOKUP($B48,Tecnicos!$E$1:$M$26,9,0)*J48,) -> 0
A49: C4 | B49: C4 - Specialist in information systems, operational planning, and decision-support in industrial environments | D49: Sede | E49: C4 - Specialist in information systems, operational planning, and decision-support in industrial environments | F49: A5 - Promoção e Disseminação de Resultados | K49: =SUM(G49:J49)*L49 -> 0 | L49: =IFERROR(VLOOKUP($B49,Tecnicos!$E$1:$M$26,9,0)*G49,) -> 0 | M49: =IFERROR(VLOOKUP($B49,Tecnicos!$E$1:$M$26,9,0)*H49,) -> 0 | N49: =IFERROR(VLOOKUP($B49,Tecnicos!$E$1:$M$26,9,0)*I49,) -> 0 | O49: =IFERROR(VLOOKUP($B49,Tecnicos!$E$1:$M$26,9,0)*J49,) -> 0
A50: D1 | B50: D1 - Specialist in industrial processes, operational improvement, and the implementation of production support methodologies | D50: Sede | E50: D1 - Specialist in industrial processes, operational improvement, and the implementation of production support methodologies | F50: A5 - Promoção e Disseminação de Resultados | H50: 0.2 | I50: 0.5 | K50: =SUM(G50:J50)*L50 -> 0 | L50: =IFERROR(VLOOKUP($B50,Tecnicos!$E$1:$M$26,9,0)*G50,) -> 0 | M50: =IFERROR(VLOOKUP($B50,Tecnicos!$E$1:$M$26,9,0)*H50,) -> 1056.3153 | N50: =IFERROR(VLOOKUP($B50,Tecnicos!$E$1:$M$26,9,0)*I50,) -> 2640.7883 | O50: =IFERROR(VLOOKUP($B50,Tecnicos!$E$1:$M$26,9,0)*J50,) -> 0
A51: D2 | B51: D2 - Specialist in systems architecture, digital traceability, and the development of solutions for information integration and sharing | D51: Sede | E51: D2 - Specialist in systems architecture, digital traceability, and the development of solutions for information integration and sharing | F51: A5 - Promoção e Disseminação de Resultados | K51: =SUM(G51:J51)*L51 -> 0 | L51: =IFERROR(VLOOKUP($B51,Tecnicos!$E$1:$M$26,9,0)*G51,) -> 0 | M51: =IFERROR(VLOOKUP($B51,Tecnicos!$E$1:$M$26,9,0)*H51,) -> 0 | N51: =IFERROR(VLOOKUP($B51,Tecnicos!$E$1:$M$26,9,0)*I51,) -> 0 | O51: =IFERROR(VLOOKUP($B51,Tecnicos!$E$1:$M$26,9,0)*J51,) -> 0
A52: D3 | B52: D3 - Specialist in data analysis, quantitative methods, and decision-support for process optimization | D52: Sede | E52: D3 - Specialist in data analysis, quantitative methods, and decision-support for process optimization | F52: A5 - Promoção e Disseminação de Resultados | H52: 0.2 | I52: 0.5 | K52: =SUM(G52:J52)*L52 -> 0 | L52: =IFERROR(VLOOKUP($B52,Tecnicos!$E$1:$M$26,9,0)*G52,) -> 0 | M52: =IFERROR(VLOOKUP($B52,Tecnicos!$E$1:$M$26,9,0)*H52,) -> 1313.2574 | N52: =IFERROR(VLOOKUP($B52,Tecnicos!$E$1:$M$26,9,0)*I52,) -> 3283.1435 | O52: =IFERROR(VLOOKUP($B52,Tecnicos!$E$1:$M$26,9,0)*J52,) -> 0
A53: C5 | B53: C5 - Specialist in software development, systems integration, and digital traceability | D53: Sede | E53: C5 - Specialist in software development, systems integration, and digital traceability | F53: A5 - Promoção e Disseminação de Resultados | K53: =SUM(G53:J53)*L53 -> 0 | L53: =IFERROR(VLOOKUP($B53,Tecnicos!$E$1:$M$26,9,0)*G53,) -> 0 | M53: =IFERROR(VLOOKUP($B53,Tecnicos!$E$1:$M$26,9,0)*H53,) -> 0 | N53: =IFERROR(VLOOKUP($B53,Tecnicos!$E$1:$M$26,9,0)*I53,) -> 0 | O53: =IFERROR(VLOOKUP($B53,Tecnicos!$E$1:$M$26,9,0)*J53,) -> 0
A54: C6 | B54: C6 - Specialist in digital infrastructures and technology development | D54: Sede | E54: C6 - Specialist in digital infrastructures and technology development | F54: A5 - Promoção e Disseminação de Resultados | K54: =SUM(G54:J54)*L54 -> 0 | L54: =IFERROR(VLOOKUP($B54,Tecnicos!$E$1:$M$26,9,0)*G54,) -> 0 | M54: =IFERROR(VLOOKUP($B54,Tecnicos!$E$1:$M$26,9,0)*H54,) -> 0 | N54: =IFERROR(VLOOKUP($B54,Tecnicos!$E$1:$M$26,9,0)*I54,) -> 0 | O54: =IFERROR(VLOOKUP($B54,Tecnicos!$E$1:$M$26,9,0)*J54,) -> 0
A55: D4 | B55: D4 - Specialist in quantitative analysis, performance assessment, and analytical support for results monitoring | D55: Sede | E55: D4 - Specialist in quantitative analysis, performance assessment, and analytical support for results monitoring | F55: A5 - Promoção e Disseminação de Resultados | H55: 0.2 | I55: 0.5 | K55: =SUM(G55:J55)*L55 -> 0 | L55: =IFERROR(VLOOKUP($B55,Tecnicos!$E$1:$M$26,9,0)*G55,) -> 0 | M55: =IFERROR(VLOOKUP($B55,Tecnicos!$E$1:$M$26,9,0)*H55,) -> 1313.2574 | N55: =IFERROR(VLOOKUP($B55,Tecnicos!$E$1:$M$26,9,0)*I55,) -> 3283.1435 | O55: =IFERROR(VLOOKUP($B55,Tecnicos!$E$1:$M$26,9,0)*J55,) -> 0
A56: D5 | B56: D5 - Specialist in operations management, organizational processes, and continuous improvement solutions | D56: Sede | E56: D5 - Specialist in operations management, organizational processes, and continuous improvement solutions | F56: A5 - Promoção e Disseminação de Resultados | K56: =SUM(G56:J56)*L56 -> 0 | L56: =IFERROR(VLOOKUP($B56,Tecnicos!$E$1:$M$26,9,0)*G56,) -> 0 | M56: =IFERROR(VLOOKUP($B56,Tecnicos!$E$1:$M$26,9,0)*H56,) -> 0 | N56: =IFERROR(VLOOKUP($B56,Tecnicos!$E$1:$M$26,9,0)*I56,) -> 0 | O56: =IFERROR(VLOOKUP($B56,Tecnicos!$E$1:$M$26,9,0)*J56,) -> 0
A57: C5 | B57: C5 - Specialist in software development, systems integration, and digital traceability | D57: Sede | E57: C5 - Specialist in software development, systems integration, and digital traceability | F57: A6 - Gestão Técnica do Projeto | G57: 1 | H57: 1 | I57: 1 | K57: =SUM(G57:J57)*L57 -> 10411.655 | L57: =IFERROR(VLOOKUP($B57,Tecnicos!$E$1:$M$26,9,0)*G57,) -> 3470.5516 | M57: =IFERROR(VLOOKUP($B57,Tecnicos!$E$1:$M$26,9,0)*H57,) -> 3470.5516 | N57: =IFERROR(VLOOKUP($B57,Tecnicos!$E$1:$M$26,9,0)*I57,) -> 3470.5516 | O57: =IFERROR(VLOOKUP($B57,Tecnicos!$E$1:$M$26,9,0)*J57,) -> 0
A58: C7 | B58: C7 - Specialist in Spectral imaging and chemical sensing | D58: Pólo Ciências | E58: C7 - Specialist in Spectral imaging and chemical sensing | F58: A1-Diagnóstico, Mapeamento e Especificação do Sistema | G58: 5 | K58: =SUM(G58:J58)*L58 -> 97284.091 | L58: =IFERROR(VLOOKUP($B58,Tecnicos!$E$1:$M$26,9,0)*G58,) -> 19456.818 | M58: =IFERROR(VLOOKUP($B58,Tecnicos!$E$1:$M$26,9,0)*H58,) -> 0 | N58: =IFERROR(VLOOKUP($B58,Tecnicos!$E$1:$M$26,9,0)*I58,) -> 0 | O58: =IFERROR(VLOOKUP($B58,Tecnicos!$E$1:$M$26,9,0)*J58,) -> 0
A59: C8 | B59: C8 - Specialist in Optical Sensors and Integration | D59: Pólo Ciências | E59: C8 - Specialist in Optical Sensors and Integration | F59: A1-Diagnóstico, Mapeamento e Especificação do Sistema | G59: 5 | K59: =SUM(G59:J59)*L59 -> 97284.091 | L59: =IFERROR(VLOOKUP($B59,Tecnicos!$E$1:$M$26,9,0)*G59,) -> 19456.818 | M59: =IFERROR(VLOOKUP($B59,Tecnicos!$E$1:$M$26,9,0)*H59,) -> 0 | N59: =IFERROR(VLOOKUP($B59,Tecnicos!$E$1:$M$26,9,0)*I59,) -> 0 | O59: =IFERROR(VLOOKUP($B59,Tecnicos!$E$1:$M$26,9,0)*J59,) -> 0
A60: C9 | B60: C9 - Specialist in Spectral imaging for Mining Applications | D60: Pólo Ciências | E60: C9 - Specialist in Spectral imaging for Mining Applications | F60: A1-Diagnóstico, Mapeamento e Especificação do Sistema | G60: 3 | K60: =SUM(G60:J60)*L60 -> 35022.273 | L60: =IFERROR(VLOOKUP($B60,Tecnicos!$E$1:$M$26,9,0)*G60,) -> 11674.091 | M60: =IFERROR(VLOOKUP($B60,Tecnicos!$E$1:$M$26,9,0)*H60,) -> 0 | N60: =IFERROR(VLOOKUP($B60,Tecnicos!$E$1:$M$26,9,0)*I60,) -> 0 | O60: =IFERROR(VLOOKUP($B60,Tecnicos!$E$1:$M$26,9,0)*J60,) -> 0
A61: D6 | B61: D6 - Specialist in AI | D61: Pólo Ciências | E61: D6 - Specialist in AI | F61: A1-Diagnóstico, Mapeamento e Especificação do Sistema | G61: 1 | K61: =SUM(G61:J61)*L61 -> 5759.2182 | L61: =IFERROR(VLOOKUP($B61,Tecnicos!$E$1:$M$26,9,0)*G61,) -> 5759.2182 | M61: =IFERROR(VLOOKUP($B61,Tecnicos!$E$1:$M$26,9,0)*H61,) -> 0 | N61: =IFERROR(VLOOKUP($B61,Tecnicos!$E$1:$M$26,9,0)*I61,) -> 0 | O61: =IFERROR(VLOOKUP($B61,Tecnicos!$E$1:$M$26,9,0)*J61,) -> 0
A62: D7 | B62: D7 - Specialist in AI | D62: Pólo Ciências | E62: D7 - Specialist in AI | F62: A1-Diagnóstico, Mapeamento e Especificação do Sistema | G62: 1 | K62: =SUM(G62:J62)*L62 -> 5447.9091 | L62: =IFERROR(VLOOKUP($B62,Tecnicos!$E$1:$M$26,9,0)*G62,) -> 5447.9091 | M62: =IFERROR(VLOOKUP($B62,Tecnicos!$E$1:$M$26,9,0)*H62,) -> 0 | N62: =IFERROR(VLOOKUP($B62,Tecnicos!$E$1:$M$26,9,0)*I62,) -> 0 | O62: =IFERROR(VLOOKUP($B62,Tecnicos!$E$1:$M$26,9,0)*J62,) -> 0
A63: C7 | B63: C7 - Specialist in Spectral imaging and chemical sensing | D63: Pólo Ciências | E63: C7 - Specialist in Spectral imaging and chemical sensing | F63: A2- Desenvolvimento dos Modelos, Métodos e Protótipos | G63: 5 | H63: 5 | K63: =SUM(G63:J63)*L63 -> 194568.18 | L63: =IFERROR(VLOOKUP($B63,Tecnicos!$E$1:$M$26,9,0)*G63,) -> 19456.818 | M63: =IFERROR(VLOOKUP($B63,Tecnicos!$E$1:$M$26,9,0)*H63,) -> 19456.818 | N63: =IFERROR(VLOOKUP($B63,Tecnicos!$E$1:$M$26,9,0)*I63,) -> 0 | O63: =IFERROR(VLOOKUP($B63,Tecnicos!$E$1:$M$26,9,0)*J63,) -> 0
A64: C8 | B64: C8 - Specialist in Optical Sensors and Integration | D64: Pólo Ciências | E64: C8 - Specialist in Optical Sensors and Integration | F64: A2- Desenvolvimento dos Modelos, Métodos e Protótipos | G64: 5 | H64: 5 | K64: =SUM(G64:J64)*L64 -> 194568.18 | L64: =IFERROR(VLOOKUP($B64,Tecnicos!$E$1:$M$26,9,0)*G64,) -> 19456.818 | M64: =IFERROR(VLOOKUP($B64,Tecnicos!$E$1:$M$26,9,0)*H64,) -> 19456.818 | N64: =IFERROR(VLOOKUP($B64,Tecnicos!$E$1:$M$26,9,0)*I64,) -> 0 | O64: =IFERROR(VLOOKUP($B64,Tecnicos!$E$1:$M$26,9,0)*J64,) -> 0
A65: C9 | B65: C9 - Specialist in Spectral imaging for Mining Applications | D65: Pólo Ciências | E65: C9 - Specialist in Spectral imaging for Mining Applications | F65: A2- Desenvolvimento dos Modelos, Métodos e Protótipos | G65: 3 | H65: 3 | K65: =SUM(G65:J65)*L65 -> 70044.545 | L65: =IFERROR(VLOOKUP($B65,Tecnicos!$E$1:$M$26,9,0)*G65,) -> 11674.091 | M65: =IFERROR(VLOOKUP($B65,Tecnicos!$E$1:$M$26,9,0)*H65,) -> 11674.091 | N65: =IFERROR(VLOOKUP($B65,Tecnicos!$E$1:$M$26,9,0)*I65,) -> 0 | O65: =IFERROR(VLOOKUP($B65,Tecnicos!$E$1:$M$26,9,0)*J65,) -> 0
A66: D6 | B66: D6 - Specialist in AI | D66: Pólo Ciências | E66: D6 - Specialist in AI | F66: A2- Desenvolvimento dos Modelos, Métodos e Protótipos | G66: 1 | H66: 1 | K66: =SUM(G66:J66)*L66 -> 11518.436 | L66: =IFERROR(VLOOKUP($B66,Tecnicos!$E$1:$M$26,9,0)*G66,) -> 5759.2182 | M66: =IFERROR(VLOOKUP($B66,Tecnicos!$E$1:$M$26,9,0)*H66,) -> 5759.2182 | N66: =IFERROR(VLOOKUP($B66,Tecnicos!$E$1:$M$26,9,0)*I66,) -> 0 | O66: =IFERROR(VLOOKUP($B66,Tecnicos!$E$1:$M$26,9,0)*J66,) -> 0
A67: D7 | B67: D7 - Specialist in AI | D67: Pólo Ciências | E67: D7 - Specialist in AI | F67: A2- Desenvolvimento dos Modelos, Métodos e Protótipos | G67: 1 | H67: 1 | K67: =SUM(G67:J67)*L67 -> 10895.818 | L67: =IFERROR(VLOOKUP($B67,Tecnicos!$E$1:$M$26,9,0)*G67,) -> 5447.9091 | M67: =IFERROR(VLOOKUP($B67,Tecnicos!$E$1:$M$26,9,0)*H67,) -> 5447.9091 | N67: =IFERROR(VLOOKUP($B67,Tecnicos!$E$1:$M$26,9,0)*I67,) -> 0 | O67: =IFERROR(VLOOKUP($B67,Tecnicos!$E$1:$M$26,9,0)*J67,) -> 0
A68: C10 | B68: C10 - Specialist in Hardware Design and Integration | D68: Pólo Ciências | E68: C10 - Specialist in Hardware Design and Integration | F68: A2- Desenvolvimento dos Modelos, Métodos e Protótipos | G68: 6 | H68: 6 | K68: =SUM(G68:J68)*L68 -> 127843.72 | L68: =IFERROR(VLOOKUP($B68,Tecnicos!$E$1:$M$26,9,0)*G68,) -> 10653.644 | M68: =IFERROR(VLOOKUP($B68,Tecnicos!$E$1:$M$26,9,0)*H68,) -> 10653.644 | N68: =IFERROR(VLOOKUP($B68,Tecnicos!$E$1:$M$26,9,0)*I68,) -> 0 | O68: =IFERROR(VLOOKUP($B68,Tecnicos!$E$1:$M$26,9,0)*J68,) -> 0
A69: C7 | B69: C7 - Specialist in Spectral imaging and chemical sensing | D69: Pólo Ciências | E69: C7 - Specialist in Spectral imaging and chemical sensing | F69: A3 - Instalação, Integração e Implementação Piloto | H69: 5 | I69: 3 | K69: =SUM(G69:J69)*L69 -> 0 | L69: =IFERROR(VLOOKUP($B69,Tecnicos!$E$1:$M$26,9,0)*G69,) -> 0 | M69: =IFERROR(VLOOKUP($B69,Tecnicos!$E$1:$M$26,9,0)*H69,) -> 19456.818 | N69: =IFERROR(VLOOKUP($B69,Tecnicos!$E$1:$M$26,9,0)*I69,) -> 11674.091 | O69: =IFERROR(VLOOKUP($B69,Tecnicos!$E$1:$M$26,9,0)*J69,) -> 0
A70: C8 | B70: C8 - Specialist in Optical Sensors and Integration | D70: Pólo Ciências | E70: C8 - Specialist in Optical Sensors and Integration | F70: A3 - Instalação, Integração e Implementação Piloto | H70: 5 | I70: 3 | K70: =SUM(G70:J70)*L70 -> 0 | L70: =IFERROR(VLOOKUP($B70,Tecnicos!$E$1:$M$26,9,0)*G70,) -> 0 | M70: =IFERROR(VLOOKUP($B70,Tecnicos!$E$1:$M$26,9,0)*H70,) -> 19456.818 | N70: =IFERROR(VLOOKUP($B70,Tecnicos!$E$1:$M$26,9,0)*I70,) -> 11674.091 | O70: =IFERROR(VLOOKUP($B70,Tecnicos!$E$1:$M$26,9,0)*J70,) -> 0
A71: C9 | B71: C9 - Specialist in Spectral imaging for Mining Applications | D71: Pólo Ciências | E71: C9 - Specialist in Spectral imaging for Mining Applications | F71: A3 - Instalação, Integração e Implementação Piloto | H71: 3 | I71: 3 | K71: =SUM(G71:J71)*L71 -> 0 | L71: =IFERROR(VLOOKUP($B71,Tecnicos!$E$1:$M$26,9,0)*G71,) -> 0 | M71: =IFERROR(VLOOKUP($B71,Tecnicos!$E$1:$M$26,9,0)*H71,) -> 11674.091 | N71: =IFERROR(VLOOKUP($B71,Tecnicos!$E$1:$M$26,9,0)*I71,) -> 11674.091 | O71: =IFERROR(VLOOKUP($B71,Tecnicos!$E$1:$M$26,9,0)*J71,) -> 0
A72: D6 | B72: D6 - Specialist in AI | D72: Pólo Ciências | E72: D6 - Specialist in AI | F72: A3 - Instalação, Integração e Implementação Piloto | H72: 1 | I72: 1 | K72: =SUM(G72:J72)*L72 -> 0 | L72: =IFERROR(VLOOKUP($B72,Tecnicos!$E$1:$M$26,9,0)*G72,) -> 0 | M72: =IFERROR(VLOOKUP($B72,Tecnicos!$E$1:$M$26,9,0)*H72,) -> 5759.2182 | N72: =IFERROR(VLOOKUP($B72,Tecnicos!$E$1:$M$26,9,0)*I72,) -> 5759.2182 | O72: =IFERROR(VLOOKUP($B72,Tecnicos!$E$1:$M$26,9,0)*J72,) -> 0
A73: D7 | B73: D7 - Specialist in AI | D73: Pólo Ciências | E73: D7 - Specialist in AI | F73: A3 - Instalação, Integração e Implementação Piloto | H73: 1 | I73: 1 | K73: =SUM(G73:J73)*L73 -> 0 | L73: =IFERROR(VLOOKUP($B73,Tecnicos!$E$1:$M$26,9,0)*G73,) -> 0 | M73: =IFERROR(VLOOKUP($B73,Tecnicos!$E$1:$M$26,9,0)*H73,) -> 5447.9091 | N73: =IFERROR(VLOOKUP($B73,Tecnicos!$E$1:$M$26,9,0)*I73,) -> 5447.9091 | O73: =IFERROR(VLOOKUP($B73,Tecnicos!$E$1:$M$26,9,0)*J73,) -> 0
A74: C11 | B74: C11 - Specialist in Signal Processing | D74: Pólo Ciências | E74: C11 - Specialist in Signal Processing | F74: A3 - Instalação, Integração e Implementação Piloto | H74: 6 | I74: 3 | K74: =SUM(G74:J74)*L74 -> 0 | L74: =IFERROR(VLOOKUP($B74,Tecnicos!$E$1:$M$26,9,0)*G74,) -> 0 | M74: =IFERROR(VLOOKUP($B74,Tecnicos!$E$1:$M$26,9,0)*H74,) -> 10653.644 | N74: =IFERROR(VLOOKUP($B74,Tecnicos!$E$1:$M$26,9,0)*I74,) -> 5326.8218 | O74: =IFERROR(VLOOKUP($B74,Tecnicos!$E$1:$M$26,9,0)*J74,) -> 0
A75: C7 | B75: C7 - Specialist in Spectral imaging and chemical sensing | D75: Pólo Ciências | E75: C7 - Specialist in Spectral imaging and chemical sensing | F75: A4 - Testes, Demonstração e Validação Industrial | I75: 3 | K75: =SUM(G75:J75)*L75 -> 0 | L75: =IFERROR(VLOOKUP($B75,Tecnicos!$E$1:$M$26,9,0)*G75,) -> 0 | M75: =IFERROR(VLOOKUP($B75,Tecnicos!$E$1:$M$26,9,0)*H75,) -> 0 | N75: =IFERROR(VLOOKUP($B75,Tecnicos!$E$1:$M$26,9,0)*I75,) -> 11674.091 | O75: =IFERROR(VLOOKUP($B75,Tecnicos!$E$1:$M$26,9,0)*J75,) -> 0
A76: C8 | B76: C8 - Specialist in Optical Sensors and Integration | D76: Pólo Ciências | E76: C8 - Specialist in Optical Sensors and Integration | F76: A4 - Testes, Demonstração e Validação Industrial | I76: 2 | K76: =SUM(G76:J76)*L76 -> 0 | L76: =IFERROR(VLOOKUP($B76,Tecnicos!$E$1:$M$26,9,0)*G76,) -> 0 | M76: =IFERROR(VLOOKUP($B76,Tecnicos!$E$1:$M$26,9,0)*H76,) -> 0 | N76: =IFERROR(VLOOKUP($B76,Tecnicos!$E$1:$M$26,9,0)*I76,) -> 7782.7273 | O76: =IFERROR(VLOOKUP($B76,Tecnicos!$E$1:$M$26,9,0)*J76,) -> 0
A77: C9 | B77: C9 - Specialist in Spectral imaging for Mining Applications | D77: Pólo Ciências | E77: C9 - Specialist in Spectral imaging for Mining Applications | F77: A4 - Testes, Demonstração e Validação Industrial | I77: 3 | K77: =SUM(G77:J77)*L77 -> 0 | L77: =IFERROR(VLOOKUP($B77,Tecnicos!$E$1:$M$26,9,0)*G77,) -> 0 | M77: =IFERROR(VLOOKUP($B77,Tecnicos!$E$1:$M$26,9,0)*H77,) -> 0 | N77: =IFERROR(VLOOKUP($B77,Tecnicos!$E$1:$M$26,9,0)*I77,) -> 11674.091 | O77: =IFERROR(VLOOKUP($B77,Tecnicos!$E$1:$M$26,9,0)*J77,) -> 0
A78: D6 | B78: D6 - Specialist in AI | D78: Pólo Ciências | E78: D6 - Specialist in AI | F78: A4 - Testes, Demonstração e Validação Industrial | I78: 1 | K78: =SUM(G78:J78)*L78 -> 0 | L78: =IFERROR(VLOOKUP($B78,Tecnicos!$E$1:$M$26,9,0)*G78,) -> 0 | M78: =IFERROR(VLOOKUP($B78,Tecnicos!$E$1:$M$26,9,0)*H78,) -> 0 | N78: =IFERROR(VLOOKUP($B78,Tecnicos!$E$1:$M$26,9,0)*I78,) -> 5759.2182 | O78: =IFERROR(VLOOKUP($B78,Tecnicos!$E$1:$M$26,9,0)*J78,) -> 0
A79: D7 | B79: D7 - Specialist in AI | D79: Pólo Ciências | E79: D7 - Specialist in AI | F79: A4 - Testes, Demonstração e Validação Industrial | I79: 1 | K79: =SUM(G79:J79)*L79 -> 0 | L79: =IFERROR(VLOOKUP($B79,Tecnicos!$E$1:$M$26,9,0)*G79,) -> 0 | M79: =IFERROR(VLOOKUP($B79,Tecnicos!$E$1:$M$26,9,0)*H79,) -> 0 | N79: =IFERROR(VLOOKUP($B79,Tecnicos!$E$1:$M$26,9,0)*I79,) -> 5447.9091 | O79: =IFERROR(VLOOKUP($B79,Tecnicos!$E$1:$M$26,9,0)*J79,) -> 0
A80: C11 | B80: C11 - Specialist in Signal Processing | D80: Pólo Ciências | E80: C11 - Specialist in Signal Processing | F80: A4 - Testes, Demonstração e Validação Industrial | I80: 3 | K80: =SUM(G80:J80)*L80 -> 0 | L80: =IFERROR(VLOOKUP($B80,Tecnicos!$E$1:$M$26,9,0)*G80,) -> 0 | M80: =IFERROR(VLOOKUP($B80,Tecnicos!$E$1:$M$26,9,0)*H80,) -> 0 | N80: =IFERROR(VLOOKUP($B80,Tecnicos!$E$1:$M$26,9,0)*I80,) -> 5326.8218 | O80: =IFERROR(VLOOKUP($B80,Tecnicos!$E$1:$M$26,9,0)*J80,) -> 0
A81: C1 | B81: C1 - Specialist in technical coordination and the development of digital solutions to support operations management and optimization | D81: Pólo Ciências | E81: C1 - Specialist in technical coordination and the development of digital solutions to support operations management and optimization | F81: A5 - Promoção e Disseminação de Resultados | K81: =SUM(G81:J81)*L81 -> 0 | L81: =IFERROR(VLOOKUP($B81,Tecnicos!$E$1:$M$26,9,0)*G81,) -> 0 | M81: =IFERROR(VLOOKUP($B81,Tecnicos!$E$1:$M$26,9,0)*H81,) -> 0 | N81: =IFERROR(VLOOKUP($B81,Tecnicos!$E$1:$M$26,9,0)*I81,) -> 0 | O81: =IFERROR(VLOOKUP($B81,Tecnicos!$E$1:$M$26,9,0)*J81,) -> 0
A82: C2 | B82: C2 - Specialist in digital transformation, process modelling, and the development of technology-based innovation solutions | D82: Pólo Ciências | E82: C2 - Specialist in digital transformation, process modelling, and the development of technology-based innovation solutions | F82: A5 - Promoção e Disseminação de Resultados | K82: =SUM(G82:J82)*L82 -> 0 | L82: =IFERROR(VLOOKUP($B82,Tecnicos!$E$1:$M$26,9,0)*G82,) -> 0 | M82: =IFERROR(VLOOKUP($B82,Tecnicos!$E$1:$M$26,9,0)*H82,) -> 0 | N82: =IFERROR(VLOOKUP($B82,Tecnicos!$E$1:$M$26,9,0)*I82,) -> 0 | O82: =IFERROR(VLOOKUP($B82,Tecnicos!$E$1:$M$26,9,0)*J82,) -> 0
A83: C3 | B83: C3 - Specialist in software engineering, data integration, and the development of interoperable digital platforms | D83: Pólo Ciências | E83: C3 - Specialist in software engineering, data integration, and the development of interoperable digital platforms | F83: A5 - Promoção e Disseminação de Resultados | K83: =SUM(G83:J83)*L83 -> 0 | L83: =IFERROR(VLOOKUP($B83,Tecnicos!$E$1:$M$26,9,0)*G83,) -> 0 | M83: =IFERROR(VLOOKUP($B83,Tecnicos!$E$1:$M$26,9,0)*H83,) -> 0 | N83: =IFERROR(VLOOKUP($B83,Tecnicos!$E$1:$M$26,9,0)*I83,) -> 0 | O83: =IFERROR(VLOOKUP($B83,Tecnicos!$E$1:$M$26,9,0)*J83,) -> 0
A84: C4 | B84: C4 - Specialist in information systems, operational planning, and decision-support in industrial environments | D84: Pólo Ciências | E84: C4 - Specialist in information systems, operational planning, and decision-support in industrial environments | F84: A5 - Promoção e Disseminação de Resultados | K84: =SUM(G84:J84)*L84 -> 0 | L84: =IFERROR(VLOOKUP($B84,Tecnicos!$E$1:$M$26,9,0)*G84,) -> 0 | M84: =IFERROR(VLOOKUP($B84,Tecnicos!$E$1:$M$26,9,0)*H84,) -> 0 | N84: =IFERROR(VLOOKUP($B84,Tecnicos!$E$1:$M$26,9,0)*I84,) -> 0 | O84: =IFERROR(VLOOKUP($B84,Tecnicos!$E$1:$M$26,9,0)*J84,) -> 0
A85: C7 | B85: C7 - Specialist in Spectral imaging and chemical sensing | D85: Pólo Ciências | E85: C7 - Specialist in Spectral imaging and chemical sensing | F85: A5 - Promoção e Disseminação de Resultados | G85: 1 | H85: 1 | I85: 1 | K85: =SUM(G85:J85)*L85 -> 11674.091 | L85: =IFERROR(VLOOKUP($B85,Tecnicos!$E$1:$M$26,9,0)*G85,) -> 3891.3636 | M85: =IFERROR(VLOOKUP($B85,Tecnicos!$E$1:$M$26,9,0)*H85,) -> 3891.3636 | N85: =IFERROR(VLOOKUP($B85,Tecnicos!$E$1:$M$26,9,0)*I85,) -> 3891.3636 | O85: =IFERROR(VLOOKUP($B85,Tecnicos!$E$1:$M$26,9,0)*J85,) -> 0
A86: C8 | B86: C8 - Specialist in Optical Sensors and Integration | D86: Pólo Ciências | E86: C8 - Specialist in Optical Sensors and Integration | F86: A5 - Promoção e Disseminação de Resultados | G86: 1 | H86: 1 | I86: 1 | K86: =SUM(G86:J86)*L86 -> 11674.091 | L86: =IFERROR(VLOOKUP($B86,Tecnicos!$E$1:$M$26,9,0)*G86,) -> 3891.3636 | M86: =IFERROR(VLOOKUP($B86,Tecnicos!$E$1:$M$26,9,0)*H86,) -> 3891.3636 | N86: =IFERROR(VLOOKUP($B86,Tecnicos!$E$1:$M$26,9,0)*I86,) -> 3891.3636 | O86: =IFERROR(VLOOKUP($B86,Tecnicos!$E$1:$M$26,9,0)*J86,) -> 0
A87: D7 | B87: D7 - Specialist in AI | D87: Pólo Ciências | E87: D7 - Specialist in AI | F87: A5 - Promoção e Disseminação de Resultados | G87: 1 | H87: 1 | I87: 1 | K87: =SUM(G87:J87)*L87 -> 16343.727 | L87: =IFERROR(VLOOKUP($B87,Tecnicos!$E$1:$M$26,9,0)*G87,) -> 5447.9091 | M87: =IFERROR(VLOOKUP($B87,Tecnicos!$E$1:$M$26,9,0)*H87,) -> 5447.9091 | N87: =IFERROR(VLOOKUP($B87,Tecnicos!$E$1:$M$26,9,0)*I87,) -> 5447.9091 | O87: =IFERROR(VLOOKUP($B87,Tecnicos!$E$1:$M$26,9,0)*J87,) -> 0
A88: D6 | B88: D6 - Specialist in AI | D88: Pólo Ciências | E88: D6 - Specialist in AI | F88: A6 - Gestão Técnica do Projeto | G88: 1 | H88: 1 | I88: 1 | K88: =SUM(G88:J88)*L88 -> 17277.655 | L88: =IFERROR(VLOOKUP($B88,Tecnicos!$E$1:$M$26,9,0)*G88,) -> 5759.2182 | M88: =IFERROR(VLOOKUP($B88,Tecnicos!$E$1:$M$26,9,0)*H88,) -> 5759.2182 | N88: =IFERROR(VLOOKUP($B88,Tecnicos!$E$1:$M$26,9,0)*I88,) -> 5759.2182 | O88: =IFERROR(VLOOKUP($B88,Tecnicos!$E$1:$M$26,9,0)*J88,) -> 0
F89: A7 - Industrialização, Inovação Produtiva e Scale-up Industrial
K90: C.Total/Ano | L90: =SUM(L2:L89) -> 420997.38 | M90: =SUM(M2:M89) -> 431651.02 | N90: =SUM(N2:N89) -> 386503.26 | O90: =SUM(O2:O89) -> 0 | R90: =SUM(L90:N90) -> 1239151.7
H93: =(G7+G8+G11)/SUM(G2:G11) -> 0.21621622
M94: 803820.67 | O94: =M94+O96 -> 846068.01
M95: 435330.99
M96: =M95+M94 -> 1239151.7 | N96: 1281399 | O96: =N96-M96 -> 42247.34

Sheet Custos
A1: ID | B1: Âmbito | C1: N.º | D1: Beneficiário | E1: Estab. | F1: Ativ. | G1: Designação | H1: Rubrica | I1: Ano | J1: Mês | K1: Custo | L1: EF | N1: SYSTEM | O1: CAP
H2: Custos com Pessoal | I2: 2027 | K2: =Pessoal!L90 -> 420997.38
H3: Custos com Pessoal | I3: 2028 | K3: =Pessoal!M90 -> 431651.02
H4: Custos com Pessoal | I4: 2029 | K4: =Pessoal!N90 -> 386503.26
H5: Custos com Pessoal | I5: 2030 | K5: =Pessoal!O90 -> 0 | N5: =SUM(Pessoal!L2:O57) -> 803820.67 | O5: =SUM(Pessoal!L58:O88) -> 435330.99
D6: INESC TEC | E6: Sede | F6: A2- Desenvolvimento dos Modelos, Métodos e Protótipos | H6: Equipamento informático | I6: 2027 | J6: 4 | K6: 20000 | N6: =K6 -> 20000
D7: INESC TEC | E7: Sede | F7: A2- Desenvolvimento dos Modelos, Métodos e Protótipos | H7: Software e licenças | I7: 2027 | J7: 4 | K7: 15000 | N7: =K7 -> 15000
D8: INESC TEC | E8: Sede | F8: A3 - Instalação, Integração e Implementação Piloto | H8: Software e licenças | I8: 2028 | J8: 1 | K8: 15000 | N8: =K8 -> 15000
D9: INESC TEC | E9: Sede | F9: A3 - Instalação, Integração e Implementação Piloto | H9: Software e licenças | I9: 2029 | J9: 1 | K9: 15000 | N9: =K9 -> 15000
D10: INESC TEC | E10: Sede | F10: A5 - Promoção e Disseminação de Resultados | H10: Seminários e Conferências | I10: 2028 | J10: 1 | K10: 1500 | N10: =K10 -> 1500
D11: INESC TEC | E11: Sede | F11: A5 - Promoção e Disseminação de Resultados | H11: Seminários e Conferências | I11: 2029 | J11: 1 | K11: 1500 | N11: =K11 -> 1500
D12: INESC TEC | E12: Sede | F12: A5 - Promoção e Disseminação de Resultados | H12: Deslocações | I12: 2028 | J12: 1 | K12: 2000 | N12: =K12 -> 2000
D13: INESC TEC | E13: Sede | F13: A5 - Promoção e Disseminação de Resultados | H13: Deslocações | I13: 2029 | J13: 1 | K13: 2000 | N13: =K13 -> 2000
D14: INESC TEC | E14: Sede | F14: A5 - Promoção e Disseminação de Resultados | H14: Estadias | I14: 2028 | J14: 1 | K14: 2000 | N14: =K14 -> 2000
D15: INESC TEC | E15: Sede | F15: A5 - Promoção e Disseminação de Resultados | H15: Estadias | I15: 2029 | J15: 1 | K15: 2000 | N15: =K15 -> 2000
D16: INESC TEC | E16: Sede | F16: A5 - Promoção e Disseminação de Resultados | G16: Open Access Pub | H16: Promoção e divulgação | I16: 2029 | J16: 1 | K16: 3000 | N16: =K16 -> 3000 | V16: NOTA: Limite de 85,00€/noite por estadia em Hotel (DL 106/98) em território nacional; 148,91€/noite no estrangeiro
D17: INESC TEC | E17: =Pessoal!D64 -> Pólo Ciências | H17: Aquisição de componentes | I17: 2027 | K17: 20000 | O17: =K17 -> 20000
D18: INESC TEC | E18: =Pessoal!D65 -> Pólo Ciências | H18: Matérias-primas e materiais consumíveis | I18: 2027 | K18: 10000 | O18: =K18 -> 10000
D19: INESC TEC | E19: =Pessoal!D66 -> Pólo Ciências | H19: Aquisição de componentes | I19: 2028 | K19: 20000 | O19: =K19 -> 20000
D20: INESC TEC | E20: =Pessoal!D67 -> Pólo Ciências | H20: Matérias-primas e materiais consumíveis | I20: 2028 | K20: 10000 | O20: =K20 -> 10000
D21: INESC TEC | E21: =Pessoal!D68 -> Pólo Ciências | H21: Seminários e Conferências | I21: 2028 | K21: 3000 | O21: =K21 -> 3000 | V21: Orçamento Total
D22: INESC TEC | E22: =Pessoal!D69 -> Pólo Ciências | H22: Seminários e Conferências | I22: 2029 | K22: 3000 | O22: =K22 -> 3000 | V22: 2027 | W22: =SUMIFS($K$2:$K$32,$I$2:$I$32,V22) -> 520017.2
D23: INESC TEC | E23: =Pessoal!D70 -> Pólo Ciências | H23: Promoção e divulgação | I23: 2028 | K23: 3000 | O23: =K23 -> 3000 | V23: 2028 | W23: =SUMIFS($K$2:$K$32,$I$2:$I$32,V23) -> 528741.59
D24: INESC TEC | E24: =Pessoal!D71 -> Pólo Ciências | H24: Promoção e divulgação | I24: 2029 | K24: 3000 | O24: =K24 -> 3000 | V24: 2029 | W24: =SUMIFS($K$2:$K$32,$I$2:$I$32,V24) -> 451543.49
D25: INESC TEC | E25: =Pessoal!D72 -> Pólo Ciências | H25: Estadias | I25: 2028 | K25: 4000 | O25: =K25 -> 4000 | V25: 2030 | W25: =SUMIFS($K$2:$K$32,$I$2:$I$32,V25) -> 0
D26: INESC TEC | E26: =Pessoal!D73 -> Pólo Ciências | H26: Estadias | I26: 2029 | K26: 4000 | O26: =K26 -> 4000 | V26: Total | W26: =SUM(W22:W25) -> 1500302.3
D27: INESC TEC | E27: =Pessoal!D74 -> Pólo Ciências | H27: Deslocações | I27: 2028 | K27: 2000 | O27: =K27 -> 2000
D28: INESC TEC | E28: =Pessoal!D75 -> Pólo Ciências | H28: Deslocações | I28: 2029 | K28: 2000 | O28: =K28 -> 2000
H29: Custos Indiretos | I29: 2025 | K29: =SUMIFS($K$2:$K$28,$I$2:$I$28,2025)*0.07 -> 0
H30: Custos Indiretos | I30: 2027 | K30: =SUMIFS($K$2:$K$28,$I$2:$I$28,2027)*0.07 -> 34019.817
H31: Custos Indiretos | I31: 2028 | K31: =SUMIFS($K$2:$K$28,$I$2:$I$28,2028)*0.07 -> 34590.572
H32: Custos Indiretos | I32: 2029 | K32: =SUMIFS($K$2:$K$28,$I$2:$I$28,2029)*0.07 -> 29540.228 | N32: =SUM($N$2:$N$28)*0.07 -> 61797.447 | O32: =SUM($O$2:$O$28)*0.07 -> 36353.169
H35: Total: | K35: =SUM(K2:K32) -> 1500302.3 | M35: =N35+O35 -> 1500302.3 | N35: =SUM(N2:N32) -> 944618.12 | O35: =SUM(O2:O32) -> 555684.16
M37: =N37+O37 -> 1 | N37: =N35/M35 -> 0.62961853 | O37: =O35/M35 -> 0.37038147
M39: 1281399 | N39: =M39*N37 -> 806792.56 | O39: =M39*O37 -> 474606.44
