Workbook
Name D_Indice100: 1636.83
Name Estado: [1]Listas_limites!#REF!
Name Mês: [1]Listas_limites!#REF!

Sheet Categorias
A1: Aquisição de patentes e direitos de propriedade
A2: Matérias-primas e materiais consumíveis
A3: Aquisição de componentes
A4: Consultoria
A5: Estudos/Relatórios DNSH
A6: Assistência técnica
A7: Aquisição de serviços
A8: Equipamento informático
A9: Software e licenças
A10: Máquinas e equipamentos
A11: Aquisição de instrumentos e equipamento científico e técnico
A12: Registo de patentes (Taxas Oficiais)
... A21: CC/ROC

Sheet Tecnicos
A1: ID | B1: Beneficiário | C1: Nova | D1: NIF | E1: Nome/Perfil (colocar perfis) | F1: Nível | G1: Vínculo | H1: Vencimento mês (Consultar SAAF para Valores) | I1: Seguro Social Voluntário | J1: Seguro Acidentes Pessoais | K1: Taxa Segurança Social | L1: Critico | M1: Custo ETI
C2: Não | E2: D1 - Operations Management Specialist | F2: Nível 8 - Doutorado | G2: Quadro de Cedência Ocasional [Docentes] | H2: 5227.28 | I2: =IF(G2="Bolseiro",158.99,0) -> 0 | J2: =IF(G2="Bolseiro",68.65,0) -> 0 | K2: =IF(G2="Bolseiro",0,22.3%) -> 0.223 | M2: =IF(G2="Bolseiro",(H2+I2+J2)*12/11,H2*(1+K2)*14/11) -> 8136.4989
C3: Não | E3: C1 - Digital Architecture Specialist | F3: Nível 6 - Licenciado | G3: Contrato de Trablho a Termo Incerto | H3: 4593.99 | I3: =IF(G3="Bolseiro",158.99,0) -> 0 | J3: =IF(G3="Bolseiro",68.65,0) -> 0 | K3: =IF(G3="Bolseiro",0,22.3%) -> 0.223 | L3: Sim | M3: =IF(G3="Bolseiro",(H3+I3+J3)*12/11,H3*(1+K3)*14/11) -> 7150.7543
C4: Não | E4: C2 - Simulation and Digital Twin Specialist | F4: Nível 7 - Mestre | G4: Contrato de Trablho a Termo Incerto | H4: 2902.17 | I4: =IF(G4="Bolseiro",158.99,0) -> 0 | J4: =IF(G4="Bolseiro",68.65,0) -> 0 | K4: =IF(G4="Bolseiro",0,22.3%) -> 0.223 | M4: =IF(G4="Bolseiro",(H4+I4+J4)*12/11,H4*(1+K4)*14/11) -> 4517.3595
C5: Não | E5: C3 - Digital Architeture and Data Infrastructure Specialist | F5: Nível 7 - Mestre | G5: Contrato de Trablho a Termo Incerto | H5: 1896.07 | I5: =IF(G5="Bolseiro",158.99,0) -> 0 | J5: =IF(G5="Bolseiro",68.65,0) -> 0 | K5: =IF(G5="Bolseiro",0,22.3%) -> 0.223 | M5: =IF(G5="Bolseiro",(H5+I5+J5)*12/11,H5*(1+K5)*14/11) -> 2951.3191
C6: Não | E6: C4 - Digital Architeture and Data Infrastructure Specialist | F6: Nível 7 - Mestre | G6: Contrato de Trablho a Termo Incerto | H6: 4029.99 | I6: =IF(G6="Bolseiro",158.99,0) -> 0 | J6: =IF(G6="Bolseiro",68.65,0) -> 0 | K6: =IF(G6="Bolseiro",0,22.3%) -> 0.223 | M6: =IF(G6="Bolseiro",(H6+I6+J6)*12/11,H6*(1+K6)*14/11) -> 6272.8626
C7: Não | E7: D2 - Technology Adoption Specialist | F7: Nível 8 - Doutorado | G7: Quadro de Cedência Ocasional [Docentes] | H7: 3393.14 | I7: =IF(G7="Bolseiro",158.99,0) -> 0 | J7: =IF(G7="Bolseiro",68.65,0) -> 0 | K7: =IF(G7="Bolseiro",0,22.3%) -> 0.223 | M7: =IF(G7="Bolseiro",(H7+I7+J7)*12/11,H7*(1+K7)*14/11) -> 5281.5766
C8: Não | E8: D3 - Data Management Specialist | F8: Nível 8 - Doutorado | G8: Quadro de Cedência Ocasional [Docentes] | H8: 4035.1 | I8: =IF(G8="Bolseiro",158.99,0) -> 0 | J8: =IF(G8="Bolseiro",68.65,0) -> 0 | K8: =IF(G8="Bolseiro",0,22.3%) -> 0.223 | L8: Sim | M8: =IF(G8="Bolseiro",(H8+I8+J8)*12/11,H8*(1+K8)*14/11) -> 6280.8166
C9: Não | E9: D4 - Data Analytics Specialist | F9: Nível 8 - Doutorado | G9: Quadro de Cedência Ocasional [Docentes] | H9: 4218.5 | I9: =IF(G9="Bolseiro",158.99,0) -> 0 | J9: =IF(G9="Bolseiro",68.65,0) -> 0 | K9: =IF(G9="Bolseiro",0,22.3%) -> 0.223 | M9: =IF(G9="Bolseiro",(H9+I9+J9)*12/11,H9*(1+K9)*14/11) -> 6566.287
C10: Não | E10: C5 - Software Development Specialist | F10: Nível 7 - Mestre | G10: Contrato de Trablho a Termo Incerto | H10: 2229.65 | I10: =IF(G10="Bolseiro",158.99,0) -> 0 | J10: =IF(G10="Bolseiro",68.65,0) -> 0 | K10: =IF(G10="Bolseiro",0,22.3%) -> 0.223 | M10: =IF(G10="Bolseiro",(H10+I10+J10)*12/11,H10*(1+K10)*14/11) -> 3470.5516
C11: Não | E11: C6 - Simulation and Digital Twin Specialist | F11: Nível 7 - Mestre | G11: Contrato de Trablho a Termo Incerto | H11: 1812.2 | I11: =IF(G11="Bolseiro",158.99,0) -> 0 | J11: =IF(G11="Bolseiro",68.65,0) -> 0 | K11: =IF(G11="Bolseiro",0,22.3%) -> 0.223 | M11: =IF(G11="Bolseiro",(H11+I11+J11)*12/11,H11*(1+K11)*14/11) -> 2820.7717
C12: Não | E12: D5 - Operations Management and Data Analytics Specialist | F12: Nível 8 - Doutorado | G12: Quadro de Cedência Ocasional [Docentes] | H12: 3851.67 | I12: =IF(G12="Bolseiro",158.99,0) -> 0 | J12: =IF(G12="Bolseiro",68.65,0) -> 0 | K12: =IF(G12="Bolseiro",0,22.3%) -> 0.223 | M12: =IF(G12="Bolseiro",(H12+I12+J12)*12/11,H12*(1+K12)*14/11) -> 5995.2994
I13: =IF(G13="Bolseiro",158.99,0) -> 0 | J13: =IF(G13="Bolseiro",68.65,0) -> 0 | K13: =IF(G13="Bolseiro",0,22.3%) -> 0.223 | M13: =IF(G13="Bolseiro",(H13+I13+J13)*12/11,H13*(1+K13)*14/11) -> 0
I14: =IF(G14="Bolseiro",158.99,0) -> 0 | J14: =IF(G14="Bolseiro",68.65,0) -> 0 | K14: =IF(G14="Bolseiro",0,22.3%) -> 0.223 | M14: =IF(G14="Bolseiro",(H14+I14+J14)*12/11,H14*(1+K14)*14/11) -> 0
I15: =IF(G15="Bolseiro",158.99,0) -> 0 | J15: =IF(G15="Bolseiro",68.65,0) -> 0 | K15: =IF(G15="Bolseiro",0,22.3%) -> 0.223 | M15: =IF(G15="Bolseiro",(H15+I15+J15)*12/11,H15*(1+K15)*14/11) -> 0
I16: =IF(G16="Bolseiro",158.99,0) -> 0 | J16: =IF(G16="Bolseiro",68.65,0) -> 0 | K16: =IF(G16="Bolseiro",0,22.3%) -> 0.223 | M16: =IF(G16="Bolseiro",(H16+I16+J16)*12/11,H16*(1+K16)*14/11) -> 0
I17: =IF(G17="Bolseiro",158.99,0) -> 0 | J17: =IF(G17="Bolseiro",68.65,0) -> 0 | K17: =IF(G17="Bolseiro",0,22.3%) -> 0.223 | M17: =IF(G17="Bolseiro",(H17+I17+J17)*12/11,H17*(1+K17)*14/11) -> 0
I18: =IF(G18="Bolseiro",158.99,0) -> 0 | J18: =IF(G18="Bolseiro",68.65,0) -> 0 | K18: =IF(G18="Bolseiro",0,22.3%) -> 0.223 | M18: =IF(G18="Bolseiro",(H18+I18+J18)*12/11,H18*(1+K18)*14/11) -> 0
I19: =IF(G19="Bolseiro",158.99,0) -> 0 | J19: =IF(G19="Bolseiro",68.65,0) -> 0 | K19: =IF(G19="Bolseiro",0,22.3%) -> 0.223 | M19: =IF(G19="Bolseiro",(H19+I19+J19)*12/11,H19*(1+K19)*14/11) -> 0
I20: =IF(G20="Bolseiro",158.99,0) -> 0 | J20: =IF(G20="Bolseiro",68.65,0) -> 0 | K20: =IF(G20="Bolseiro",0,22.3%) -> 0.223 | M20: =IF(G20="Bolseiro",(H20+I20+J20)*12/11,H20*(1+K20)*14/11) -> 0

Sheet Folha1
A3: Rótulos de Linha | B3: Soma de ETI 0 (Ano 2027) | C3: Soma de ETI 1 (Ano 2028) | D3: Soma de ET2 (Ano 2029)
A4: C1 - Digital Architecture Specialist | B4: 5 | C4: 5 | D4: 5
A5: C2 - Simulation and Digital Twin Specialist | B5: 5 | C5: 5 | D5: 5
A6: C3 - Digital Architeture and Data Infrastructure Specialist | B6: 5 | C6: 5 | D6: 5
A7: C4 - Digital Architeture and Data Infrastructure Specialist | B7: 5 | C7: 5 | D7: 5
A8: C5 - Software Development Specialist | B8: 8 | C8: 8 | D8: 8.0833333
A9: C6 - Simulation and Digital Twin Specialist | B9: 8 | C9: 8 | D9: 8.0833333
A10: D1 - Operations Management Specialist | B10: 3 | C10: 3 | D10: 3
A11: D2 - Technology Adoption Specialist | B11: 3 | C11: 3 | D11: 3
A12: D3 - Data Management Specialist | B12: 3 | C12: 3 | D12: 3
A13: D4 - Data Analytics Specialist | B13: 4 | C13: 4 | D13: 4
A14: D5 - Operations Management and Data Analytics Specialist | B14: 2.5 | C14: 2.5 | D14: 2.4857143
A15: (em branco)
A16: Total Geral | B16: 51.5 | C16: 51.5 | D16: 51.652381

Sheet Pessoal
A1: N.º | B1: Técnico | C1: Conteúdo Funcional | D1: Estab. | E1: Atividade | F1: ETI 0 (Ano 2027) | G1: ETI 1 (Ano 2028) | H1: ET2 (Ano 2029) | I1: ET3 (Ano 2030) | J1: Valor (Custo Total Pessoal) | K1: Custo ETI (Ano 2027) | L1: Custo ETI (Ano 2028) | M1: Custo ETI (Ano 2029) | N1: Custo ETI (Ano 2030)
B2: D1 - Operations Management Specialist | J2: =SUM(F2:I2)*K2 -> 0 | K2: =IFERROR(VLOOKUP($B2,Tecnicos!$E$1:$M$20,9,0)*F2,) -> 0 | L2: =IFERROR(VLOOKUP($B2,Tecnicos!$E$1:$M$20,9,0)*G2,) -> 0 | M2: =IFERROR(VLOOKUP($B2,Tecnicos!$E$1:$M$20,9,0)*H2,) -> 0 | N2: =IFERROR(VLOOKUP($B2,Tecnicos!$E$1:$M$20,9,0)*I2,) -> 0
B3: C1 - Digital Architecture Specialist | J3: =SUM(F3:I3)*K3 -> 0 | K3: =IFERROR(VLOOKUP($B3,Tecnicos!$E$1:$M$20,9,0)*F3,) -> 0 | L3: =IFERROR(VLOOKUP($B3,Tecnicos!$E$1:$M$20,9,0)*G3,) -> 0 | M3: =IFERROR(VLOOKUP($B3,Tecnicos!$E$1:$M$20,9,0)*H3,) -> 0 | N3: =IFERROR(VLOOKUP($B3,Tecnicos!$E$1:$M$20,9,0)*I3,) -> 0
B4: C2 - Simulation and Digital Twin Specialist | J4: =SUM(F4:I4)*K4 -> 0 | K4: =IFERROR(VLOOKUP($B4,Tecnicos!$E$1:$M$20,9,0)*F4,) -> 0 | L4: =IFERROR(VLOOKUP($B4,Tecnicos!$E$1:$M$20,9,0)*G4,) -> 0 | M4: =IFERROR(VLOOKUP($B4,Tecnicos!$E$1:$M$20,9,0)*H4,) -> 0 | N4: =IFERROR(VLOOKUP($B4,Tecnicos!$E$1:$M$20,9,0)*I4,) -> 0
B5: C3 - Digital Architeture and Data Infrastructure Specialist | J5: =SUM(F5:I5)*K5 -> 0 | K5: =IFERROR(VLOOKUP($B5,Tecnicos!$E$1:$M$20,9,0)*F5,) -> 0 | L5: =IFERROR(VLOOKUP($B5,Tecnicos!$E$1:$M$20,9,0)*G5,) -> 0 | M5: =IFERROR(VLOOKUP($B5,Tecnicos!$E$1:$M$20,9,0)*H5,) -> 0 | N5: =IFERROR(VLOOKUP($B5,Tecnicos!$E$1:$M$20,9,0)*I5,) -> 0
B6: C4 - Digital Architeture and Data Infrastructure Specialist | J6: =SUM(F6:I6)*K6 -> 0 | K6: =IFERROR(VLOOKUP($B6,Tecnicos!$E$1:$M$20,9,0)*F6,) -> 0 | L6: =IFERROR(VLOOKUP($B6,Tecnicos!$E$1:$M$20,9,0)*G6,) -> 0 | M6: =IFERROR(VLOOKUP($B6,Tecnicos!$E$1:$M$20,9,0)*H6,) -> 0 | N6: =IFERROR(VLOOKUP($B6,Tecnicos!$E$1:$M$20,9,0)*I6,) -> 0
B7: D2 - Technology Adoption Specialist | J7: =SUM(F7:I7)*K7 -> 0 | K7: =IFERROR(VLOOKUP($B7,Tecnicos!$E$1:$M$20,9,0)*F7,) -> 0 | L7: =IFERROR(VLOOKUP($B7,Tecnicos!$E$1:$M$20,9,0)*G7,) -> 0 | M7: =IFERROR(VLOOKUP($B7,Tecnicos!$E$1:$M$20,9,0)*H7,) -> 0 | N7: =IFERROR(VLOOKUP($B7,Tecnicos!$E$1:$M$20,9,0)*I7,) -> 0
B8: D3 - Data Management Specialist | J8: =SUM(F8:I8)*K8 -> 0 | K8: =IFERROR(VLOOKUP($B8,Tecnicos!$E$1:$M$20,9,0)*F8,) -> 0 | L8: =IFERROR(VLOOKUP($B8,Tecnicos!$E$1:$M$20,9,0)*G8,) -> 0 | M8: =IFERROR(VLOOKUP($B8,Tecnicos!$E$1:$M$20,9,0)*H8,) -> 0 | N8: =IFERROR(VLOOKUP($B8,Tecnicos!$E$1:$M$20,9,0)*I8,) -> 0
B9: D4 - Data Analytics Specialist | J9: =SUM(F9:I9)*K9 -> 0 | K9: =IFERROR(VLOOKUP($B9,Tecnicos!$E$1:$M$20,9,0)*F9,) -> 0 | L9: =IFERROR(VLOOKUP($B9,Tecnicos!$E$1:$M$20,9,0)*G9,) -> 0 | M9: =IFERROR(VLOOKUP($B9,Tecnicos!$E$1:$M$20,9,0)*H9,) -> 0 | N9: =IFERROR(VLOOKUP($B9,Tecnicos!$E$1:$M$20,9,0)*I9,) -> 0
B10: C5 - Software Development Specialist | J10: =SUM(F10:I10)*K10 -> 0 | K10: =IFERROR(VLOOKUP($B10,Tecnicos!$E$1:$M$20,9,0)*F10,) -> 0 | L10: =IFERROR(VLOOKUP($B10,Tecnicos!$E$1:$M$20,9,0)*G10,) -> 0 | M10: =IFERROR(VLOOKUP($B10,Tecnicos!$E$1:$M$20,9,0)*H10,) -> 0 | N10: =IFERROR(VLOOKUP($B10,Tecnicos!$E$1:$M$20,9,0)*I10,) -> 0
B11: C6 - Simulation and Digital Twin Specialist | J11: =SUM(F11:I11)*K11 -> 0 | K11: =IFERROR(VLOOKUP($B11,Tecnicos!$E$1:$M$20,9,0)*F11,) -> 0 | L11: =IFERROR(VLOOKUP($B11,Tecnicos!$E$1:$M$20,9,0)*G11,) -> 0 | M11: =IFERROR(VLOOKUP($B11,Tecnicos!$E$1:$M$20,9,0)*H11,) -> 0 | N11: =IFERROR(VLOOKUP($B11,Tecnicos!$E$1:$M$20,9,0)*I11,) -> 0
B12: D5 - Operations Management and Data Analytics Specialist | J12: =SUM(F12:I12)*K12 -> 0 | K12: =IFERROR(VLOOKUP($B12,Tecnicos!$E$1:$M$20,9,0)*F12,) -> 0 | L12: =IFERROR(VLOOKUP($B12,Tecnicos!$E$1:$M$20,9,0)*G12,) -> 0 | M12: =IFERROR(VLOOKUP($B12,Tecnicos!$E$1:$M$20,9,0)*H12,) -> 0 | N12: =IFERROR(VLOOKUP($B12,Tecnicos!$E$1:$M$20,9,0)*I12,) -> 0
J13: =SUM(F13:I13)*K13 -> 0 | K13: =IFERROR(VLOOKUP($B13,Tecnicos!$E$1:$M$20,9,0)*F13,) -> 0 | L13: =IFERROR(VLOOKUP($B13,Tecnicos!$E$1:$M$20,9,0)*G13,) -> 0 | M13: =IFERROR(VLOOKUP($B13,Tecnicos!$E$1:$M$20,9,0)*H13,) -> 0 | N13: =IFERROR(VLOOKUP($B13,Tecnicos!$E$1:$M$20,9,0)*I13,) -> 0
B14: D1 - Operations Management Specialist | E14: A1 State of the art and technological surveillance | F14: =Gantt!U198 -> 3 | J14: =SUM(F14:I14)*K14 -> 73228.49 | K14: =IFERROR(VLOOKUP($B14,Tecnicos!$E$1:$M$20,9,0)*F14,) -> 24409.497 | L14: =IFERROR(VLOOKUP($B14,Tecnicos!$E$1:$M$20,9,0)*G14,) -> 0 | M14: =IFERROR(VLOOKUP($B14,Tecnicos!$E$1:$M$20,9,0)*H14,) -> 0 | N14: =IFERROR(VLOOKUP($B14,Tecnicos!$E$1:$M$20,9,0)*I14,) -> 0
B15: C1 - Digital Architecture Specialist | E15: A1 State of the art and technological surveillance | F15: =Gantt!U199 -> 1 | J15: =SUM(F15:I15)*K15 -> 7150.7543 | K15: =IFERROR(VLOOKUP($B15,Tecnicos!$E$1:$M$20,9,0)*F15,) -> 7150.7543 | L15: =IFERROR(VLOOKUP($B15,Tecnicos!$E$1:$M$20,9,0)*G15,) -> 0 | M15: =IFERROR(VLOOKUP($B15,Tecnicos!$E$1:$M$20,9,0)*H15,) -> 0 | N15: =IFERROR(VLOOKUP($B15,Tecnicos!$E$1:$M$20,9,0)*I15,) -> 0
B16: C2 - Simulation and Digital Twin Specialist | E16: A1 State of the art and technological surveillance | F16: =Gantt!U200 -> 1 | J16: =SUM(F16:I16)*K16 -> 4517.3595 | K16: =IFERROR(VLOOKUP($B16,Tecnicos!$E$1:$M$20,9,0)*F16,) -> 4517.3595 | L16: =IFERROR(VLOOKUP($B16,Tecnicos!$E$1:$M$20,9,0)*G16,) -> 0 | M16: =IFERROR(VLOOKUP($B16,Tecnicos!$E$1:$M$20,9,0)*H16,) -> 0 | N16: =IFERROR(VLOOKUP($B16,Tecnicos!$E$1:$M$20,9,0)*I16,) -> 0
B17: C3 - Digital Architeture and Data Infrastructure Specialist | E17: A1 State of the art and technological surveillance | F17: =Gantt!U201 -> 1 | J17: =SUM(F17:I17)*K17 -> 2951.3191 | K17: =IFERROR(VLOOKUP($B17,Tecnicos!$E$1:$M$20,9,0)*F17,) -> 2951.3191 | L17: =IFERROR(VLOOKUP($B17,Tecnicos!$E$1:$M$20,9,0)*G17,) -> 0 | M17: =IFERROR(VLOOKUP($B17,Tecnicos!$E$1:$M$20,9,0)*H17,) -> 0 | N17: =IFERROR(VLOOKUP($B17,Tecnicos!$E$1:$M$20,9,0)*I17,) -> 0
B18: C4 - Digital Architeture and Data Infrastructure Specialist | E18: A1 State of the art and technological surveillance | F18: =Gantt!U202 -> 1 | J18: =SUM(F18:I18)*K18 -> 6272.8626 | K18: =IFERROR(VLOOKUP($B18,Tecnicos!$E$1:$M$20,9,0)*F18,) -> 6272.8626 | L18: =IFERROR(VLOOKUP($B18,Tecnicos!$E$1:$M$20,9,0)*G18,) -> 0 | M18: =IFERROR(VLOOKUP($B18,Tecnicos!$E$1:$M$20,9,0)*H18,) -> 0 | N18: =IFERROR(VLOOKUP($B18,Tecnicos!$E$1:$M$20,9,0)*I18,) -> 0
B19: D2 - Technology Adoption Specialist | E19: A1 State of the art and technological surveillance | F19: =Gantt!U203 -> 3 | J19: =SUM(F19:I19)*K19 -> 47534.19 | K19: =IFERROR(VLOOKUP($B19,Tecnicos!$E$1:$M$20,9,0)*F19,) -> 15844.73 | L19: =IFERROR(VLOOKUP($B19,Tecnicos!$E$1:$M$20,9,0)*G19,) -> 0 | M19: =IFERROR(VLOOKUP($B19,Tecnicos!$E$1:$M$20,9,0)*H19,) -> 0 | N19: =IFERROR(VLOOKUP($B19,Tecnicos!$E$1:$M$20,9,0)*I19,) -> 0
B20: D3 - Data Management Specialist | E20: A1 State of the art and technological surveillance | F20: =Gantt!U204 -> 3 | J20: =SUM(F20:I20)*K20 -> 56527.349 | K20: =IFERROR(VLOOKUP($B20,Tecnicos!$E$1:$M$20,9,0)*F20,) -> 18842.45 | L20: =IFERROR(VLOOKUP($B20,Tecnicos!$E$1:$M$20,9,0)*G20,) -> 0 | M20: =IFERROR(VLOOKUP($B20,Tecnicos!$E$1:$M$20,9,0)*H20,) -> 0 | N20: =IFERROR(VLOOKUP($B20,Tecnicos!$E$1:$M$20,9,0)*I20,) -> 0
B21: D4 - Data Analytics Specialist | E21: A1 State of the art and technological surveillance | F21: =Gantt!U205 -> 1 | J21: =SUM(F21:I21)*K21 -> 6566.287 | K21: =IFERROR(VLOOKUP($B21,Tecnicos!$E$1:$M$20,9,0)*F21,) -> 6566.287 | L21: =IFERROR(VLOOKUP($B21,Tecnicos!$E$1:$M$20,9,0)*G21,) -> 0 | M21: =IFERROR(VLOOKUP($B21,Tecnicos!$E$1:$M$20,9,0)*H21,) -> 0 | N21: =IFERROR(VLOOKUP($B21,Tecnicos!$E$1:$M$20,9,0)*I21,) -> 0
B22: C5 - Software Development Specialist | E22: A1 State of the art and technological surveillance | F22: =Gantt!U206 -> 1 | J22: =SUM(F22:I22)*K22 -> 3470.5516 | K22: =IFERROR(VLOOKUP($B22,Tecnicos!$E$1:$M$20,9,0)*F22,) -> 3470.5516 | L22: =IFERROR(VLOOKUP($B22,Tecnicos!$E$1:$M$20,9,0)*G22,) -> 0 | M22: =IFERROR(VLOOKUP($B22,Tecnicos!$E$1:$M$20,9,0)*H22,) -> 0 | N22: =IFERROR(VLOOKUP($B22,Tecnicos!$E$1:$M$20,9,0)*I22,) -> 0
B23: C6 - Simulation and Digital Twin Specialist | E23: A1 State of the art and technological surveillance | F23: =Gantt!U207 -> 1 | J23: =SUM(F23:I23)*K23 -> 2820.7717 | K23: =IFERROR(VLOOKUP($B23,Tecnicos!$E$1:$M$20,9,0)*F23,) -> 2820.7717 | L23: =IFERROR(VLOOKUP($B23,Tecnicos!$E$1:$M$20,9,0)*G23,) -> 0 | M23: =IFERROR(VLOOKUP($B23,Tecnicos!$E$1:$M$20,9,0)*H23,) -> 0 | N23: =IFERROR(VLOOKUP($B23,Tecnicos!$E$1:$M$20,9,0)*I23,) -> 0
B24: D5 - Operations Management and Data Analytics Specialist | E24: A1 State of the art and technological surveillance | F24: =Gantt!U208 -> 1 | J24: =SUM(F24:I24)*K24 -> 5995.2994 | K24: =IFERROR(VLOOKUP($B24,Tecnicos!$E$1:$M$20,9,0)*F24,) -> 5995.2994 | L24: =IFERROR(VLOOKUP($B24,Tecnicos!$E$1:$M$20,9,0)*G24,) -> 0 | M24: =IFERROR(VLOOKUP($B24,Tecnicos!$E$1:$M$20,9,0)*H24,) -> 0 | N24: =IFERROR(VLOOKUP($B24,Tecnicos!$E$1:$M$20,9,0)*I24,) -> 0 | P24: =SUM(F14:F24)/154.5 -> 0.11003236
J25: =SUM(F25:I25)*K25 -> 0 | K25: =IFERROR(VLOOKUP($B25,Tecnicos!$E$1:$M$20,9,0)*F25,) -> 0 | L25: =IFERROR(VLOOKUP($B25,Tecnicos!$E$1:$M$20,9,0)*G25,) -> 0 | M25: =IFERROR(VLOOKUP($B25,Tecnicos!$E$1:$M$20,9,0)*H25,) -> 0 | N25: =IFERROR(VLOOKUP($B25,Tecnicos!$E$1:$M$20,9,0)*I25,) -> 0
B26: D1 - Operations Management Specialist | E26: A4 Digital twin development | F26: =Gantt!U211 -> 0 | G26: =Gantt!AG211 -> 1 | H26: =Gantt!AS211 -> 0.4 | J26: =SUM(F26:I26)*K26 -> 0 | K26: =IFERROR(VLOOKUP($B26,Tecnicos!$E$1:$M$20,9,0)*F26,) -> 0 | L26: =IFERROR(VLOOKUP($B26,Tecnicos!$E$1:$M$20,9,0)*G26,) -> 8136.4989 | M26: =IFERROR(VLOOKUP($B26,Tecnicos!$E$1:$M$20,9,0)*H26,) -> 3254.5996 | N26: =IFERROR(VLOOKUP($B26,Tecnicos!$E$1:$M$20,9,0)*I26,) -> 0
B27: C1 - Digital Architecture Specialist | E27: A4 Digital twin development | F27: =Gantt!U212 -> 3 | G27: =Gantt!AG212 -> 2 | H27: =Gantt!AS212 -> 0.8 | J27: =SUM(F27:I27)*K27 -> 124423.12 | K27: =IFERROR(VLOOKUP($B27,Tecnicos!$E$1:$M$20,9,0)*F27,) -> 21452.263 | L27: =IFERROR(VLOOKUP($B27,Tecnicos!$E$1:$M$20,9,0)*G27,) -> 14301.509 | M27: =IFERROR(VLOOKUP($B27,Tecnicos!$E$1:$M$20,9,0)*H27,) -> 5720.6034 | N27: =IFERROR(VLOOKUP($B27,Tecnicos!$E$1:$M$20,9,0)*I27,) -> 0
B28: C2 - Simulation and Digital Twin Specialist | E28: A4 Digital twin development | F28: =Gantt!U213 -> 4 | G28: =Gantt!AG213 -> 3 | H28: =Gantt!AS213 -> 1.2 | J28: =SUM(F28:I28)*K28 -> 148169.39 | K28: =IFERROR(VLOOKUP($B28,Tecnicos!$E$1:$M$20,9,0)*F28,) -> 18069.438 | L28: =IFERROR(VLOOKUP($B28,Tecnicos!$E$1:$M$20,9,0)*G28,) -> 13552.079 | M28: =IFERROR(VLOOKUP($B28,Tecnicos!$E$1:$M$20,9,0)*H28,) -> 5420.8314 | N28: =IFERROR(VLOOKUP($B28,Tecnicos!$E$1:$M$20,9,0)*I28,) -> 0
B29: C3 - Digital Architeture and Data Infrastructure Specialist | E29: A4 Digital twin development | F29: =Gantt!U214 -> 4 | G29: =Gantt!AG214 -> 3 | H29: =Gantt!AS214 -> 1.2 | J29: =SUM(F29:I29)*K29 -> 96803.268 | K29: =IFERROR(VLOOKUP($B29,Tecnicos!$E$1:$M$20,9,0)*F29,) -> 11805.277 | L29: =IFERROR(VLOOKUP($B29,Tecnicos!$E$1:$M$20,9,0)*G29,) -> 8853.9574 | M29: =IFERROR(VLOOKUP($B29,Tecnicos!$E$1:$M$20,9,0)*H29,) -> 3541.583 | N29: =IFERROR(VLOOKUP($B29,Tecnicos!$E$1:$M$20,9,0)*I29,) -> 0
B30: C4 - Digital Architeture and Data Infrastructure Specialist | E30: A4 Digital twin development | F30: =Gantt!U215 -> 4 | G30: =Gantt!AG215 -> 3 | H30: =Gantt!AS215 -> 1.2 | J30: =SUM(F30:I30)*K30 -> 205749.89 | K30: =IFERROR(VLOOKUP($B30,Tecnicos!$E$1:$M$20,9,0)*F30,) -> 25091.45 | L30: =IFERROR(VLOOKUP($B30,Tecnicos!$E$1:$M$20,9,0)*G30,) -> 18818.588 | M30: =IFERROR(VLOOKUP($B30,Tecnicos!$E$1:$M$20,9,0)*H30,) -> 7527.4351 | N30: =IFERROR(VLOOKUP($B30,Tecnicos!$E$1:$M$20,9,0)*I30,) -> 0
B31: D2 - Technology Adoption Specialist | E31: A4 Digital twin development | F31: =Gantt!U216 -> 0 | G31: =Gantt!AG216 -> 1 | H31: =Gantt!AS216 -> 0.4 | J31: =SUM(F31:I31)*K31 -> 0 | K31: =IFERROR(VLOOKUP($B31,Tecnicos!$E$1:$M$20,9,0)*F31,) -> 0 | L31: =IFERROR(VLOOKUP($B31,Tecnicos!$E$1:$M$20,9,0)*G31,) -> 5281.5766 | M31: =IFERROR(VLOOKUP($B31,Tecnicos!$E$1:$M$20,9,0)*H31,) -> 2112.6307 | N31: =IFERROR(VLOOKUP($B31,Tecnicos!$E$1:$M$20,9,0)*I31,) -> 0
B32: D3 - Data Management Specialist | E32: A4 Digital twin development | F32: =Gantt!U217 -> 0 | G32: =Gantt!AG217 -> 1 | H32: =Gantt!AS217 -> 0.4 | J32: =SUM(F32:I32)*K32 -> 0 | K32: =IFERROR(VLOOKUP($B32,Tecnicos!$E$1:$M$20,9,0)*F32,) -> 0 | L32: =IFERROR(VLOOKUP($B32,Tecnicos!$E$1:$M$20,9,0)*G32,) -> 6280.8166 | M32: =IFERROR(VLOOKUP($B32,Tecnicos!$E$1:$M$20,9,0)*H32,) -> 2512.3266 | N32: =IFERROR(VLOOKUP($B32,Tecnicos!$E$1:$M$20,9,0)*I32,) -> 0
B33: D4 - Data Analytics Specialist | E33: A4 Digital twin development | F33: =Gantt!U218 -> 3 | G33: =Gantt!AG218 -> 2 | H33: =Gantt!AS218 -> 0.8 | J33: =SUM(F33:I33)*K33 -> 114253.39 | K33: =IFERROR(VLOOKUP($B33,Tecnicos!$E$1:$M$20,9,0)*F33,) -> 19698.861 | L33: =IFERROR(VLOOKUP($B33,Tecnicos!$E$1:$M$20,9,0)*G33,) -> 13132.574 | M33: =IFERROR(VLOOKUP($B33,Tecnicos!$E$1:$M$20,9,0)*H33,) -> 5253.0296 | N33: =IFERROR(VLOOKUP($B33,Tecnicos!$E$1:$M$20,9,0)*I33,) -> 0
B34: C5 - Software Development Specialist | E34: A4 Digital twin development | F34: =Gantt!U219 -> 7 | G34: =Gantt!AG219 -> 7 | H34: =Gantt!AS219 -> 2.4 | J34: =SUM(F34:I34)*K34 -> 398419.32 | K34: =IFERROR(VLOOKUP($B34,Tecnicos!$E$1:$M$20,9,0)*F34,) -> 24293.861 | L34: =IFERROR(VLOOKUP($B34,Tecnicos!$E$1:$M$20,9,0)*G34,) -> 24293.861 | M34: =IFERROR(VLOOKUP($B34,Tecnicos!$E$1:$M$20,9,0)*H34,) -> 8329.3238 | N34: =IFERROR(VLOOKUP($B34,Tecnicos!$E$1:$M$20,9,0)*I34,) -> 0
B35: C6 - Simulation and Digital Twin Specialist | E35: A4 Digital twin development | F35: =Gantt!U220 -> 7 | G35: =Gantt!AG220 -> 7 | H35: =Gantt!AS220 -> 2.4 | J35: =SUM(F35:I35)*K35 -> 323824.59 | K35: =IFERROR(VLOOKUP($B35,Tecnicos!$E$1:$M$20,9,0)*F35,) -> 19745.402 | L35: =IFERROR(VLOOKUP($B35,Tecnicos!$E$1:$M$20,9,0)*G35,) -> 19745.402 | M35: =IFERROR(VLOOKUP($B35,Tecnicos!$E$1:$M$20,9,0)*H35,) -> 6769.852 | N35: =IFERROR(VLOOKUP($B35,Tecnicos!$E$1:$M$20,9,0)*I35,) -> 0
B36: D5 - Operations Management and Data Analytics Specialist | E36: A4 Digital twin development | F36: =Gantt!U221 -> 1.5 | G36: =Gantt!AG221 -> 1.5 | H36: =Gantt!AS221 -> 0.4 | J36: =SUM(F36:I36)*K36 -> 30576.027 | K36: =IFERROR(VLOOKUP($B36,Tecnicos!$E$1:$M$20,9,0)*F36,) -> 8992.9491 | L36: =IFERROR(VLOOKUP($B36,Tecnicos!$E$1:$M$20,9,0)*G36,) -> 8992.9491 | M36: =IFERROR(VLOOKUP($B36,Tecnicos!$E$1:$M$20,9,0)*H36,) -> 2398.1198 | N36: =IFERROR(VLOOKUP($B36,Tecnicos!$E$1:$M$20,9,0)*I36,) -> 0 | P36: =SUM(F26:H36)/154.5 -> 0.49579288
J37: =SUM(F37:I37)*K37 -> 0 | K37: =IFERROR(VLOOKUP($B37,Tecnicos!$E$1:$M$20,9,0)*F37,) -> 0 | L37: =IFERROR(VLOOKUP($B37,Tecnicos!$E$1:$M$20,9,0)*G37,) -> 0 | M37: =IFERROR(VLOOKUP($B37,Tecnicos!$E$1:$M$20,9,0)*H37,) -> 0 | N37: =IFERROR(VLOOKUP($B37,Tecnicos!$E$1:$M$20,9,0)*I37,) -> 0
B38: D1 - Operations Management Specialist | E38: A5 Integration and validation in industrial environment | G38: =Gantt!AG226 -> 0 | H38: =Gantt!AS226 -> 0 | J38: =SUM(F38:I38)*K38 -> 0 | K38: =IFERROR(VLOOKUP($B38,Tecnicos!$E$1:$M$20,9,0)*F38,) -> 0 | L38: =IFERROR(VLOOKUP($B38,Tecnicos!$E$1:$M$20,9,0)*G38,) -> 0 | M38: =IFERROR(VLOOKUP($B38,Tecnicos!$E$1:$M$20,9,0)*H38,) -> 0 | N38: =IFERROR(VLOOKUP($B38,Tecnicos!$E$1:$M$20,9,0)*I38,) -> 0
B39: C1 - Digital Architecture Specialist | E39: A5 Integration and validation in industrial environment | G39: =Gantt!AG227 -> 1 | H39: =Gantt!AS227 -> 1.4 | J39: =SUM(F39:I39)*K39 -> 0 | K39: =IFERROR(VLOOKUP($B39,Tecnicos!$E$1:$M$20,9,0)*F39,) -> 0 | L39: =IFERROR(VLOOKUP($B39,Tecnicos!$E$1:$M$20,9,0)*G39,) -> 7150.7543 | M39: =IFERROR(VLOOKUP($B39,Tecnicos!$E$1:$M$20,9,0)*H39,) -> 10011.056 | N39: =IFERROR(VLOOKUP($B39,Tecnicos!$E$1:$M$20,9,0)*I39,) -> 0
B40: C2 - Simulation and Digital Twin Specialist | E40: A5 Integration and validation in industrial environment | G40: =Gantt!AG228 -> 1 | H40: =Gantt!AS228 -> 3.2 | J40: =SUM(F40:I40)*K40 -> 0 | K40: =IFERROR(VLOOKUP($B40,Tecnicos!$E$1:$M$20,9,0)*F40,) -> 0 | L40: =IFERROR(VLOOKUP($B40,Tecnicos!$E$1:$M$20,9,0)*G40,) -> 4517.3595 | M40: =IFERROR(VLOOKUP($B40,Tecnicos!$E$1:$M$20,9,0)*H40,) -> 14455.55 | N40: =IFERROR(VLOOKUP($B40,Tecnicos!$E$1:$M$20,9,0)*I40,) -> 0
...

Sheet Custos
A1: ID | B1: Âmbito | C1: N.º | D1: Beneficiário | E1: Estab. | F1: Ativ. | G1: Designação | H1: Rubrica | I1: Ano | J1: Mês | K1: Custo | L1: EF
H2: Custos com Pessoal | I2: 2027 | K2: =Pessoal!K98 -> 255142.14
H3: Custos com Pessoal | I3: 2028 | K3: =Pessoal!L98 -> 255142.14
H4: Custos com Pessoal | I4: 2029 | K4: =Pessoal!M98 -> 255580.77
H5: Custos com Pessoal | I5: 2030 | K5: =Pessoal!N98 -> 0
F6: Digital twin development | G6: Hardware for data processing | H6: Equipamento informático | I6: 2027 | J6: 4 | K6: 20000
F7: Digital twin development | G7: Digital Twin and Simulation Licenses | H7: Software e licenças | I7: 2027 | J7: 4 | K7: 15000
F8: Digital twin development | G8: Digital Twin and Simulation Licenses | H8: Software e licenças | I8: 2028 | J8: 1 | K8: 15000
F9: Digital twin development | G9: Digital Twin and Simulation Licenses | H9: Software e licenças | I9: 2029 | J9: 1 | K9: 15000
F10: Promotion and dissemination of the results | G10: Registration of one person in two international conferences (e.g. FAIM2028 and IAMOT 2028) | H10: Seminários e Conferências | I10: 2028 | J10: 1 | K10: 1500
F11: Promotion and dissemination of the results | G11: Registration of one person in two international conferences (e.g. FAIM2029 and IAMOT 2029) | H11: Seminários e Conferências | I11: 2029 | J11: 1 | K11: 1500
F12: Promotion and dissemination of the results | G12: Trip of one person to two international conferences | H12: Deslocações | I12: 2028 | J12: 1 | K12: 2000
F13: Promotion and dissemination of the results | G13: Trip of one person to two international conferences | H13: Deslocações | I13: 2029 | J13: 1 | K13: 2000
F14: Promotion and dissemination of the results | G14: Hotel for one person, four nights, near of each international conference | H14: Estadias | I14: 2028 | J14: 1 | K14: 2000
F15: Promotion and dissemination of the results | G15: Hotel for one person, four nights, near of each international conference | H15: Estadias | I15: 2029 | J15: 1 | K15: 2000
F16: Promotion and dissemination of the results | G16: Open Access Journal | H16: Promoção e divulgação | I16: 2029 | J16: 1 | K16: 3000 | V16: NOTA: Limite de 85,00€/noite por estadia em Hotel (DL 106/98) em território nacional; 148,91€/noite no estrangeiro
V21: Orçamento Total
V22: 2027 | W22: =SUMIFS($K$2:$K$46,$I$2:$I$46,V22) -> 310452.09
V23: 2028 | W23: =SUMIFS($K$2:$K$46,$I$2:$I$46,V23) -> 294937.09
V24: 2029 | W24: =SUMIFS($K$2:$K$46,$I$2:$I$46,V24) -> 298616.42
V25: 2030 | W25: =SUMIFS($K$2:$K$46,$I$2:$I$46,V25) -> 0
V26: Total | W26: =SUM(W22:W25) -> 904005.59
H43: Custos Indiretos | I43: 2025 | K43: =SUMIFS($K$2:$K$42,$I$2:$I$42,2025)*0.07 -> 0
H44: Custos Indiretos | I44: 2027 | K44: =SUMIFS($K$2:$K$42,$I$2:$I$42,2027)*0.07 -> 20309.95
H45: Custos Indiretos | I45: 2028 | K45: =SUMIFS($K$2:$K$42,$I$2:$I$42,2028)*0.07 -> 19294.95
H46: Custos Indiretos | I46: 2029 | K46: =SUMIFS($K$2:$K$42,$I$2:$I$42,2029)*0.07 -> 19535.654

Sheet Gantt
A1: N. | B1: Activity | C1: Promoters | J1: 2027 | V1: 2028 | AH1: 2029 | AT1: 2030
J2: m1 | K2: m2 | L2: m3 | M2: m4 | N2: m5 | O2: m6 | P2: m7 | Q2: m8 | R2: m9 | S2: m10 | T2: m11 | U2: m12 | V2: m13 | W2: m14 | X2: m15 | Y2: m16 | Z2: m17 | AA2: m18 | AB2: m19 | AC2: m20 | AD2: m21 | AE2: m22 | AF2: m23 | AG2: m24 | AH2: m25 | AI2: m26 | AJ2: m27 | AK2: m28 | AL2: m29 | AM2: m30 | AN2: m31 | AO2: m32 | AP2: m33 | AQ2: m34 | AR2: m35 | AS2: m36 | AT2: m37 | AU2: m38 | AV2: m39 | AW2: m40 | AX2: m41 | AY2: m42 | AZ2: m43 | BA2: m44 | BB2: m45 | BC2: m46 | BD2: m47 | BE2: m48
C3: CARITÉ | D3: RODIRO | E3: DCSI PRO | F3: OLIFEL | G3: MIND | H3: INESCTEC | I3: CTCP | J3: 1 | K3: 2 | L3: 3 | M3: 4 | N3: 5 | O3: 6 | P3: 7 | Q3: 8 | R3: 9 | S3: 10 | T3: 11 | U3: 12 | V3: 1 | W3: 2 | X3: 3 | Y3: 4 | Z3: 5 | AA3: 6 | AB3: 7 | AC3: 8 | AD3: 9 | AE3: 10 | AF3: 11 | AG3: 12 | AH3: 1 | AI3: 2 | AJ3: 3 | AK3: 4 | AL3: 5 | AM3: 6 | AN3: 7 | AO3: 8 | AP3: 9 | AQ3: 10 | AR3: 11 | AS3: 12 | AT3: 1 | AU3: 2 | AV3: 3 | AW3: 4 | AX3: 5 | AY3: 6 | AZ3: 7 | BA3: 8 | BB3: 9 | BC3: 10 | BD3: 11 | BE3: 12
A4: 1 | B4: State of the art and technological surveillance | C4: P | D4: P | E4: P | F4: P | G4: P | H4: P | I4: R | BF4: =SUM(J16:U26)/154.5 -> 0.11003236 | BG4: Legend:
BI5: Transversal
A6: 1.1 | B6: AI, computer vision and AR applied to footwear | G6: x | H6: x | I6: x | BI6: TRL 3→6
BI7: TRL 6→8
A8: 1.2 | B8: Adaptive robotics and laser for flexible materials | C8: x | D8: x | E8: x | H8: x | I8: x
A10: 1.3 | B10: Digital twins and intelligent factory orchestration | C10: x | D10: x | F10: x | H10: x | I10: x | BH10: R = Responsible (leader) | P = Participant | x = task contributor
A12: 1.4 | B12: Technical requirements specification | C12: x | D12: x | E12: x | F12: x | G12: x | H12: x | I12: x
A14: 1.5 | B14: Technological surveillance of the target market | E14: x | F14: x | G14: x | H14: x | I14: x
A16: R02160-1 | Américo Azevedo | B16: D1 - Operations Management Specialist | H16: x | J16: =3/12 -> 0.25 | K16: =3/12 -> 0.25 | L16: =3/12 -> 0.25 | M16: =3/12 -> 0.25 | N16: =3/12 -> 0.25 | O16: =3/12 -> 0.25 | P16: =3/12 -> 0.25 | Q16: =3/12 -> 0.25 | ... U16: =3/12 -> 0.25
A17: R03160 | Rui Diogo Rebelo | B17: C1 - Digital Architecture Specialist | H17: x | J17: =1/12 -> 0.083333333 | K17: =1/12 -> 0.083333333 | L17: =1/12 -> 0.083333333 | M17: =1/12 -> 0.083333333 | N17: =1/12 -> 0.083333333 | O17: =1/12 -> 0.083333333 | P17: =1/12 -> 0.083333333 | Q17: =1/12 -> 0.083333333 | ... U17: =1/12 -> 0.083333333
A18: R07328 | Romão Filipe Santos | B18: C2 - Simulation and Digital Twin Specialist | H18: x | J18: =1/12 -> 0.083333333 | K18: =1/12 -> 0.083333333 | L18: =1/12 -> 0.083333333 | M18: =1/12 -> 0.083333333 | N18: =1/12 -> 0.083333333 | O18: =1/12 -> 0.083333333 | P18: =1/12 -> 0.083333333 | Q18: =1/12 -> 0.083333333 | ... U18: =1/12 -> 0.083333333
A19: R07929 | Ana Carolina Chaves | B19: C3 - Digital Architeture and Data Infrastructure Specialist | H19: x | J19: =1/12 -> 0.083333333 | K19: =1/12 -> 0.083333333 | L19: =1/12 -> 0.083333333 | M19: =1/12 -> 0.083333333 | N19: =1/12 -> 0.083333333 | O19: =1/12 -> 0.083333333 | P19: =1/12 -> 0.083333333 | Q19: =1/12 -> 0.083333333 | ... U19: =1/12 -> 0.083333333
A20: R00283 | César Toscano | B20: C4 - Digital Architeture and Data Infrastructure Specialist | H20: x | J20: =1/12 -> 0.083333333 | K20: =1/12 -> 0.083333333 | L20: =1/12 -> 0.083333333 | M20: =1/12 -> 0.083333333 | N20: =1/12 -> 0.083333333 | O20: =1/12 -> 0.083333333 | P20: =1/12 -> 0.083333333 | Q20: =1/12 -> 0.083333333 | ... U20: =1/12 -> 0.083333333
A21: R08340 | Hélio Cristiano Castro | B21: D2 - Technology Adoption Specialist | H21: x | J21: =3/12 -> 0.25 | K21: =3/12 -> 0.25 | L21: =3/12 -> 0.25 | M21: =3/12 -> 0.25 | N21: =3/12 -> 0.25 | O21: =3/12 -> 0.25 | P21: =3/12 -> 0.25 | Q21: =3/12 -> 0.25 | ... U21: =3/12 -> 0.25
A22: R04363 | Cristovão Sousa | B22: D3 - Data Management Specialist | H22: x | J22: =3/12 -> 0.25 | K22: =3/12 -> 0.25 | L22: =3/12 -> 0.25 | M22: =3/12 -> 0.25 | N22: =3/12 -> 0.25 | O22: =3/12 -> 0.25 | P22: =3/12 -> 0.25 | Q22: =3/12 -> 0.25 | ... U22: =3/12 -> 0.25
A23: R05965 | Luís Guimarães | B23: D4 - Data Analytics Specialist | H23: x | J23: =1/12 -> 0.083333333 | K23: =1/12 -> 0.083333333 | L23: =1/12 -> 0.083333333 | M23: =1/12 -> 0.083333333 | N23: =1/12 -> 0.083333333 | O23: =1/12 -> 0.083333333 | P23: =1/12 -> 0.083333333 | Q23: =1/12 -> 0.083333333 | ... U23: =1/12 -> 0.083333333
A24: R08941 | Ricardo Ferreira | B24: C5 - Software Development Specialist | H24: x | J24: =1/12 -> 0.083333333 | K24: =1/12 -> 0.083333333 | L24: =1/12 -> 0.083333333 | M24: =1/12 -> 0.083333333 | N24: =1/12 -> 0.083333333 | O24: =1/12 -> 0.083333333 | P24: =1/12 -> 0.083333333 | Q24: =1/12 -> 0.083333333 | ... U24: =1/12 -> 0.083333333
A25: R08708 | Henrique Piqueiro | B25: C6 - Simulation and Digital Twin Specialist | H25: x | J25: =1/12 -> 0.083333333 | K25: =1/12 -> 0.083333333 | L25: =1/12 -> 0.083333333 | M25: =1/12 -> 0.083333333 | N25: =1/12 -> 0.083333333 | O25: =1/12 -> 0.083333333 | P25: =1/12 -> 0.083333333 | Q25: =1/12 -> 0.083333333 | ... U25: =1/12 -> 0.083333333
A26: R06081 | Gonçalo Reis Figueira | B26: D5 - Operations Management and Data Analytics Specialist | H26: x | J26: =1/12 -> 0.083333333 | K26: =1/12 -> 0.083333333 | L26: =1/12 -> 0.083333333 | M26: =1/12 -> 0.083333333 | N26: =1/12 -> 0.083333333 | O26: =1/12 -> 0.083333333 | P26: =1/12 -> 0.083333333 | Q26: =1/12 -> 0.083333333 | ... U26: =1/12 -> 0.083333333
A27: 2 | B27: AI, computer vision and AR solutions | C27: P | D27: P | G27: R | H27: P | I27: P
A29: 2.1 | B29: CV algorithms for colour-tone detection in leathers | C29: x | D29: x | G29: x | I29: x
A31: 2.2 | B31: Generative AI for conceptual footwear design | C31: x | D31: x | G31: x | I31: x
A33: 2.3 | B33: AI for digitisation and defect identification in leathers | C33: x | D33: x | G33: x | I33: x
A35: 2.4 | B35: AR for interactive mould placement and piece collection | C35: x | D35: x | G35: x | I35: x
A37: 2.5 | B37: AR for immersive 3D visualisation and design validation | C37: x | D37: x | G37: x | I37: x
A39: 2.6 | B39: AI-optimised nesting engine (chromatic variations) | C39: x | D39: x | G39: x | I39: x
A42: 3 | B42: Robotics, industrial vision and laser | C42: P | D42: P | E42: R | I42: P
A44: 3.1 | B44: DCSI AI Vision Factory: vision systems and AI inspection software | C44: x | D44: x | E44: x | I44: x
A46: 3.2 | B46: DCSI AI Robotic Factory: tooling, manipulation and assembly | C46: x | D46: x | E46: x | I46: x
A48: 3.3 | B48: DCSI AI Laser Lab: 3D roughing, engraving and parameter validation | C48: x | D48: x | E48: x | I48: x
A51: 4 | B51: Digital twin development | F51: R | H51: P | I51: P
A53: 4.1 | B53: Industrial mapping and priority use cases | F53: x | H53: x | I53: x
A55: 4.2 | B55: Functional architecture, data model and validation plan | F55: x | H55: x | I55: x
A57: 4.3 | B57: Digital model of upper-injection line (FOOTWEAR TWIN) | F57: x | H57: x | I57: x
A59: 4.4 | B59: Simulation, synchronisation and technical validation | F59: x | H59: x | I59: x
A61: 4.5 | B61: Planning, sequencing and re-planning algorithms (OPTIMIZE) | F61: x | H61: x | I61: x
A63: 4.6 | B63: Predictive models for quality, delay and maintenance | F63: x | H63: x | I63: x
...
