Workbook
Name D_Indice100: 1636.83
Name Estado: [1]Listas_limites!#REF!
Name Mês: [1]Listas_limites!#REF!

Sheet Categorias
A1: Aquisição de patentes e direitos de propriedade
A2: Matérias-primas e materiais consumíveis
A3: Aquisição de componentes
A4: Consultoria
A5: Estudos/Relatórios DNSH
A6: Assistência técnica
A7: Aquisição de serviços
A8: Equipamento informático
A9: Software e licenças
A10: Máquinas e equipamentos
A11: Aquisição de instrumentos e equipamento científico e técnico
A12: Registo de patentes (Taxas Oficiais)
... A21: CC/ROC

Sheet Tecnicos
A1: ID | B1: Beneficiário | C1: Nova | D1: NIF | E1: Nome/Perfil (colocar perfis) | F1: Nível | G1: Vínculo | H1: Vencimento mês (Consultar SAAF para Valores) | I1: Seguro Social Voluntário | J1: Seguro Acidentes Pessoais | K1: Taxa Segurança Social | L1: Critico | M1: Custo ETI
C2: Não | E2: D1 - Operations Management Specialist | F2: Nível 8 - Doutorado | G2: Quadro de Cedência Ocasional [Docentes] | H2: 5227.28 | I2: =IF(G2="Bolseiro",158.99,0) -> 0 | J2: =IF(G2="Bolseiro",68.65,0) -> 0 | K2: =IF(G2="Bolseiro",0,22.3%) -> 0.223 | M2: =IF(G2="Bolseiro",(H2+I2+J2)*12/11,H2*(1+K2)*14/11) -> 8136.4989
C3: Não | E3: C1 - Digital Architecture Specialist | F3: Nível 6 - Licenciado | G3: Contrato de Trablho a Termo Incerto | H3: 4593.99 | I3: =IF(G3="Bolseiro",158.99,0) -> 0 | J3: =IF(G3="Bolseiro",68.65,0) -> 0 | K3: =IF(G3="Bolseiro",0,22.3%) -> 0.223 | L3: Sim | M3: =IF(G3="Bolseiro",(H3+I3+J3)*12/11,H3*(1+K3)*14/11) -> 7150.7543
C4: Não | E4: C2 - Simulation and Digital Twin Specialist | F4: Nível 7 - Mestre | G4: Contrato de Trablho a Termo Incerto | H4: 2902.17 | I4: =IF(G4="Bolseiro",158.99,0) -> 0 | J4: =IF(G4="Bolseiro",68.65,0) -> 0 | K4: =IF(G4="Bolseiro",0,22.3%) -> 0.223 | M4: =IF(G4="Bolseiro",(H4+I4+J4)*12/11,H4*(1+K4)*14/11) -> 4517.3595
C5: Não | E5: C3 - Digital Architeture and Data Infrastructure Specialist | F5: Nível 7 - Mestre | G5: Contrato de Trablho a Termo Incerto | H5: 1896.07 | I5: =IF(G5="Bolseiro",158.99,0) -> 0 | J5: =IF(G5="Bolseiro",68.65,0) -> 0 | K5: =IF(G5="Bolseiro",0,22.3%) -> 0.223 | M5: =IF(G5="Bolseiro",(H5+I5+J5)*12/11,H5*(1+K5)*14/11) -> 2951.3191
C6: Não | E6: C4 - Digital Architeture and Data Infrastructure Specialist | F6: Nível 7 - Mestre | G6: Contrato de Trablho a Termo Incerto | H6: 4029.99 | I6: =IF(G6="Bolseiro",158.99,0) -> 0 | J6: =IF(G6="Bolseiro",68.65,0) -> 0 | K6: =IF(G6="Bolseiro",0,22.3%) -> 0.223 | M6: =IF(G6="Bolseiro",(H6+I6+J6)*12/11,H6*(1+K6)*14/11) -> 6272.8626
C7: Não | E7: D2 - Technology Adoption Specialist | F7: Nível 8 - Doutorado | G7: Quadro de Cedência Ocasional [Docentes] | H7: 3393.14 | I7: =IF(G7="Bolseiro",158.99,0) -> 0 | J7: =IF(G7="Bolseiro",68.65,0) -> 0 | K7: =IF(G7="Bolseiro",0,22.3%) -> 0.223 | M7: =IF(G7="Bolseiro",(H7+I7+J7)*12/11,H7*(1+K7)*14/11) -> 5281.5766
C8: Não | E8: D3 - Data Management Specialist | F8: Nível 8 - Doutorado | G8: Quadro de Cedência Ocasional [Docentes] | H8: 4035.1 | I8: =IF(G8="Bolseiro",158.99,0) -> 0 | J8: =IF(G8="Bolseiro",68.65,0) -> 0 | K8: =IF(G8="Bolseiro",0,22.3%) -> 0.223 | L8: Sim | M8: =IF(G8="Bolseiro",(H8+I8+J8)*12/11,H8*(1+K8)*14/11) -> 6280.8166
C9: Não | E9: D4 - Data Analytics Specialist | F9: Nível 8 - Doutorado | G9: Quadro de Cedência Ocasional [Docentes] | H9: 4218.5 | I9: =IF(G9="Bolseiro",158.99,0) -> 0 | J9: =IF(G9="Bolseiro",68.65,0) -> 0 | K9: =IF(G9="Bolseiro",0,22.3%) -> 0.223 | M9: =IF(G9="Bolseiro",(H9+I9+J9)*12/11,H9*(1+K9)*14/11) -> 6566.287
C10: Não | E10: C5 - Software Development Specialist | F10: Nível 7 - Mestre | G10: Contrato de Trablho a Termo Incerto | H10: 2229.65 | I10: =IF(G10="Bolseiro",158.99,0) -> 0 | J10: =IF(G10="Bolseiro",68.65,0) -> 0 | K10: =IF(G10="Bolseiro",0,22.3%) -> 0.223 | M10: =IF(G10="Bolseiro",(H10+I10+J10)*12/11,H10*(1+K10)*14/11) -> 3470.5516
C11: Não | E11: C6 - Simulation and Digital Twin Specialist | F11: Nível 7 - Mestre | G11: Contrato de Trablho a Termo Incerto | H11: 1812.2 | I11: =IF(G11="Bolseiro",158.99,0) -> 0 | J11: =IF(G11="Bolseiro",68.65,0) -> 0 | K11: =IF(G11="Bolseiro",0,22.3%) -> 0.223 | M11: =IF(G11="Bolseiro",(H11+I11+J11)*12/11,H11*(1+K11)*14/11) -> 2820.7717
C12: Não | E12: D5 - Operations Management and Data Analytics Specialist | F12: Nível 8 - Doutorado | G12: Quadro de Cedência Ocasional [Docentes] | H12: 3851.67 | I12: =IF(G12="Bolseiro",158.99,0) -> 0 | J12: =IF(G12="Bolseiro",68.65,0) -> 0 | K12: =IF(G12="Bolseiro",0,22.3%) -> 0.223 | M12: =IF(G12="Bolseiro",(H12+I12+J12)*12/11,H12*(1+K12)*14/11) -> 5995.2994
I13: =IF(G13="Bolseiro",158.99,0) -> 0 | J13: =IF(G13="Bolseiro",68.65,0) -> 0 | K13: =IF(G13="Bolseiro",0,22.3%) -> 0.223 | M13: =IF(G13="Bolseiro",(H13+I13+J13)*12/11,H13*(1+K13)*14/11) -> 0
I14: =IF(G14="Bolseiro",158.99,0) -> 0 | J14: =IF(G14="Bolseiro",68.65,0) -> 0 | K14: =IF(G14="Bolseiro",0,22.3%) -> 0.223 | M14: =IF(G14="Bolseiro",(H14+I14+J14)*12/11,H14*(1+K14)*14/11) -> 0
I15: =IF(G15="Bolseiro",158.99,0) -> 0 | J15: =IF(G15="Bolseiro",68.65,0) -> 0 | K15: =IF(G15="Bolseiro",0,22.3%) -> 0.223 | M15: =IF(G15="Bolseiro",(H15+I15+J15)*12/11,H15*(1+K15)*14/11) -> 0
I16: =IF(G16="Bolseiro",158.99,0) -> 0 | J16: =IF(G16="Bolseiro",68.65,0) -> 0 | K16: =IF(G16="Bolseiro",0,22.3%) -> 0.223 | M16: =IF(G16="Bolseiro",(H16+I16+J16)*12/11,H16*(1+K16)*14/11) -> 0
I17: =IF(G17="Bolseiro",158.99,0) -> 0 | J17: =IF(G17="Bolseiro",68.65,0) -> 0 | K17: =IF(G17="Bolseiro",0,22.3%) -> 0.223 | M17: =IF(G17="Bolseiro",(H17+I17+J17)*12/11,H17*(1+K17)*14/11) -> 0
I18: =IF(G18="Bolseiro",158.99,0) -> 0 | J18: =IF(G18="Bolseiro",68.65,0) -> 0 | K18: =IF(G18="Bolseiro",0,22.3%) -> 0.223 | M18: =IF(G18="Bolseiro",(H18+I18+J18)*12/11,H18*(1+K18)*14/11) -> 0
I19: =IF(G19="Bolseiro",158.99,0) -> 0 | J19: =IF(G19="Bolseiro",68.65,0) -> 0 | K19: =IF(G19="Bolseiro",0,22.3%) -> 0.223 | M19: =IF(G19="Bolseiro",(H19+I19+J19)*12/11,H19*(1+K19)*14/11) -> 0
I20: =IF(G20="Bolseiro",158.99,0) -> 0 | J20: =IF(G20="Bolseiro",68.65,0) -> 0 | K20: =IF(G20="Bolseiro",0,22.3%) -> 0.223 | M20: =IF(G20="Bolseiro",(H20+I20+J20)*12/11,H20*(1+K20)*14/11) -> 0

Sheet Folha1
A3: Rótulos de Linha | B3: Soma de ETI 0 (Ano 2027) | C3: Soma de ETI 1 (Ano 2028) | D3: Soma de ET2 (Ano 2029)
A4: C1 - Digital Architecture Specialist | B4: 5 | C4: 5 | D4: 5
A5: C2 - Simulation and Digital Twin Specialist | B5: 5 | C5: 5 | D5: 5
A6: C3 - Digital Architeture and Data Infrastructure Specialist | B6: 5 | C6: 5 | D6: 5
A7: C4 - Digital Architeture and Data Infrastructure Specialist | B7: 5 | C7: 5 | D7: 5
A8: C5 - Software Development Specialist | B8: 8 | C8: 8 | D8: 8.0833333
A9: C6 - Simulation and Digital Twin Specialist | B9: 8 | C9: 8 | D9: 8.0833333
A10: D1 - Operations Management Specialist | B10: 3 | C10: 3 | D10: 3
A11: D2 - Technology Adoption Specialist | B11: 3 | C11: 3 | D11: 3
A12: D3 - Data Management Specialist | B12: 3 | C12: 3 | D12: 3
A13: D4 - Data Analytics Specialist | B13: 4 | C13: 4 | D13: 4
A14: D5 - Operations Management and Data Analytics Specialist | B14: 2.5 | C14: 2.5 | D14: 2.4857143
A15: (em branco)
A16: Total Geral | B16: 51.5 | C16: 51.5 | D16: 51.652381

Sheet Pessoal
A1: N.º | B1: Técnico | C1: Conteúdo Funcional | D1: Estab. | E1: Atividade | F1: ETI 0 (Ano 2027) | G1: ETI 1 (Ano 2028) | H1: ET2 (Ano 2029) | I1: ET3 (Ano 2030) | J1: Valor (Custo Total Pessoal) | K1: Custo ETI (Ano 2027) | L1: Custo ETI (Ano 2028) | M1: Custo ETI (Ano 2029) | N1: Custo ETI (Ano 2030)
B2: D1 - Operations Management Specialist | J2: =SUM(F2:I2)*K2 -> 0 | K2: =IFERROR(VLOOKUP($B2,Tecnicos!$E$1:$M$20,9,0)*F2,) -> 0 | L2: =IFERROR(VLOOKUP($B2,Tecnicos!$E$1:$M$20,9,0)*G2,) -> 0 | M2: =IFERROR(VLOOKUP($B2,Tecnicos!$E$1:$M$20,9,0)*H2,) -> 0 | N2: =IFERROR(VLOOKUP($B2,Tecnicos!$E$1:$M$20,9,0)*I2,) -> 0
B3: C1 - Digital Architecture Specialist | J3: =SUM(F3:I3)*K3 -> 0 | K3: =IFERROR(VLOOKUP($B3,Tecnicos!$E$1:$M$20,9,0)*F3,) -> 0 | L3: =IFERROR(VLOOKUP($B3,Tecnicos!$E$1:$M$20,9,0)*G3,) -> 0 | M3: =IFERROR(VLOOKUP($B3,Tecnicos!$E$1:$M$20,9,0)*H3,) -> 0 | N3: =IFERROR(VLOOKUP($B3,Tecnicos!$E$1:$M$20,9,0)*I3,) -> 0
B4: C2 - Simulation and Digital Twin Specialist | J4: =SUM(F4:I4)*K4 -> 0 | K4: =IFERROR(VLOOKUP($B4,Tecnicos!$E$1:$M$20,9,0)*F4,) -> 0 | L4: =IFERROR(VLOOKUP($B4,Tecnicos!$E$1:$M$20,9,0)*G4,) -> 0 | M4: =IFERROR(VLOOKUP($B4,Tecnicos!$E$1:$M$20,9,0)*H4,) -> 0 | N4: =IFERROR(VLOOKUP($B4,Tecnicos!$E$1:$M$20,9,0)*I4,) -> 0
B5: C3 - Digital Architeture and Data Infrastructure Specialist | J5: =SUM(F5:I5)*K5 -> 0 | K5: =IFERROR(VLOOKUP($B5,Tecnicos!$E$1:$M$20,9,0)*F5,) -> 0 | L5: =IFERROR(VLOOKUP($B5,Tecnicos!$E$1:$M$20,9,0)*G5,) -> 0 | M5: =IFERROR(VLOOKUP($B5,Tecnicos!$E$1:$M$20,9,0)*H5,) -> 0 | N5: =IFERROR(VLOOKUP($B5,Tecnicos!$E$1:$M$20,9,0)*I5,) -> 0
B6: C4 - Digital Architeture and Data Infrastructure Specialist | J6: =SUM(F6:I6)*K6 -> 0 | K6: =IFERROR(VLOOKUP($B6,Tecnicos!$E$1:$M$20,9,0)*F6,) -> 0 | L6: =IFERROR(VLOOKUP($B6,Tecnicos!$E$1:$M$20,9,0)*G6,) -> 0 | M6: =IFERROR(VLOOKUP($B6,Tecnicos!$E$1:$M$20,9,0)*H6,) -> 0 | N6: =IFERROR(VLOOKUP($B6,Tecnicos!$E$1:$M$20,9,0)*I6,) -> 0
B7: D2 - Technology Adoption Specialist | J7: =SUM(F7:I7)*K7 -> 0 | K7: =IFERROR(VLOOKUP($B7,Tecnicos!$E$1:$M$20,9,0)*F7,) -> 0 | L7: =IFERROR(VLOOKUP($B7,Tecnicos!$E$1:$M$20,9,0)*G7,) -> 0 | M7: =IFERROR(VLOOKUP($B7,Tecnicos!$E$1:$M$20,9,0)*H7,) -> 0 | N7: =IFERROR(VLOOKUP($B7,Tecnicos!$E$1:$M$20,9,0)*I7,) -> 0
B8: D3 - Data Management Specialist | J8: =SUM(F8:I8)*K8 -> 0 | K8: =IFERROR(VLOOKUP($B8,Tecnicos!$E$1:$M$20,9,0)*F8,) -> 0 | L8: =IFERROR(VLOOKUP($B8,Tecnicos!$E$1:$M$20,9,0)*G8,) -> 0 | M8: =IFERROR(VLOOKUP($B8,Tecnicos!$E$1:$M$20,9,0)*H8,) -> 0 | N8: =IFERROR(VLOOKUP($B8,Tecnicos!$E$1:$M$20,9,0)*I8,) -> 0
B9: D4 - Data Analytics Specialist | J9: =SUM(F9:I9)*K9 -> 0 | K9: =IFERROR(VLOOKUP($B9,Tecnicos!$E$1:$M$20,9,0)*F9,) -> 0 | L9: =IFERROR(VLOOKUP($B9,Tecnicos!$E$1:$M$20,9,0)*G9,) -> 0 | M9: =IFERROR(VLOOKUP($B9,Tecnicos!$E$1:$M$20,9,0)*H9,) -> 0 | N9: =IFERROR(VLOOKUP($B9,Tecnicos!$E$1:$M$20,9,0)*I9,) -> 0
B10: C5 - Software Development Specialist | J10: =SUM(F10:I10)*K10 -> 0 | K10: =IFERROR(VLOOKUP($B10,Tecnicos!$E$1:$M$20,9,0)*F10,) -> 0 | L10: =IFERROR(VLOOKUP($B10,Tecnicos!$E$1:$M$20,9,0)*G10,) -> 0 | M10: =IFERROR(VLOOKUP($B10,Tecnicos!$E$1:$M$20,9,0)*H10,) -> 0 | N10: =IFERROR(VLOOKUP($B10,Tecnicos!$E$1:$M$20,9,0)*I10,) -> 0
B11: C6 - Simulation and Digital Twin Specialist | J11: =SUM(F11:I11)*K11 -> 0 | K11: =IFERROR(VLOOKUP($B11,Tecnicos!$E$1:$M$20,9,0)*F11,) -> 0 | L11: =IFERROR(VLOOKUP($B11,Tecnicos!$E$1:$M$20,9,0)*G11,) -> 0 | M11: =IFERROR(VLOOKUP($B11,Tecnicos!$E$1:$M$20,9,0)*H11,) -> 0 | N11: =IFERROR(VLOOKUP($B11,Tecnicos!$E$1:$M$20,9,0)*I11,) -> 0
B12: D5 - Operations Management and Data Analytics Specialist | J12: =SUM(F12:I12)*K12 -> 0 | K12: =IFERROR(VLOOKUP($B12,Tecnicos!$E$1:$M$20,9,0)*F12,) -> 0 | L12: =IFERROR(VLOOKUP($B12,Tecnicos!$E$1:$M$20,9,0)*G12,) -> 0 | M12: =IFERROR(VLOOKUP($B12,Tecnicos!$E$1:$M$20,9,0)*H12,) -> 0 | N12: =IFERROR(VLOOKUP($B12,Tecnicos!$E$1:$M$20,9,0)*I12,) -> 0
J13: =SUM(F13:I13)*K13 -> 0 | K13: =IFERROR(VLOOKUP($B13,Tecnicos!$E$1:$M$20,9,0)*F13,) -> 0 | L13: =IFERROR(VLOOKUP($B13,Tecnicos!$E$1:$M$20,9,0)*G13,) -> 0 | M13: =IFERROR(VLOOKUP($B13,Tecnicos!$E$1:$M$20,9,0)*H13,) -> 0 | N13: =IFERROR(VLOOKUP($B13,Tecnicos!$E$1:$M$20,9,0)*I13,) -> 0
B14: D1 - Operations Management Specialist | E14: A1 State of the art and technological surveillance | F14: =Gantt!U198 -> 3 | J14: =SUM(F14:I14)*K14 -> 73228.49 | K14: =IFERROR(VLOOKUP($B14,Tecnicos!$E$1:$M$20,9,0)*F14,) -> 24409.497 | L14: =IFERROR(VLOOKUP($B14,Tecnicos!$E$1:$M$20,9,0)*G14,) -> 0 | M14: =IFERROR(VLOOKUP($B14,Tecnicos!$E$1:$M$20,9,0)*H14,) -> 0 | N14: =IFERROR(VLOOKUP($B14,Tecnicos!$E$1:$M$20,9,0)*I14,) -> 0
B15: C1 - Digital Architecture Specialist | E15: A1 State of the art and technological surveillance | F15: =Gantt!U199 -> 1 | J15: =SUM(F15:I15)*K15 -> 7150.7543 | K15: =IFERROR(VLOOKUP($B15,Tecnicos!$E$1:$M$20,9,0)*F15,) -> 7150.7543 | L15: =IFERROR(VLOOKUP($B15,Tecnicos!$E$1:$M$20,9,0)*G15,) -> 0 | M15: =IFERROR(VLOOKUP($B15,Tecnicos!$E$1:$M$20,9,0)*H15,) -> 0 | N15: =IFERROR(VLOOKUP($B15,Tecnicos!$E$1:$M$20,9,0)*I15,) -> 0
B16: C2 - Simulation and Digital Twin Specialist | E16: A1 State of the art and technological surveillance | F16: =Gantt!U200 -> 1 | J16: =SUM(F16:I16)*K16 -> 4517.3595 | K16: =IFERROR(VLOOKUP($B16,Tecnicos!$E$1:$M$20,9,0)*F16,) -> 4517.3595 | L16: =IFERROR(VLOOKUP($B16,Tecnicos!$E$1:$M$20,9,0)*G16,) -> 0 | M16: =IFERROR(VLOOKUP($B16,Tecnicos!$E$1:$M$20,9,0)*H16,) -> 0 | N16: =IFERROR(VLOOKUP($B16,Tecnicos!$E$1:$M$20,9,0)*I16,) -> 0
B17: C3 - Digital Architeture and Data Infrastructure Specialist | E17: A1 State of the art and technological surveillance | F17: =Gantt!U201 -> 1 | J17: =SUM(F17:I17)*K17 -> 2951.3191 | K17: =IFERROR(VLOOKUP($B17,Tecnicos!$E$1:$M$20,9,0)*F17,) -> 2951.3191 | L17: =IFERROR(VLOOKUP($B17,Tecnicos!$E$1:$M$20,9,0)*G17,) -> 0 | M17: =IFERROR(VLOOKUP($B17,Tecnicos!$E$1:$M$20,9,0)*H17,) -> 0 | N17: =IFERROR(VLOOKUP($B17,Tecnicos!$E$1:$M$20,9,0)*I17,) -> 0
B18: C4 - Digital Architeture and Data Infrastructure Specialist | E18: A1 State of the art and technological surveillance | F18: =Gantt!U202 -> 1 | J18: =SUM(F18:I18)*K18 -> 6272.8626 | K18: =IFERROR(VLOOKUP($B18,Tecnicos!$E$1:$M$20,9,0)*F18,) -> 6272.8626 | L18: =IFERROR(VLOOKUP($B18,Tecnicos!$E$1:$M$20,9,0)*G18,) -> 0 | M18: =IFERROR(VLOOKUP($B18,Tecnicos!$E$1:$M$20,9,0)*H18,) -> 0 | N18: =IFERROR(VLOOKUP($B18,Tecnicos!$E$1:$M$20,9,0)*I18,) -> 0
B19: D2 - Technology Adoption Specialist | E19: A1 State of the art and technological surveillance | F19: =Gantt!U203 -> 3 | J19: =SUM(F19:I19)*K19 -> 47534.19 | K19: =IFERROR(VLOOKUP($B19,Tecnicos!$E$1:$M$20,9,0)*F19,) -> 15844.73 | L19: =IFERROR(VLOOKUP($B19,Tecnicos!$E$1:$M$20,9,0)*G19,) -> 0 | M19: =IFERROR(VLOOKUP($B19,Tecnicos!$E$1:$M$20,9,0)*H19,) -> 0 | N19: =IFERROR(VLOOKUP($B19,Tecnicos!$E$1:$M$20,9,0)*I19,) -> 0
B20: D3 - Data Management Specialist | E20: A1 State of the art and technological surveillance | F20: =Gantt!U204 -> 3 | J20: =SUM(F20:I20)*K20 -> 56527.349 | K20: =IFERROR(VLOOKUP($B20,Tecnicos!$E$1:$M$20,9,0)*F20,) -> 18842.45 | L20: =IFERROR(VLOOKUP($B20,Tecnicos!$E$1:$M$20,9,0)*G20,) -> 0 | M20: =IFERROR(VLOOKUP($B20,Tecnicos!$E$1:$M$20,9,0)*H20,) -> 0 | N20: =IFERROR(VLOOKUP($B20,Tecnicos!$E$1:$M$20,9,0)*I20,) -> 0
B21: D4 - Data Analytics Specialist | E21: A1 State of the art and technological surveillance | F21: =Gantt!U205 -> 1 | J21: =SUM(F21:I21)*K21 -> 6566.287 | K21: =IFERROR(VLOOKUP($B21,Tecnicos!$E$1:$M$20,9,0)*F21,) -> 6566.287 | L21: =IFERROR(VLOOKUP($B21,Tecnicos!$E$1:$M$20,9,0)*G21,) -> 0 | M21: =IFERROR(VLOOKUP($B21,Tecnicos!$E$1:$M$20,9,0)*H21,) -> 0 | N21: =IFERROR(VLOOKUP($B21,Tecnicos!$E$1:$M$20,9,0)*I21,) -> 0
B22: C5 - Software Development Specialist | E22: A1 State of the art and technological surveillance | F22: =Gantt!U206 -> 1 | J22: =SUM(F22:I22)*K22 -> 3470.5516 | K22: =IFERROR(VLOOKUP($B22,Tecnicos!$E$1:$M$20,9,0)*F22,) -> 3470.5516 | L22: =IFERROR(VLOOKUP($B22,Tecnicos!$E$1:$M$20,9,0)*G22,) -> 0 | M22: =IFERROR(VLOOKUP($B22,Tecnicos!$E$1:$M$20,9,0)*H22,) -> 0 | N22: =IFERROR(VLOOKUP($B22,Tecnicos!$E$1:$M$20,9,0)*I22,) -> 0
B23: C6 - Simulation and Digital Twin Specialist | E23: A1 State of the art and technological surveillance | F23: =Gantt!U207 -> 1 | J23: =SUM(F23:I23)*K23 -> 2820.7717 | K23: =IFERROR(VLOOKUP($B23,Tecnicos!$E$1:$M$20,9,0)*F23,) -> 2820.7717 | L23: =IFERROR(VLOOKUP($B23,Tecnicos!$E$1:$M$20,9,0)*G23,) -> 0 | M23: =IFERROR(VLOOKUP($B23,Tecnicos!$E$1:$M$20,9,0)*H23,) -> 0 | N23: =IFERROR(VLOOKUP($B23,Tecnicos!$E$1:$M$20,9,0)*I23,) -> 0
B24: D5 - Operations Management and Data Analytics Specialist | E24: A1 State of the art and technological surveillance | F24: =Gantt!U208 -> 1 | J24: =SUM(F24:I24)*K24 -> 5995.2994 | K24: =IFERROR(VLOOKUP($B24,Tecnicos!$E$1:$M$20,9,0)*F24,) -> 5995.2994 | L24: =IFERROR(VLOOKUP($B24,Tecnicos!$E$1:$M$20,9,0)*G24,) -> 0 | M24: =IFERROR(VLOOKUP($B24,Tecnicos!$E$1:$M$20,9,0)*H24,) -> 0 | N24: =IFERROR(VLOOKUP($B24,Tecnicos!$E$1:$M$20,9,0)*I24,) -> 0 | P24: =SUM(F14:F24)/154.5 -> 0.11003236
J25: =SUM(F25:I25)*K25 -> 0 | K25: =IFERROR(VLOOKUP($B25,Tecnicos!$E$1:$M$20,9,0)*F25,) -> 0 | L25: =IFERROR(VLOOKUP($B25,Tecnicos!$E$1:$M$20,9,0)*G25,) -> 0 | M25: =IFERROR(VLOOKUP($B25,Tecnicos!$E$1:$M$20,9,0)*H25,) -> 0 | N25: =IFERROR(VLOOKUP($B25,Tecnicos!$E$1:$M$20,9,0)*I25,) -> 0
B26: D1 - Operations Management Specialist | E26: A4 Digital twin development | F26: =Gantt!U211 -> 0 | G26: =Gantt!AG211 -> 1 | H26: =Gantt!AS211 -> 0.4 | J26: =SUM(F26:I26)*K26 -> 0 | K26: =IFERROR(VLOOKUP($B26,Tecnicos!$E$1:$M$20,9,0)*F26,) -> 0 | L26: =IFERROR(VLOOKUP($B26,Tecnicos!$E$1:$M$20,9,0)*G26,) -> 8136.4989 | M26: =IFERROR(VLOOKUP($B26,Tecnicos!$E$1:$M$20,9,0)*H26,) -> 3254.5996 | N26: =IFERROR(VLOOKUP($B26,Tecnicos!$E$1:$M$20,9,0)*I26,) -> 0
B27: C1 - Digital Architecture Specialist | E27: A4 Digital twin development | F27: =Gantt!U212 -> 3 | G27: =Gantt!AG212 -> 2 | H27: =Gantt!AS212 -> 0.8 | J27: =SUM(F27:I27)*K27 -> 124423.12 | K27: =IFERROR(VLOOKUP($B27,Tecnicos!$E$1:$M$20,9,0)*F27,) -> 21452.263 | L27: =IFERROR(VLOOKUP($B27,Tecnicos!$E$1:$M$20,9,0)*G27,) -> 14301.509 | M27: =IFERROR(VLOOKUP($B27,Tecnicos!$E$1:$M$20,9,0)*H27,) -> 5720.6034 | N27: =IFERROR(VLOOKUP($B27,Tecnicos!$E$1:$M$20,9,0)*I27,) -> 0
B28: C2 - Simulation and Digital Twin Specialist | E28: A4 Digital twin development | F28: =Gantt!U213 -> 4 | G28: =Gantt!AG213 -> 3 | H28: =Gantt!AS213 -> 1.2 | J28: =SUM(F28:I28)*K28 -> 148169.39 | K28: =IFERROR(VLOOKUP($B28,Tecnicos!$E$1:$M$20,9,0)*F28,) -> 18069.438 | L28: =IFERROR(VLOOKUP($B28,Tecnicos!$E$1:$M$20,9,0)*G28,) -> 13552.079 | M28: =IFERROR(VLOOKUP($B28,Tecnicos!$E$1:$M$20,9,0)*H28,) -> 5420.8314 | N28: =IFERROR(VLOOKUP($B28,Tecnicos!$E$1:$M$20,9,0)*I28,) -> 0
B29: C3 - Digital Architeture and Data Infrastructure Specialist | E29: A4 Digital twin development | F29: =Gantt!U214 -> 4 | G29: =Gantt!AG214 -> 3 | H29: =Gantt!AS214 -> 1.2 | J29: =SUM(F29:I29)*K29 -> 96803.268 | K29: =IFERROR(VLOOKUP($B29,Tecnicos!$E$1:$M$20,9,0)*F29,) -> 11805.277 | L29: =IFERROR(VLOOKUP($B29,Tecnicos!$E$1:$M$20,9,0)*G29,) -> 8853.9574 | M29: =IFERROR(VLOOKUP($B29,Tecnicos!$E$1:$M$20,9,0)*H29,) -> 3541.583 | N29: =IFERROR(VLOOKUP($B29,Tecnicos!$E$1:$M$20,9,0)*I29,) -> 0
B30: C4 - Digital Architeture and Data Infrastructure Specialist | E30: A4 Digital twin development | F30: =Gantt!U215 -> 4 | G30: =Gantt!AG215 -> 3 | H30: =Gantt!AS215 -> 1.2 | J30: =SUM(F30:I30)*K30 -> 205749.89 | K30: =IFERROR(VLOOKUP($B30,Tecnicos!$E$1:$M$20,9,0)*F30,) -> 25091.45 | L30: =IFERROR(VLOOKUP($B30,Tecnicos!$E$1:$M$20,9,0)*G30,) -> 18818.588 | M30: =IFERROR(VLOOKUP($B30,Tecnicos!$E$1:$M$20,9,0)*H30,) -> 7527.4351 | N30: =IFERROR(VLOOKUP($B30,Tecnicos!$E$1:$M$20,9,0)*I30,) -> 0
B31: D2 - Technology Adoption Specialist | E31: A4 Digital twin development | F31: =Gantt!U216 -> 0 | G31: =Gantt!AG216 -> 1 | H31: =Gantt!AS216 -> 0.4 | J31: =SUM(F31:I31)*K31 -> 0 | K31: =IFERROR(VLOOKUP($B31,Tecnicos!$E$1:$M$20,9,0)*F31,) -> 0 | L31: =IFERROR(VLOOKUP($B31,Tecnicos!$E$1:$M$20,9,0)*G31,) -> 5281.5766 | M31: =IFERROR(VLOOKUP($B31,Tecnicos!$E$1:$M$20,9,0)*H31,) -> 2112.6307 | N31: =IFERROR(VLOOKUP($B31,Tecnicos!$E$1:$M$20,9,0)*I31,) -> 0
B32: D3 - Data Management Specialist | E32: A4 Digital twin development | F32: =Gantt!U217 -> 0 | G32: =Gantt!AG217 -> 1 | H32: =Gantt!AS217 -> 0.4 | J32: =SUM(F32:I32)*K32 -> 0 | K32: =IFERROR(VLOOKUP($B32,Tecnicos!$E$1:$M$20,9,0)*F32,) -> 0 | L32: =IFERROR(VLOOKUP($B32,Tecnicos!$E$1:$M$20,9,0)*G32,) -> 6280.8166 | M32: =IFERROR(VLOOKUP($B32,Tecnicos!$E$1:$M$20,9,0)*H32,) -> 2512.3266 | N32: =IFERROR(VLOOKUP($B32,Tecnicos!$E$1:$M$20,9,0)*I32,) -> 0
B33: D4 - Data Analytics Specialist | E33: A4 Digital twin development | F33: =Gantt!U218 -> 3 | G33: =Gantt!AG218 -> 2 | H33: =Gantt!AS218 -> 0.8 | J33: =SUM(F33:I33)*K33 -> 114253.39 | K33: =IFERROR(VLOOKUP($B33,Tecnicos!$E$1:$M$20,9,0)*F33,) -> 19698.861 | L33: =IFERROR(VLOOKUP($B33,Tecnicos!$E$1:$M$20,9,0)*G33,) -> 13132.574 | M33: =IFERROR(VLOOKUP($B33,Tecnicos!$E$1:$M$20,9,0)*H33,) -> 5253.0296 | N33: =IFERROR(VLOOKUP($B33,Tecnicos!$E$1:$M$20,9,0)*I33,) -> 0
B34: C5 - Software Development Specialist | E34: A4 Digital twin development | F34: =Gantt!U219 -> 7 | G34: =Gantt!AG219 -> 7 | H34: =Gantt!AS219 -> 2.4 | J34: =SUM(F34:I34)*K34 -> 398419.32 | K34: =IFERROR(VLOOKUP($B34,Tecnicos!$E$1:$M$20,9,0)*F34,) -> 24293.861 | L34: =IFERROR(VLOOKUP($B34,Tecnicos!$E$1:$M$20,9,0)*G34,) -> 24293.861 | M34: =IFERROR(VLOOKUP($B34,Tecnicos!$E$1:$M$20,9,0)*H34,) -> 8329.3238 | N34: =IFERROR(VLOOKUP($B34,Tecnicos!$E$1:$M$20,9,0)*I34,) -> 0
B35: C6 - Simulation and Digital Twin Specialist | E35: A4 Digital twin development | F35: =Gantt!U220 -> 7 | G35: =Gantt!AG220 -> 7 | H35: =Gantt!AS220 -> 2.4 | J35: =SUM(F35:I35)*K35 -> 323824.59 | K35: =IFERROR(VLOOKUP($B35,Tecnicos!$E$1:$M$20,9,0)*F35,) -> 19745.402 | L35: =IFERROR(VLOOKUP($B35,Tecnicos!$E$1:$M$20,9,0)*G35,) -> 19745.402 | M35: =IFERROR(VLOOKUP($B35,Tecnicos!$E$1:$M$20,9,0)*H35,) -> 6769.852 | N35: =IFERROR(VLOOKUP($B35,Tecnicos!$E$1:$M$20,9,0)*I35,) -> 0
B36: D5 - Operations Management and Data Analytics Specialist | E36: A4 Digital twin development | F36: =Gantt!U221 -> 1.5 | G36: =Gantt!AG221 -> 1.5 | H36: =Gantt!AS221 -> 0.4 | J36: =SUM(F36:I36)*K36 -> 30576.027 | K36: =IFERROR(VLOOKUP($B36,Tecnicos!$E$1:$M$20,9,0)*F36,) -> 8992.9491 | L36: =IFERROR(VLOOKUP($B36,Tecnicos!$E$1:$M$20,9,0)*G36,) -> 8992.9491 | M36: =IFERROR(VLOOKUP($B36,Tecnicos!$E$1:$M$20,9,0)*H36,) -> 2398.1198 | N36: =IFERROR(VLOOKUP($B36,Tecnicos!$E$1:$M$20,9,0)*I36,) -> 0 | P36: =SUM(F26:H36)/154.5 -> 0.49579288
J37: =SUM(F37:I37)*K37 -> 0 | K37: =IFERROR(VLOOKUP($B37,Tecnicos!$E$1:$M$20,9,0)*F37,) -> 0 | L37: =IFERROR(VLOOKUP($B37,Tecnicos!$E$1:$M$20,9,0)*G37,) -> 0 | M37: =IFERROR(VLOOKUP($B37,Tecnicos!$E$1:$M$20,9,0)*H37,) -> 0 | N37: =IFERROR(VLOOKUP($B37,Tecnicos!$E$1:$M$20,9,0)*I37,) -> 0
B38: D1 - Operations Management Specialist | E38: A5 Integration and validation in industrial environment | G38: =Gantt!AG226 -> 0 | H38: =Gantt!AS226 -> 0 | J38: =SUM(F38:I38)*K38 -> 0 | K38: =IFERROR(VLOOKUP($B38,Tecnicos!$E$1:$M$20,9,0)*F38,) -> 0 | L38: =IFERROR(VLOOKUP($B38,Tecnicos!$E$1:$M$20,9,0)*G38,) -> 0 | M38: =IFERROR(VLOOKUP($B38,Tecnicos!$E$1:$M$20,9,0)*H38,) -> 0 | N38: =IFERROR(VLOOKUP($B38,Tecnicos!$E$1:$M$20,9,0)*I38,) -> 0
B39: C1 - Digital Architecture Specialist | E39: A5 Integration and validation in industrial environment | G39: =Gantt!AG227 -> 1 | H39: =Gantt!AS227 -> 1.4 | J39: =SUM(F39:I39)*K39 -> 0 | K39: =IFERROR(VLOOKUP($B39,Tecnicos!$E$1:$M$20,9,0)*F39,) -> 0 | L39: =IFERROR(VLOOKUP($B39,Tecnicos!$E$1:$M$20,9,0)*G39,) -> 7150.7543 | M39: =IFERROR(VLOOKUP($B39,Tecnicos!$E$1:$M$20,9,0)*H39,) -> 10011.056 | N39: =IFERROR(VLOOKUP($B39,Tecnicos!$E$1:$M$20,9,0)*I39,) -> 0
B40: C2 - Simulation and Digital Twin Specialist | E40: A5 Integration and validation in industrial environment | G40: =Gantt!AG228 -> 1 | H40: =Gantt!AS228 -> 3.2 | J40: =SUM(F40:I40)*K40 -> 0 | K40: =IFERROR(VLOOKUP($B40,Tecnicos!$E$1:$M$20,9,0)*F40,) -> 0 | L40: =IFERROR(VLOOKUP($B40,Tecnicos!$E$1:$M$20,9,0)*G40,) -> 4517.3595 | M40: =IFERROR(VLOOKUP($B40,Tecnicos!$E$1:$M$20,9,0)*H40,) -> 14455.55 | N40: =IFERROR(VLOOKUP($B40,Tecnicos!$E$1:$M$20,9,0)*I40,) -> 0
B41: C3 - Digital Architeture and Data Infrastructure Specialist | E41: A5 Integration and validation in industrial environment | G41: =Gantt!AG229 -> 1 | H41: =Gantt!AS229 -> 2 | J41: =SUM(F41:I41)*K41 -> 0 | K41: =IFERROR(VLOOKUP($B41,Tecnicos!$E$1:$M$20,9,0)*F41,) -> 0 | L41: =IFERROR(VLOOKUP($B41,Tecnicos!$E$1:$M$20,9,0)*G41,) -> 2951.3191 | M41: =IFERROR(VLOOKUP($B41,Tecnicos!$E$1:$M$20,9,0)*H41,) -> 5902.6383 | N41: =IFERROR(VLOOKUP($B41,Tecnicos!$E$1:$M$20,9,0)*I41,) -> 0
B42: C4 - Digital Architeture and Data Infrastructure Specialist | E42: A5 Integration and validation in industrial environment | G42: =Gantt!AG230 -> 1 | H42: =Gantt!AS230 -> 3.2 | J42: =SUM(F42:I42)*K42 -> 0 | K42: =IFERROR(VLOOKUP($B42,Tecnicos!$E$1:$M$20,9,0)*F42,) -> 0 | L42: =IFERROR(VLOOKUP($B42,Tecnicos!$E$1:$M$20,9,0)*G42,) -> 6272.8626 | M42: =IFERROR(VLOOKUP($B42,Tecnicos!$E$1:$M$20,9,0)*H42,) -> 20073.16 | N42: =IFERROR(VLOOKUP($B42,Tecnicos!$E$1:$M$20,9,0)*I42,) -> 0
B43: D2 - Technology Adoption Specialist | E43: A5 Integration and validation in industrial environment | G43: =Gantt!AG231 -> 0 | H43: =Gantt!AS231 -> 0 | J43: =SUM(F43:I43)*K43 -> 0 | K43: =IFERROR(VLOOKUP($B43,Tecnicos!$E$1:$M$20,9,0)*F43,) -> 0 | L43: =IFERROR(VLOOKUP($B43,Tecnicos!$E$1:$M$20,9,0)*G43,) -> 0 | M43: =IFERROR(VLOOKUP($B43,Tecnicos!$E$1:$M$20,9,0)*H43,) -> 0 | N43: =IFERROR(VLOOKUP($B43,Tecnicos!$E$1:$M$20,9,0)*I43,) -> 0
B44: D3 - Data Management Specialist | E44: A5 Integration and validation in industrial environment | G44: =Gantt!AG232 -> 0 | H44: =Gantt!AS232 -> 0 | J44: =SUM(F44:I44)*K44 -> 0 | K44: =IFERROR(VLOOKUP($B44,Tecnicos!$E$1:$M$20,9,0)*F44,) -> 0 | L44: =IFERROR(VLOOKUP($B44,Tecnicos!$E$1:$M$20,9,0)*G44,) -> 0 | M44: =IFERROR(VLOOKUP($B44,Tecnicos!$E$1:$M$20,9,0)*H44,) -> 0 | N44: =IFERROR(VLOOKUP($B44,Tecnicos!$E$1:$M$20,9,0)*I44,) -> 0
B45: D4 - Data Analytics Specialist | E45: A5 Integration and validation in industrial environment | G45: =Gantt!AG233 -> 1 | H45: =Gantt!AS233 -> 0 | J45: =SUM(F45:I45)*K45 -> 0 | K45: =IFERROR(VLOOKUP($B45,Tecnicos!$E$1:$M$20,9,0)*F45,) -> 0 | L45: =IFERROR(VLOOKUP($B45,Tecnicos!$E$1:$M$20,9,0)*G45,) -> 6566.287 | M45: =IFERROR(VLOOKUP($B45,Tecnicos!$E$1:$M$20,9,0)*H45,) -> 0 | N45: =IFERROR(VLOOKUP($B45,Tecnicos!$E$1:$M$20,9,0)*I45,) -> 0
B46: C5 - Software Development Specialist | E46: A5 Integration and validation in industrial environment | G46: =Gantt!AG234 -> 0 | H46: =Gantt!AS234 -> 0 | J46: =SUM(F46:I46)*K46 -> 0 | K46: =IFERROR(VLOOKUP($B46,Tecnicos!$E$1:$M$20,9,0)*F46,) -> 0 | L46: =IFERROR(VLOOKUP($B46,Tecnicos!$E$1:$M$20,9,0)*G46,) -> 0 | M46: =IFERROR(VLOOKUP($B46,Tecnicos!$E$1:$M$20,9,0)*H46,) -> 0 | N46: =IFERROR(VLOOKUP($B46,Tecnicos!$E$1:$M$20,9,0)*I46,) -> 0
B47: C6 - Simulation and Digital Twin Specialist | E47: A5 Integration and validation in industrial environment | G47: =Gantt!AG235 -> 0 | H47: =Gantt!AS235 -> 0 | J47: =SUM(F47:I47)*K47 -> 0 | K47: =IFERROR(VLOOKUP($B47,Tecnicos!$E$1:$M$20,9,0)*F47,) -> 0 | L47: =IFERROR(VLOOKUP($B47,Tecnicos!$E$1:$M$20,9,0)*G47,) -> 0 | M47: =IFERROR(VLOOKUP($B47,Tecnicos!$E$1:$M$20,9,0)*H47,) -> 0 | N47: =IFERROR(VLOOKUP($B47,Tecnicos!$E$1:$M$20,9,0)*I47,) -> 0
B48: D5 - Operations Management and Data Analytics Specialist | E48: A5 Integration and validation in industrial environment | G48: =Gantt!AG236 -> 0 | H48: =Gantt!AS236 -> 0 | J48: =SUM(F48:I48)*K48 -> 0 | K48: =IFERROR(VLOOKUP($B48,Tecnicos!$E$1:$M$20,9,0)*F48,) -> 0 | L48: =IFERROR(VLOOKUP($B48,Tecnicos!$E$1:$M$20,9,0)*G48,) -> 0 | M48: =IFERROR(VLOOKUP($B48,Tecnicos!$E$1:$M$20,9,0)*H48,) -> 0 | N48: =IFERROR(VLOOKUP($B48,Tecnicos!$E$1:$M$20,9,0)*I48,) -> 0 | P48: =SUM(F38:H48)/154.5 -> 0.09579288
J49: =SUM(F49:I49)*K49 -> 0 | K49: =IFERROR(VLOOKUP($B49,Tecnicos!$E$1:$M$20,9,0)*F49,) -> 0 | L49: =IFERROR(VLOOKUP($B49,Tecnicos!$E$1:$M$20,9,0)*G49,) -> 0 | M49: =IFERROR(VLOOKUP($B49,Tecnicos!$E$1:$M$20,9,0)*H49,) -> 0 | N49: =IFERROR(VLOOKUP($B49,Tecnicos!$E$1:$M$20,9,0)*I49,) -> 0
B50: D1 - Operations Management Specialist | E50: A6 Digital twin industrial integration | G50: =Gantt!AG239 -> 0.5 | H50: =Gantt!AS239 -> 0.6 | J50: =SUM(F50:I50)*K50 -> 0 | K50: =IFERROR(VLOOKUP($B50,Tecnicos!$E$1:$M$20,9,0)*F50,) -> 0 | L50: =IFERROR(VLOOKUP($B50,Tecnicos!$E$1:$M$20,9,0)*G50,) -> 4068.2495 | M50: =IFERROR(VLOOKUP($B50,Tecnicos!$E$1:$M$20,9,0)*H50,) -> 4881.8994 | N50: =IFERROR(VLOOKUP($B50,Tecnicos!$E$1:$M$20,9,0)*I50,) -> 0
B51: C1 - Digital Architecture Specialist | E51: A6 Digital twin industrial integration | G51: =Gantt!AG240 -> 0.5 | H51: =Gantt!AS240 -> 0.6 | J51: =SUM(F51:I51)*K51 -> 0 | K51: =IFERROR(VLOOKUP($B51,Tecnicos!$E$1:$M$20,9,0)*F51,) -> 0 | L51: =IFERROR(VLOOKUP($B51,Tecnicos!$E$1:$M$20,9,0)*G51,) -> 3575.3771 | M51: =IFERROR(VLOOKUP($B51,Tecnicos!$E$1:$M$20,9,0)*H51,) -> 4290.4526 | N51: =IFERROR(VLOOKUP($B51,Tecnicos!$E$1:$M$20,9,0)*I51,) -> 0
B52: C2 - Simulation and Digital Twin Specialist | E52: A6 Digital twin industrial integration | G52: =Gantt!AG241 -> 0.5 | H52: =Gantt!AS241 -> 0.6 | J52: =SUM(F52:I52)*K52 -> 0 | K52: =IFERROR(VLOOKUP($B52,Tecnicos!$E$1:$M$20,9,0)*F52,) -> 0 | L52: =IFERROR(VLOOKUP($B52,Tecnicos!$E$1:$M$20,9,0)*G52,) -> 2258.6798 | M52: =IFERROR(VLOOKUP($B52,Tecnicos!$E$1:$M$20,9,0)*H52,) -> 2710.4157 | N52: =IFERROR(VLOOKUP($B52,Tecnicos!$E$1:$M$20,9,0)*I52,) -> 0
B53: C3 - Digital Architeture and Data Infrastructure Specialist | E53: A6 Digital twin industrial integration | G53: =Gantt!AG242 -> 0.5 | H53: =Gantt!AS242 -> 0.6 | J53: =SUM(F53:I53)*K53 -> 0 | K53: =IFERROR(VLOOKUP($B53,Tecnicos!$E$1:$M$20,9,0)*F53,) -> 0 | L53: =IFERROR(VLOOKUP($B53,Tecnicos!$E$1:$M$20,9,0)*G53,) -> 1475.6596 | M53: =IFERROR(VLOOKUP($B53,Tecnicos!$E$1:$M$20,9,0)*H53,) -> 1770.7915 | N53: =IFERROR(VLOOKUP($B53,Tecnicos!$E$1:$M$20,9,0)*I53,) -> 0
B54: C4 - Digital Architeture and Data Infrastructure Specialist | E54: A6 Digital twin industrial integration | G54: =Gantt!AG243 -> 0.5 | H54: =Gantt!AS243 -> 0.6 | J54: =SUM(F54:I54)*K54 -> 0 | K54: =IFERROR(VLOOKUP($B54,Tecnicos!$E$1:$M$20,9,0)*F54,) -> 0 | L54: =IFERROR(VLOOKUP($B54,Tecnicos!$E$1:$M$20,9,0)*G54,) -> 3136.4313 | M54: =IFERROR(VLOOKUP($B54,Tecnicos!$E$1:$M$20,9,0)*H54,) -> 3763.7176 | N54: =IFERROR(VLOOKUP($B54,Tecnicos!$E$1:$M$20,9,0)*I54,) -> 0
B55: D2 - Technology Adoption Specialist | E55: A6 Digital twin industrial integration | G55: =Gantt!AG244 -> 0.5 | H55: =Gantt!AS244 -> 0.4 | J55: =SUM(F55:I55)*K55 -> 0 | K55: =IFERROR(VLOOKUP($B55,Tecnicos!$E$1:$M$20,9,0)*F55,) -> 0 | L55: =IFERROR(VLOOKUP($B55,Tecnicos!$E$1:$M$20,9,0)*G55,) -> 2640.7883 | M55: =IFERROR(VLOOKUP($B55,Tecnicos!$E$1:$M$20,9,0)*H55,) -> 2112.6307 | N55: =IFERROR(VLOOKUP($B55,Tecnicos!$E$1:$M$20,9,0)*I55,) -> 0
B56: D3 - Data Management Specialist | E56: A6 Digital twin industrial integration | G56: =Gantt!AG245 -> 0.5 | H56: =Gantt!AS245 -> 0.4 | J56: =SUM(F56:I56)*K56 -> 0 | K56: =IFERROR(VLOOKUP($B56,Tecnicos!$E$1:$M$20,9,0)*F56,) -> 0 | L56: =IFERROR(VLOOKUP($B56,Tecnicos!$E$1:$M$20,9,0)*G56,) -> 3140.4083 | M56: =IFERROR(VLOOKUP($B56,Tecnicos!$E$1:$M$20,9,0)*H56,) -> 2512.3266 | N56: =IFERROR(VLOOKUP($B56,Tecnicos!$E$1:$M$20,9,0)*I56,) -> 0
B57: D4 - Data Analytics Specialist | E57: A6 Digital twin industrial integration | G57: =Gantt!AG246 -> 0 | H57: =Gantt!AS246 -> 0 | J57: =SUM(F57:I57)*K57 -> 0 | K57: =IFERROR(VLOOKUP($B57,Tecnicos!$E$1:$M$20,9,0)*F57,) -> 0 | L57: =IFERROR(VLOOKUP($B57,Tecnicos!$E$1:$M$20,9,0)*G57,) -> 0 | M57: =IFERROR(VLOOKUP($B57,Tecnicos!$E$1:$M$20,9,0)*H57,) -> 0 | N57: =IFERROR(VLOOKUP($B57,Tecnicos!$E$1:$M$20,9,0)*I57,) -> 0
B58: C5 - Software Development Specialist | E58: A6 Digital twin industrial integration | G58: =Gantt!AG247 -> 0.5 | H58: =Gantt!AS247 -> 4.4833333 | J58: =SUM(F58:I58)*K58 -> 0 | K58: =IFERROR(VLOOKUP($B58,Tecnicos!$E$1:$M$20,9,0)*F58,) -> 0 | L58: =IFERROR(VLOOKUP($B58,Tecnicos!$E$1:$M$20,9,0)*G58,) -> 1735.2758 | M58: =IFERROR(VLOOKUP($B58,Tecnicos!$E$1:$M$20,9,0)*H58,) -> 15559.64 | N58: =IFERROR(VLOOKUP($B58,Tecnicos!$E$1:$M$20,9,0)*I58,) -> 0
B59: C6 - Simulation and Digital Twin Specialist | E59: A6 Digital twin industrial integration | G59: =Gantt!AG248 -> 0.5 | H59: =Gantt!AS248 -> 4.4833333 | J59: =SUM(F59:I59)*K59 -> 0 | K59: =IFERROR(VLOOKUP($B59,Tecnicos!$E$1:$M$20,9,0)*F59,) -> 0 | L59: =IFERROR(VLOOKUP($B59,Tecnicos!$E$1:$M$20,9,0)*G59,) -> 1410.3858 | M59: =IFERROR(VLOOKUP($B59,Tecnicos!$E$1:$M$20,9,0)*H59,) -> 12646.46 | N59: =IFERROR(VLOOKUP($B59,Tecnicos!$E$1:$M$20,9,0)*I59,) -> 0
B60: D5 - Operations Management and Data Analytics Specialist | E60: A6 Digital twin industrial integration | G60: =Gantt!AG249 -> 0 | H60: =Gantt!AS249 -> 1.0857143 | J60: =SUM(F60:I60)*K60 -> 0 | K60: =IFERROR(VLOOKUP($B60,Tecnicos!$E$1:$M$20,9,0)*F60,) -> 0 | L60: =IFERROR(VLOOKUP($B60,Tecnicos!$E$1:$M$20,9,0)*G60,) -> 0 | M60: =IFERROR(VLOOKUP($B60,Tecnicos!$E$1:$M$20,9,0)*H60,) -> 6509.1822 | N60: =IFERROR(VLOOKUP($B60,Tecnicos!$E$1:$M$20,9,0)*I60,) -> 0 | P60: =SUM(F50:H60)/154.5 -> 0.11878564
J61: =SUM(F61:I61)*K61 -> 0 | K61: =IFERROR(VLOOKUP($B61,Tecnicos!$E$1:$M$20,9,0)*F61,) -> 0 | L61: =IFERROR(VLOOKUP($B61,Tecnicos!$E$1:$M$20,9,0)*G61,) -> 0 | M61: =IFERROR(VLOOKUP($B61,Tecnicos!$E$1:$M$20,9,0)*H61,) -> 0 | N61: =IFERROR(VLOOKUP($B61,Tecnicos!$E$1:$M$20,9,0)*I61,) -> 0
B62: D1 - Operations Management Specialist | E62: A7 Industrial implementation of solutions | G62: =Gantt!AG252 -> 0.5 | H62: =Gantt!AS252 -> 1 | J62: =SUM(F62:I62)*K62 -> 0 | K62: =IFERROR(VLOOKUP($B62,Tecnicos!$E$1:$M$20,9,0)*F62,) -> 0 | L62: =IFERROR(VLOOKUP($B62,Tecnicos!$E$1:$M$20,9,0)*G62,) -> 4068.2495 | M62: =IFERROR(VLOOKUP($B62,Tecnicos!$E$1:$M$20,9,0)*H62,) -> 8136.4989 | N62: =IFERROR(VLOOKUP($B62,Tecnicos!$E$1:$M$20,9,0)*I62,) -> 0
B63: C1 - Digital Architecture Specialist | E63: A7 Industrial implementation of solutions | G63: =Gantt!AG253 -> 0.5 | H63: =Gantt!AS253 -> 1.2 | J63: =SUM(F63:I63)*K63 -> 0 | K63: =IFERROR(VLOOKUP($B63,Tecnicos!$E$1:$M$20,9,0)*F63,) -> 0 | L63: =IFERROR(VLOOKUP($B63,Tecnicos!$E$1:$M$20,9,0)*G63,) -> 3575.3771 | M63: =IFERROR(VLOOKUP($B63,Tecnicos!$E$1:$M$20,9,0)*H63,) -> 8580.9051 | N63: =IFERROR(VLOOKUP($B63,Tecnicos!$E$1:$M$20,9,0)*I63,) -> 0
B64: C2 - Simulation and Digital Twin Specialist | E64: A7 Industrial implementation of solutions | G64: =Gantt!AG254 -> 0 | H64: =Gantt!AS254 -> 0 | J64: =SUM(F64:I64)*K64 -> 0 | K64: =IFERROR(VLOOKUP($B64,Tecnicos!$E$1:$M$20,9,0)*F64,) -> 0 | L64: =IFERROR(VLOOKUP($B64,Tecnicos!$E$1:$M$20,9,0)*G64,) -> 0 | M64: =IFERROR(VLOOKUP($B64,Tecnicos!$E$1:$M$20,9,0)*H64,) -> 0 | N64: =IFERROR(VLOOKUP($B64,Tecnicos!$E$1:$M$20,9,0)*I64,) -> 0
B65: C3 - Digital Architeture and Data Infrastructure Specialist | E65: A7 Industrial implementation of solutions | G65: =Gantt!AG255 -> 0.5 | H65: =Gantt!AS255 -> 1.2 | J65: =SUM(F65:I65)*K65 -> 0 | K65: =IFERROR(VLOOKUP($B65,Tecnicos!$E$1:$M$20,9,0)*F65,) -> 0 | L65: =IFERROR(VLOOKUP($B65,Tecnicos!$E$1:$M$20,9,0)*G65,) -> 1475.6596 | M65: =IFERROR(VLOOKUP($B65,Tecnicos!$E$1:$M$20,9,0)*H65,) -> 3541.583 | N65: =IFERROR(VLOOKUP($B65,Tecnicos!$E$1:$M$20,9,0)*I65,) -> 0
B66: C4 - Digital Architeture and Data Infrastructure Specialist | E66: A7 Industrial implementation of solutions | G66: =Gantt!AG256 -> 0 | H66: =Gantt!AS256 -> 0 | J66: =SUM(F66:I66)*K66 -> 0 | K66: =IFERROR(VLOOKUP($B66,Tecnicos!$E$1:$M$20,9,0)*F66,) -> 0 | L66: =IFERROR(VLOOKUP($B66,Tecnicos!$E$1:$M$20,9,0)*G66,) -> 0 | M66: =IFERROR(VLOOKUP($B66,Tecnicos!$E$1:$M$20,9,0)*H66,) -> 0 | N66: =IFERROR(VLOOKUP($B66,Tecnicos!$E$1:$M$20,9,0)*I66,) -> 0
B67: D2 - Technology Adoption Specialist | E67: A7 Industrial implementation of solutions | G67: =Gantt!AG257 -> 0.5 | H67: =Gantt!AS257 -> 1.2 | J67: =SUM(F67:I67)*K67 -> 0 | K67: =IFERROR(VLOOKUP($B67,Tecnicos!$E$1:$M$20,9,0)*F67,) -> 0 | L67: =IFERROR(VLOOKUP($B67,Tecnicos!$E$1:$M$20,9,0)*G67,) -> 2640.7883 | M67: =IFERROR(VLOOKUP($B67,Tecnicos!$E$1:$M$20,9,0)*H67,) -> 6337.892 | N67: =IFERROR(VLOOKUP($B67,Tecnicos!$E$1:$M$20,9,0)*I67,) -> 0
B68: D3 - Data Management Specialist | E68: A7 Industrial implementation of solutions | G68: =Gantt!AG258 -> 0.5 | H68: =Gantt!AS258 -> 1.2 | J68: =SUM(F68:I68)*K68 -> 0 | K68: =IFERROR(VLOOKUP($B68,Tecnicos!$E$1:$M$20,9,0)*F68,) -> 0 | L68: =IFERROR(VLOOKUP($B68,Tecnicos!$E$1:$M$20,9,0)*G68,) -> 3140.4083 | M68: =IFERROR(VLOOKUP($B68,Tecnicos!$E$1:$M$20,9,0)*H68,) -> 7536.9799 | N68: =IFERROR(VLOOKUP($B68,Tecnicos!$E$1:$M$20,9,0)*I68,) -> 0
B69: D4 - Data Analytics Specialist | E69: A7 Industrial implementation of solutions | G69: =Gantt!AG259 -> 0 | H69: =Gantt!AS259 -> 2.2 | J69: =SUM(F69:I69)*K69 -> 0 | K69: =IFERROR(VLOOKUP($B69,Tecnicos!$E$1:$M$20,9,0)*F69,) -> 0 | L69: =IFERROR(VLOOKUP($B69,Tecnicos!$E$1:$M$20,9,0)*G69,) -> 0 | M69: =IFERROR(VLOOKUP($B69,Tecnicos!$E$1:$M$20,9,0)*H69,) -> 14445.831 | N69: =IFERROR(VLOOKUP($B69,Tecnicos!$E$1:$M$20,9,0)*I69,) -> 0
B70: C5 - Software Development Specialist | E70: A7 Industrial implementation of solutions | G70: =Gantt!AG260 -> 0.5 | H70: =Gantt!AS260 -> 1.2 | J70: =SUM(F70:I70)*K70 -> 0 | K70: =IFERROR(VLOOKUP($B70,Tecnicos!$E$1:$M$20,9,0)*F70,) -> 0 | L70: =IFERROR(VLOOKUP($B70,Tecnicos!$E$1:$M$20,9,0)*G70,) -> 1735.2758 | M70: =IFERROR(VLOOKUP($B70,Tecnicos!$E$1:$M$20,9,0)*H70,) -> 4164.6619 | N70: =IFERROR(VLOOKUP($B70,Tecnicos!$E$1:$M$20,9,0)*I70,) -> 0
B71: C6 - Simulation and Digital Twin Specialist | E71: A7 Industrial implementation of solutions | G71: =Gantt!AG261 -> 0.5 | H71: =Gantt!AS261 -> 1.2 | J71: =SUM(F71:I71)*K71 -> 0 | K71: =IFERROR(VLOOKUP($B71,Tecnicos!$E$1:$M$20,9,0)*F71,) -> 0 | L71: =IFERROR(VLOOKUP($B71,Tecnicos!$E$1:$M$20,9,0)*G71,) -> 1410.3858 | M71: =IFERROR(VLOOKUP($B71,Tecnicos!$E$1:$M$20,9,0)*H71,) -> 3384.926 | N71: =IFERROR(VLOOKUP($B71,Tecnicos!$E$1:$M$20,9,0)*I71,) -> 0
B72: D5 - Operations Management and Data Analytics Specialist | E72: A7 Industrial implementation of solutions | G72: =Gantt!AG262 -> 0 | H72: =Gantt!AS262 -> 0 | J72: =SUM(F72:I72)*K72 -> 0 | K72: =IFERROR(VLOOKUP($B72,Tecnicos!$E$1:$M$20,9,0)*F72,) -> 0 | L72: =IFERROR(VLOOKUP($B72,Tecnicos!$E$1:$M$20,9,0)*G72,) -> 0 | M72: =IFERROR(VLOOKUP($B72,Tecnicos!$E$1:$M$20,9,0)*H72,) -> 0 | N72: =IFERROR(VLOOKUP($B72,Tecnicos!$E$1:$M$20,9,0)*I72,) -> 0 | P72: =SUM(F62:H72)/154.5 -> 0.089967638
J73: =SUM(F73:I73)*K73 -> 0 | K73: =IFERROR(VLOOKUP($B73,Tecnicos!$E$1:$M$20,9,0)*F73,) -> 0 | L73: =IFERROR(VLOOKUP($B73,Tecnicos!$E$1:$M$20,9,0)*G73,) -> 0 | M73: =IFERROR(VLOOKUP($B73,Tecnicos!$E$1:$M$20,9,0)*H73,) -> 0 | N73: =IFERROR(VLOOKUP($B73,Tecnicos!$E$1:$M$20,9,0)*I73,) -> 0
B74: D1 - Operations Management Specialist | E74: A8 Promotion and dissemination of the results | G74: =Gantt!AG265 -> 1 | H74: =Gantt!AS265 -> 1 | J74: =SUM(F74:I74)*K74 -> 0 | K74: =IFERROR(VLOOKUP($B74,Tecnicos!$E$1:$M$20,9,0)*F74,) -> 0 | L74: =IFERROR(VLOOKUP($B74,Tecnicos!$E$1:$M$20,9,0)*G74,) -> 8136.4989 | M74: =IFERROR(VLOOKUP($B74,Tecnicos!$E$1:$M$20,9,0)*H74,) -> 8136.4989 | N74: =IFERROR(VLOOKUP($B74,Tecnicos!$E$1:$M$20,9,0)*I74,) -> 0
B75: C1 - Digital Architecture Specialist | E75: A8 Promotion and dissemination of the results | G75: =Gantt!AG266 -> 0 | H75: =Gantt!AS266 -> 0 | J75: =SUM(F75:I75)*K75 -> 0 | K75: =IFERROR(VLOOKUP($B75,Tecnicos!$E$1:$M$20,9,0)*F75,) -> 0 | L75: =IFERROR(VLOOKUP($B75,Tecnicos!$E$1:$M$20,9,0)*G75,) -> 0 | M75: =IFERROR(VLOOKUP($B75,Tecnicos!$E$1:$M$20,9,0)*H75,) -> 0 | N75: =IFERROR(VLOOKUP($B75,Tecnicos!$E$1:$M$20,9,0)*I75,) -> 0
B76: C2 - Simulation and Digital Twin Specialist | E76: A8 Promotion and dissemination of the results | G76: =Gantt!AG267 -> 0.5 | H76: =Gantt!AS267 -> 0 | J76: =SUM(F76:I76)*K76 -> 0 | K76: =IFERROR(VLOOKUP($B76,Tecnicos!$E$1:$M$20,9,0)*F76,) -> 0 | L76: =IFERROR(VLOOKUP($B76,Tecnicos!$E$1:$M$20,9,0)*G76,) -> 2258.6798 | M76: =IFERROR(VLOOKUP($B76,Tecnicos!$E$1:$M$20,9,0)*H76,) -> 0 | N76: =IFERROR(VLOOKUP($B76,Tecnicos!$E$1:$M$20,9,0)*I76,) -> 0
B77: C3 - Digital Architeture and Data Infrastructure Specialist | E77: A8 Promotion and dissemination of the results | G77: =Gantt!AG268 -> 0 | H77: =Gantt!AS268 -> 0 | J77: =SUM(F77:I77)*K77 -> 0 | K77: =IFERROR(VLOOKUP($B77,Tecnicos!$E$1:$M$20,9,0)*F77,) -> 0 | L77: =IFERROR(VLOOKUP($B77,Tecnicos!$E$1:$M$20,9,0)*G77,) -> 0 | M77: =IFERROR(VLOOKUP($B77,Tecnicos!$E$1:$M$20,9,0)*H77,) -> 0 | N77: =IFERROR(VLOOKUP($B77,Tecnicos!$E$1:$M$20,9,0)*I77,) -> 0
B78: C4 - Digital Architeture and Data Infrastructure Specialist | E78: A8 Promotion and dissemination of the results | G78: =Gantt!AG269 -> 0.5 | H78: =Gantt!AS269 -> 0 | J78: =SUM(F78:I78)*K78 -> 0 | K78: =IFERROR(VLOOKUP($B78,Tecnicos!$E$1:$M$20,9,0)*F78,) -> 0 | L78: =IFERROR(VLOOKUP($B78,Tecnicos!$E$1:$M$20,9,0)*G78,) -> 3136.4313 | M78: =IFERROR(VLOOKUP($B78,Tecnicos!$E$1:$M$20,9,0)*H78,) -> 0 | N78: =IFERROR(VLOOKUP($B78,Tecnicos!$E$1:$M$20,9,0)*I78,) -> 0
B79: D2 - Technology Adoption Specialist | E79: A8 Promotion and dissemination of the results | G79: =Gantt!AG270 -> 1 | H79: =Gantt!AS270 -> 1 | J79: =SUM(F79:I79)*K79 -> 0 | K79: =IFERROR(VLOOKUP($B79,Tecnicos!$E$1:$M$20,9,0)*F79,) -> 0 | L79: =IFERROR(VLOOKUP($B79,Tecnicos!$E$1:$M$20,9,0)*G79,) -> 5281.5766 | M79: =IFERROR(VLOOKUP($B79,Tecnicos!$E$1:$M$20,9,0)*H79,) -> 5281.5766 | N79: =IFERROR(VLOOKUP($B79,Tecnicos!$E$1:$M$20,9,0)*I79,) -> 0
B80: D3 - Data Management Specialist | E80: A8 Promotion and dissemination of the results | G80: =Gantt!AG271 -> 1 | H80: =Gantt!AS271 -> 1 | J80: =SUM(F80:I80)*K80 -> 0 | K80: =IFERROR(VLOOKUP($B80,Tecnicos!$E$1:$M$20,9,0)*F80,) -> 0 | L80: =IFERROR(VLOOKUP($B80,Tecnicos!$E$1:$M$20,9,0)*G80,) -> 6280.8166 | M80: =IFERROR(VLOOKUP($B80,Tecnicos!$E$1:$M$20,9,0)*H80,) -> 6280.8166 | N80: =IFERROR(VLOOKUP($B80,Tecnicos!$E$1:$M$20,9,0)*I80,) -> 0
B81: D4 - Data Analytics Specialist | E81: A8 Promotion and dissemination of the results | G81: =Gantt!AG272 -> 1 | H81: =Gantt!AS272 -> 1 | J81: =SUM(F81:I81)*K81 -> 0 | K81: =IFERROR(VLOOKUP($B81,Tecnicos!$E$1:$M$20,9,0)*F81,) -> 0 | L81: =IFERROR(VLOOKUP($B81,Tecnicos!$E$1:$M$20,9,0)*G81,) -> 6566.287 | M81: =IFERROR(VLOOKUP($B81,Tecnicos!$E$1:$M$20,9,0)*H81,) -> 6566.287 | N81: =IFERROR(VLOOKUP($B81,Tecnicos!$E$1:$M$20,9,0)*I81,) -> 0
B82: C5 - Software Development Specialist | E82: A8 Promotion and dissemination of the results | G82: =Gantt!AG273 -> 0 | H82: =Gantt!AS273 -> 0 | J82: =SUM(F82:I82)*K82 -> 0 | K82: =IFERROR(VLOOKUP($B82,Tecnicos!$E$1:$M$20,9,0)*F82,) -> 0 | L82: =IFERROR(VLOOKUP($B82,Tecnicos!$E$1:$M$20,9,0)*G82,) -> 0 | M82: =IFERROR(VLOOKUP($B82,Tecnicos!$E$1:$M$20,9,0)*H82,) -> 0 | N82: =IFERROR(VLOOKUP($B82,Tecnicos!$E$1:$M$20,9,0)*I82,) -> 0
B83: C6 - Simulation and Digital Twin Specialist | E83: A8 Promotion and dissemination of the results | G83: =Gantt!AG274 -> 0 | H83: =Gantt!AS274 -> 0 | J83: =SUM(F83:I83)*K83 -> 0 | K83: =IFERROR(VLOOKUP($B83,Tecnicos!$E$1:$M$20,9,0)*F83,) -> 0 | L83: =IFERROR(VLOOKUP($B83,Tecnicos!$E$1:$M$20,9,0)*G83,) -> 0 | M83: =IFERROR(VLOOKUP($B83,Tecnicos!$E$1:$M$20,9,0)*H83,) -> 0 | N83: =IFERROR(VLOOKUP($B83,Tecnicos!$E$1:$M$20,9,0)*I83,) -> 0
B84: D5 - Operations Management and Data Analytics Specialist | E84: A8 Promotion and dissemination of the results | G84: =Gantt!AG275 -> 1 | H84: =Gantt!AS275 -> 1 | J84: =SUM(F84:I84)*K84 -> 0 | K84: =IFERROR(VLOOKUP($B84,Tecnicos!$E$1:$M$20,9,0)*F84,) -> 0 | L84: =IFERROR(VLOOKUP($B84,Tecnicos!$E$1:$M$20,9,0)*G84,) -> 5995.2994 | M84: =IFERROR(VLOOKUP($B84,Tecnicos!$E$1:$M$20,9,0)*H84,) -> 5995.2994 | N84: =IFERROR(VLOOKUP($B84,Tecnicos!$E$1:$M$20,9,0)*I84,) -> 0 | P84: =SUM(F74:H84)/154.5 -> 0.071197411
B86: D1 - Operations Management Specialist | E86: A9 Project management and implementation | G86: =Gantt!AG278 -> 0 | H86: =Gantt!AS278 -> 0 | J86: =SUM(F86:I86)*K86 -> 0 | K86: =IFERROR(VLOOKUP($B86,Tecnicos!$E$1:$M$20,9,0)*F86,) -> 0 | L86: =IFERROR(VLOOKUP($B86,Tecnicos!$E$1:$M$20,9,0)*G86,) -> 0 | M86: =IFERROR(VLOOKUP($B86,Tecnicos!$E$1:$M$20,9,0)*H86,) -> 0 | N86: =IFERROR(VLOOKUP($B86,Tecnicos!$E$1:$M$20,9,0)*I86,) -> 0
B87: C1 - Digital Architecture Specialist | E87: A9 Project management and implementation | F87: =Gantt!U279 -> 1 | G87: =Gantt!AG279 -> 1 | H87: =Gantt!AS279 -> 1 | J87: =SUM(F87:I87)*K87 -> 21452.263 | K87: =IFERROR(VLOOKUP($B87,Tecnicos!$E$1:$M$20,9,0)*F87,) -> 7150.7543 | L87: =IFERROR(VLOOKUP($B87,Tecnicos!$E$1:$M$20,9,0)*G87,) -> 7150.7543 | M87: =IFERROR(VLOOKUP($B87,Tecnicos!$E$1:$M$20,9,0)*H87,) -> 7150.7543 | N87: =IFERROR(VLOOKUP($B87,Tecnicos!$E$1:$M$20,9,0)*I87,) -> 0
B88: C2 - Simulation and Digital Twin Specialist | E88: A9 Project management and implementation | G88: =Gantt!AG280 -> 0 | H88: =Gantt!AS280 -> 0 | J88: =SUM(F88:I88)*K88 -> 0 | K88: =IFERROR(VLOOKUP($B88,Tecnicos!$E$1:$M$20,9,0)*F88,) -> 0 | L88: =IFERROR(VLOOKUP($B88,Tecnicos!$E$1:$M$20,9,0)*G88,) -> 0 | M88: =IFERROR(VLOOKUP($B88,Tecnicos!$E$1:$M$20,9,0)*H88,) -> 0 | N88: =IFERROR(VLOOKUP($B88,Tecnicos!$E$1:$M$20,9,0)*I88,) -> 0
B89: C3 - Digital Architeture and Data Infrastructure Specialist | E89: A9 Project management and implementation | G89: =Gantt!AG281 -> 0 | H89: =Gantt!AS281 -> 0 | J89: =SUM(F89:I89)*K89 -> 0 | K89: =IFERROR(VLOOKUP($B89,Tecnicos!$E$1:$M$20,9,0)*F89,) -> 0 | L89: =IFERROR(VLOOKUP($B89,Tecnicos!$E$1:$M$20,9,0)*G89,) -> 0 | M89: =IFERROR(VLOOKUP($B89,Tecnicos!$E$1:$M$20,9,0)*H89,) -> 0 | N89: =IFERROR(VLOOKUP($B89,Tecnicos!$E$1:$M$20,9,0)*I89,) -> 0
B90: C4 - Digital Architeture and Data Infrastructure Specialist | E90: A9 Project management and implementation | G90: =Gantt!AG282 -> 0 | H90: =Gantt!AS282 -> 0 | J90: =SUM(F90:I90)*K90 -> 0 | K90: =IFERROR(VLOOKUP($B90,Tecnicos!$E$1:$M$20,9,0)*F90,) -> 0 | L90: =IFERROR(VLOOKUP($B90,Tecnicos!$E$1:$M$20,9,0)*G90,) -> 0 | M90: =IFERROR(VLOOKUP($B90,Tecnicos!$E$1:$M$20,9,0)*H90,) -> 0 | N90: =IFERROR(VLOOKUP($B90,Tecnicos!$E$1:$M$20,9,0)*I90,) -> 0
B91: D2 - Technology Adoption Specialist | E91: A9 Project management and implementation | G91: =Gantt!AG283 -> 0 | H91: =Gantt!AS283 -> 0 | J91: =SUM(F91:I91)*K91 -> 0 | K91: =IFERROR(VLOOKUP($B91,Tecnicos!$E$1:$M$20,9,0)*F91,) -> 0 | L91: =IFERROR(VLOOKUP($B91,Tecnicos!$E$1:$M$20,9,0)*G91,) -> 0 | M91: =IFERROR(VLOOKUP($B91,Tecnicos!$E$1:$M$20,9,0)*H91,) -> 0 | N91: =IFERROR(VLOOKUP($B91,Tecnicos!$E$1:$M$20,9,0)*I91,) -> 0
B92: D3 - Data Management Specialist | E92: A9 Project management and implementation | G92: =Gantt!AG284 -> 0 | H92: =Gantt!AS284 -> 0 | J92: =SUM(F92:I92)*K92 -> 0 | K92: =IFERROR(VLOOKUP($B92,Tecnicos!$E$1:$M$20,9,0)*F92,) -> 0 | L92: =IFERROR(VLOOKUP($B92,Tecnicos!$E$1:$M$20,9,0)*G92,) -> 0 | M92: =IFERROR(VLOOKUP($B92,Tecnicos!$E$1:$M$20,9,0)*H92,) -> 0 | N92: =IFERROR(VLOOKUP($B92,Tecnicos!$E$1:$M$20,9,0)*I92,) -> 0
B93: D4 - Data Analytics Specialist | E93: A9 Project management and implementation | G93: =Gantt!AG285 -> 0 | H93: =Gantt!AS285 -> 0 | J93: =SUM(F93:I93)*K93 -> 0 | K93: =IFERROR(VLOOKUP($B93,Tecnicos!$E$1:$M$20,9,0)*F93,) -> 0 | L93: =IFERROR(VLOOKUP($B93,Tecnicos!$E$1:$M$20,9,0)*G93,) -> 0 | M93: =IFERROR(VLOOKUP($B93,Tecnicos!$E$1:$M$20,9,0)*H93,) -> 0 | N93: =IFERROR(VLOOKUP($B93,Tecnicos!$E$1:$M$20,9,0)*I93,) -> 0
B94: C5 - Software Development Specialist | E94: A9 Project management and implementation | G94: =Gantt!AG286 -> 0 | H94: =Gantt!AS286 -> 0 | J94: =SUM(F94:I94)*K94 -> 0 | K94: =IFERROR(VLOOKUP($B94,Tecnicos!$E$1:$M$20,9,0)*F94,) -> 0 | L94: =IFERROR(VLOOKUP($B94,Tecnicos!$E$1:$M$20,9,0)*G94,) -> 0 | M94: =IFERROR(VLOOKUP($B94,Tecnicos!$E$1:$M$20,9,0)*H94,) -> 0 | N94: =IFERROR(VLOOKUP($B94,Tecnicos!$E$1:$M$20,9,0)*I94,) -> 0
B95: C6 - Simulation and Digital Twin Specialist | E95: A9 Project management and implementation | G95: =Gantt!AG287 -> 0 | H95: =Gantt!AS287 -> 0 | J95: =SUM(F95:I95)*K95 -> 0 | K95: =IFERROR(VLOOKUP($B95,Tecnicos!$E$1:$M$20,9,0)*F95,) -> 0 | L95: =IFERROR(VLOOKUP($B95,Tecnicos!$E$1:$M$20,9,0)*G95,) -> 0 | M95: =IFERROR(VLOOKUP($B95,Tecnicos!$E$1:$M$20,9,0)*H95,) -> 0 | N95: =IFERROR(VLOOKUP($B95,Tecnicos!$E$1:$M$20,9,0)*I95,) -> 0
B96: D5 - Operations Management and Data Analytics Specialist | E96: A9 Project management and implementation | G96: =Gantt!AG288 -> 0 | H96: =Gantt!AS288 -> 0 | J96: =SUM(F96:I96)*K96 -> 0 | K96: =IFERROR(VLOOKUP($B96,Tecnicos!$E$1:$M$20,9,0)*F96,) -> 0 | L96: =IFERROR(VLOOKUP($B96,Tecnicos!$E$1:$M$20,9,0)*G96,) -> 0 | M96: =IFERROR(VLOOKUP($B96,Tecnicos!$E$1:$M$20,9,0)*H96,) -> 0 | N96: =IFERROR(VLOOKUP($B96,Tecnicos!$E$1:$M$20,9,0)*I96,) -> 0 | P96: =SUM(F86:H96)/154.5 -> 0.019417476
J97: =SUM(F97:I97)*K97 -> 0 | K97: =IFERROR(VLOOKUP($B97,Tecnicos!$E$1:$M$20,9,0)*F97,) -> 0 | L97: =IFERROR(VLOOKUP($B97,Tecnicos!$E$1:$M$20,9,0)*G97,) -> 0 | M97: =IFERROR(VLOOKUP($B97,Tecnicos!$E$1:$M$20,9,0)*H97,) -> 0 | N97: =IFERROR(VLOOKUP($B97,Tecnicos!$E$1:$M$20,9,0)*I97,) -> 0
F98: =SUM(F14:F97) -> 51.5 | G98: =SUM(G14:G97) -> 51.5 | H98: =SUM(H14:H97) -> 51.652381 | J98: C.Total/Ano | K98: =SUM(K2:K97) -> 255142.14 | L98: =SUM(L2:L97) -> 255142.14 | M98: =SUM(M2:M97) -> 255580.77 | N98: =SUM(N2:N97) -> 0
B103: D1 - Operations Management Specialist | F103: =F14+F26 -> 3 | G103: =G86+G74+G62+G50+G38+G26 -> 3 | H103: =H86+H74+H62+H50+H38+H26 -> 3
B104: C1 - Digital Architecture Specialist | F104: =F15+F27+F87 -> 5 | G104: =G87+G75+G63+G51+G39+G27 -> 5 | H104: =H87+H75+H63+H51+H39+H27 -> 5
B105: C2 - Simulation and Digital Twin Specialist | F105: =F16+F28 -> 5 | G105: =G88+G76+G64+G52+G40+G28 -> 5 | H105: =H88+H76+H64+H52+H40+H28 -> 5
...

Sheet Custos
A1: ID | B1: Âmbito | C1: N.º | D1: Beneficiário | E1: Estab. | F1: Ativ. | G1: Designação | H1: Rubrica | I1: Ano | J1: Mês | K1: Custo | L1: EF
H2: Custos com Pessoal | I2: 2027 | K2: =Pessoal!K98 -> 255142.14
H3: Custos com Pessoal | I3: 2028 | K3: =Pessoal!L98 -> 255142.14
H4: Custos com Pessoal | I4: 2029 | K4: =Pessoal!M98 -> 255580.77
H5: Custos com Pessoal | I5: 2030 | K5: =Pessoal!N98 -> 0
F6: Digital twin development | G6: Hardware for data processing | H6: Equipamento informático | I6: 2027 | J6: 4 | K6: 20000
F7: Digital twin development | G7: Digital Twin and Simulation Licenses | H7: Software e licenças | I7: 2027 | J7: 4 | K7: 15000
F8: Digital twin development | G8: Digital Twin and Simulation Licenses | H8: Software e licenças | I8: 2028 | J8: 1 | K8: 15000
F9: Digital twin development | G9: Digital Twin and Simulation Licenses | H9: Software e licenças | I9: 2029 | J9: 1 | K9: 15000
F10: Promotion and dissemination of the results | G10: Registration of one person in two international conferences (e.g. FAIM2028 and IAMOT 2028) | H10: Seminários e Conferências | I10: 2028 | J10: 1 | K10: 1500
F11: Promotion and dissemination of the results | G11: Registration of one person in two international conferences (e.g. FAIM2029 and IAMOT 2029) | H11: Seminários e Conferências | I11: 2029 | J11: 1 | K11: 1500
F12: Promotion and dissemination of the results | G12: Trip of one person to two international conferences | H12: Deslocações | I12: 2028 | J12: 1 | K12: 2000
F13: Promotion and dissemination of the results | G13: Trip of one person to two international conferences | H13: Deslocações | I13: 2029 | J13: 1 | K13: 2000
F14: Promotion and dissemination of the results | G14: Hotel for one person, four nights, near of each international conference | H14: Estadias | I14: 2028 | J14: 1 | K14: 2000
F15: Promotion and dissemination of the results | G15: Hotel for one person, four nights, near of each international conference | H15: Estadias | I15: 2029 | J15: 1 | K15: 2000
F16: Promotion and dissemination of the results | G16: Open Access Journal | H16: Promoção e divulgação | I16: 2029 | J16: 1 | K16: 3000 | V16: NOTA: Limite de 85,00€/noite por estadia em Hotel (DL 106/98) em território nacional; 148,91€/noite no estrangeiro
V21: Orçamento Total
V22: 2027 | W22: =SUMIFS($K$2:$K$46,$I$2:$I$46,V22) -> 310452.09
V23: 2028 | W23: =SUMIFS($K$2:$K$46,$I$2:$I$46,V23) -> 294937.09
V24: 2029 | W24: =SUMIFS($K$2:$K$46,$I$2:$I$46,V24) -> 298616.42
V25: 2030 | W25: =SUMIFS($K$2:$K$46,$I$2:$I$46,V25) -> 0
V26: Total | W26: =SUM(W22:W25) -> 904005.59
H43: Custos Indiretos | I43: 2025 | K43: =SUMIFS($K$2:$K$42,$I$2:$I$42,2025)*0.07 -> 0
H44: Custos Indiretos | I44: 2027 | K44: =SUMIFS($K$2:$K$42,$I$2:$I$42,2027)*0.07 -> 20309.95
H45: Custos Indiretos | I45: 2028 | K45: =SUMIFS($K$2:$K$42,$I$2:$I$42,2028)*0.07 -> 19294.95
H46: Custos Indiretos | I46: 2029 | K46: =SUMIFS($K$2:$K$42,$I$2:$I$42,2029)*0.07 -> 19535.654

Sheet Gantt
A1: N. | B1: Activity | C1: Promoters | J1: 2027 | V1: 2028 | AH1: 2029 | AT1: 2030
J2: m1 | K2: m2 | L2: m3 | M2: m4 | N2: m5 | O2: m6 | P2: m7 | Q2: m8 | R2: m9 | S2: m10 | T2: m11 | U2: m12 | V2: m13 | W2: m14 | X2: m15 | Y2: m16 | Z2: m17 | AA2: m18 | AB2: m19 | AC2: m20 | AD2: m21 | AE2: m22 | AF2: m23 | AG2: m24 | AH2: m25 | AI2: m26 | AJ2: m27 | AK2: m28 | AL2: m29 | AM2: m30 | AN2: m31 | AO2: m32 | AP2: m33 | AQ2: m34 | AR2: m35 | AS2: m36 | AT2: m37 | AU2: m38 | AV2: m39 | AW2: m40 | AX2: m41 | AY2: m42 | AZ2: m43 | BA2: m44 | BB2: m45 | BC2: m46 | BD2: m47 | BE2: m48
C3: CARITÉ | D3: RODIRO | E3: DCSI PRO | F3: OLIFEL | G3: MIND | H3: INESCTEC | I3: CTCP | J3: 1 | K3: 2 | L3: 3 | M3: 4 | N3: 5 | O3: 6 | P3: 7 | Q3: 8 | R3: 9 | S3: 10 | T3: 11 | U3: 12 | V3: 1 | W3: 2 | X3: 3 | Y3: 4 | Z3: 5 | AA3: 6 | AB3: 7 | AC3: 8 | AD3: 9 | AE3: 10 | AF3: 11 | AG3: 12 | AH3: 1 | AI3: 2 | AJ3: 3 | AK3: 4 | AL3: 5 | AM3: 6 | AN3: 7 | AO3: 8 | AP3: 9 | AQ3: 10 | AR3: 11 | AS3: 12 | AT3: 1 | AU3: 2 | AV3: 3 | AW3: 4 | AX3: 5 | AY3: 6 | AZ3: 7 | BA3: 8 | BB3: 9 | BC3: 10 | BD3: 11 | BE3: 12
A4: 1 | B4: State of the art and technological surveillance | C4: P | D4: P | E4: P | F4: P | G4: P | H4: P | I4: R | BF4: =SUM(J16:U26)/154.5 -> 0.11003236 | BG4: Legend:
BI5: Transversal
A6: 1.1 | B6: AI, computer vision and AR applied to footwear | G6: x | H6: x | I6: x | BI6: TRL 3→6
BI7: TRL 6→8
A8: 1.2 | B8: Adaptive robotics and laser for flexible materials | C8: x | D8: x | E8: x | H8: x | I8: x
A10: 1.3 | B10: Digital twins and intelligent factory orchestration | C10: x | D10: x | F10: x | H10: x | I10: x | BH10: R = Responsible (leader) | P = Participant | x = task contributor
A12: 1.4 | B12: Technical requirements specification | C12: x | D12: x | E12: x | F12: x | G12: x | H12: x | I12: x
A14: 1.5 | B14: Technological surveillance of the target market | E14: x | F14: x | G14: x | H14: x | I14: x
A16: R02160-1 | Américo Azevedo | B16: D1 - Operations Management Specialist | H16: x | J16: =3/12 -> 0.25 | K16: =3/12 -> 0.25 | L16: =3/12 -> 0.25 | M16: =3/12 -> 0.25 | N16: =3/12 -> 0.25 | O16: =3/12 -> 0.25 | P16: =3/12 -> 0.25 | Q16: =3/12 -> 0.25 | ... U16: =3/12 -> 0.25
A17: R03160 | Rui Diogo Rebelo | B17: C1 - Digital Architecture Specialist | H17: x | J17: =1/12 -> 0.083333333 | K17: =1/12 -> 0.083333333 | L17: =1/12 -> 0.083333333 | M17: =1/12 -> 0.083333333 | N17: =1/12 -> 0.083333333 | O17: =1/12 -> 0.083333333 | P17: =1/12 -> 0.083333333 | Q17: =1/12 -> 0.083333333 | ... U17: =1/12 -> 0.083333333
A18: R07328 | Romão Filipe Santos | B18: C2 - Simulation and Digital Twin Specialist | H18: x | J18: =1/12 -> 0.083333333 | K18: =1/12 -> 0.083333333 | L18: =1/12 -> 0.083333333 | M18: =1/12 -> 0.083333333 | N18: =1/12 -> 0.083333333 | O18: =1/12 -> 0.083333333 | P18: =1/12 -> 0.083333333 | Q18: =1/12 -> 0.083333333 | ... U18: =1/12 -> 0.083333333
A19: R07929 | Ana Carolina Chaves | B19: C3 - Digital Architeture and Data Infrastructure Specialist | H19: x | J19: =1/12 -> 0.083333333 | K19: =1/12 -> 0.083333333 | L19: =1/12 -> 0.083333333 | M19: =1/12 -> 0.083333333 | N19: =1/12 -> 0.083333333 | O19: =1/12 -> 0.083333333 | P19: =1/12 -> 0.083333333 | Q19: =1/12 -> 0.083333333 | ... U19: =1/12 -> 0.083333333
A20: R00283 | César Toscano | B20: C4 - Digital Architeture and Data Infrastructure Specialist | H20: x | J20: =1/12 -> 0.083333333 | K20: =1/12 -> 0.083333333 | L20: =1/12 -> 0.083333333 | M20: =1/12 -> 0.083333333 | N20: =1/12 -> 0.083333333 | O20: =1/12 -> 0.083333333 | P20: =1/12 -> 0.083333333 | Q20: =1/12 -> 0.083333333 | ... U20: =1/12 -> 0.083333333
A21: R08340 | Hélio Cristiano Castro | B21: D2 - Technology Adoption Specialist | H21: x | J21: =3/12 -> 0.25 | K21: =3/12 -> 0.25 | L21: =3/12 -> 0.25 | M21: =3/12 -> 0.25 | N21: =3/12 -> 0.25 | O21: =3/12 -> 0.25 | P21: =3/12 -> 0.25 | Q21: =3/12 -> 0.25 | ... U21: =3/12 -> 0.25
A22: R04363 | Cristovão Sousa | B22: D3 - Data Management Specialist | H22: x | J22: =3/12 -> 0.25 | K22: =3/12 -> 0.25 | L22: =3/12 -> 0.25 | M22: =3/12 -> 0.25 | N22: =3/12 -> 0.25 | O22: =3/12 -> 0.25 | P22: =3/12 -> 0.25 | Q22: =3/12 -> 0.25 | ... U22: =3/12 -> 0.25
A23: R05965 | Luís Guimarães | B23: D4 - Data Analytics Specialist | H23: x | J23: =1/12 -> 0.083333333 | K23: =1/12 -> 0.083333333 | L23: =1/12 -> 0.083333333 | M23: =1/12 -> 0.083333333 | N23: =1/12 -> 0.083333333 | O23: =1/12 -> 0.083333333 | P23: =1/12 -> 0.083333333 | Q23: =1/12 -> 0.083333333 | ... U23: =1/12 -> 0.083333333
A24: R08941 | Ricardo Ferreira | B24: C5 - Software Development Specialist | H24: x | J24: =1/12 -> 0.083333333 | K24: =1/12 -> 0.083333333 | L24: =1/12 -> 0.083333333 | M24: =1/12 -> 0.083333333 | N24: =1/12 -> 0.083333333 | O24: =1/12 -> 0.083333333 | P24: =1/12 -> 0.083333333 | Q24: =1/12 -> 0.083333333 | ... U24: =1/12 -> 0.083333333
A25: R08708 | Henrique Piqueiro | B25: C6 - Simulation and Digital Twin Specialist | H25: x | J25: =1/12 -> 0.083333333 | K25: =1/12 -> 0.083333333 | L25: =1/12 -> 0.083333333 | M25: =1/12 -> 0.083333333 | N25: =1/12 -> 0.083333333 | O25: =1/12 -> 0.083333333 | P25: =1/12 -> 0.083333333 | Q25: =1/12 -> 0.083333333 | ... U25: =1/12 -> 0.083333333
A26: R06081 | Gonçalo Reis Figueira | B26: D5 - Operations Management and Data Analytics Specialist | H26: x | J26: =1/12 -> 0.083333333 | K26: =1/12 -> 0.083333333 | L26: =1/12 -> 0.083333333 | M26: =1/12 -> 0.083333333 | N26: =1/12 -> 0.083333333 | O26: =1/12 -> 0.083333333 | P26: =1/12 -> 0.083333333 | Q26: =1/12 -> 0.083333333 | ... U26: =1/12 -> 0.083333333
A27: 2 | B27: AI, computer vision and AR solutions | C27: P | D27: P | G27: R | H27: P | I27: P
A29: 2.1 | B29: CV algorithms for colour-tone detection in leathers | C29: x | D29: x | G29: x | I29: x
A31: 2.2 | B31: Generative AI for conceptual footwear design | C31: x | D31: x | G31: x | I31: x
A33: 2.3 | B33: AI for digitisation and defect identification in leathers | C33: x | D33: x | G33: x | I33: x
A35: 2.4 | B35: AR for interactive mould placement and piece collection | C35: x | D35: x | G35: x | I35: x
A37: 2.5 | B37: AR for immersive 3D visualisation and design validation | C37: x | D37: x | G37: x | I37: x
A39: 2.6 | B39: AI-optimised nesting engine (chromatic variations) | C39: x | D39: x | G39: x | I39: x
A42: 3 | B42: Robotics, industrial vision and laser | C42: P | D42: P | E42: R | I42: P
A44: 3.1 | B44: DCSI AI Vision Factory: vision systems and AI inspection software | C44: x | D44: x | E44: x | I44: x
A46: 3.2 | B46: DCSI AI Robotic Factory: tooling, manipulation and assembly | C46: x | D46: x | E46: x | I46: x
A48: 3.3 | B48: DCSI AI Laser Lab: 3D roughing, engraving and parameter validation | C48: x | D48: x | E48: x | I48: x
A51: 4 | B51: Digital twin development | F51: R | H51: P | I51: P
A53: 4.1 | B53: Industrial mapping and priority use cases | F53: x | H53: x | I53: x
A55: 4.2 | B55: Functional architecture, data model and validation plan | F55: x | H55: x | I55: x
A57: 4.3 | B57: Digital model of upper-injection line (FOOTWEAR TWIN) | F57: x | H57: x | I57: x
A59: 4.4 | B59: Simulation, synchronisation and technical validation | F59: x | H59: x | I59: x
A61: 4.5 | B61: Planning, sequencing and re-planning algorithms (OPTIMIZE) | F61: x | H61: x | I61: x
A63: 4.6 | B63: Predictive models for quality, delay and maintenance | F63: x | H63: x | I63: x
A65: 4.7 | B65: Integration of FOOTWEAR TWIN + OPTIMIZE into ERP | F65: x | H65: x | I65: x
A67: R02160-1 | Américo Azevedo | B67: D1 - Operations Management Specialist | H67: x | V67: =1/12 -> 0.083333333 | W67: =1/12 -> 0.083333333 | X67: =1/12 -> 0.083333333 | Y67: =1/12 -> 0.083333333 | Z67: =1/12 -> 0.083333333 | AA67: =1/12 -> 0.083333333 | AB67: =1/12 -> 0.083333333 | AC67: =1/12 -> 0.083333333 | ... AG67: =1/12 -> 0.083333333 | AH67: 0.1 | AI67: 0.1 | AJ67: 0.1 | AK67: 0.1
A68: R03160 | Rui Diogo Rebelo | B68: C1 - Digital Architecture Specialist | H68: x | M68: =3/9 -> 0.33333333 | N68: =3/9 -> 0.33333333 | O68: =3/9 -> 0.33333333 | P68: =3/9 -> 0.33333333 | Q68: =3/9 -> 0.33333333 | R68: =3/9 -> 0.33333333 | S68: =3/9 -> 0.33333333 | T68: =3/9 -> 0.33333333 | U68: =3/9 -> 0.33333333 | V68: =2/12 -> 0.16666667 | W68: =2/12 -> 0.16666667 | X68: =2/12 -> 0.16666667 | Y68: =2/12 -> 0.16666667 | Z68: =2/12 -> 0.16666667 | AA68: =2/12 -> 0.16666667 | AB68: =2/12 -> 0.16666667 | AC68: =2/12 -> 0.16666667 | ... AG68: =2/12 -> 0.16666667 | AH68: 0.2 | AI68: 0.2 | AJ68: 0.2 | AK68: 0.2
A69: R07328 | Romão Filipe Santos | B69: C2 - Simulation and Digital Twin Specialist | H69: x | M69: =4/9 -> 0.44444444 | N69: =4/9 -> 0.44444444 | O69: =4/9 -> 0.44444444 | P69: =4/9 -> 0.44444444 | Q69: =4/9 -> 0.44444444 | R69: =4/9 -> 0.44444444 | S69: =4/9 -> 0.44444444 | T69: =4/9 -> 0.44444444 | U69: =4/9 -> 0.44444444 | V69: =3/12 -> 0.25 | W69: =3/12 -> 0.25 | X69: =3/12 -> 0.25 | Y69: =3/12 -> 0.25 | Z69: =3/12 -> 0.25 | AA69: =3/12 -> 0.25 | AB69: =3/12 -> 0.25 | AC69: =3/12 -> 0.25 | ... AG69: =3/12 -> 0.25 | AH69: 0.3 | AI69: 0.3 | AJ69: 0.3 | AK69: 0.3
A70: R07929 | Ana Carolina Chaves | B70: C3 - Digital Architeture and Data Infrastructure Specialist | H70: x | M70: =4/9 -> 0.44444444 | N70: =4/9 -> 0.44444444 | O70: =4/9 -> 0.44444444 | P70: =4/9 -> 0.44444444 | Q70: =4/9 -> 0.44444444 | R70: =4/9 -> 0.44444444 | S70: =4/9 -> 0.44444444 | T70: =4/9 -> 0.44444444 | U70: =4/9 -> 0.44444444 | V70: =3/12 -> 0.25 | W70: =3/12 -> 0.25 | X70: =3/12 -> 0.25 | Y70: =3/12 -> 0.25 | Z70: =3/12 -> 0.25 | AA70: =3/12 -> 0.25 | AB70: =3/12 -> 0.25 | AC70: =3/12 -> 0.25 | ... AG70: =3/12 -> 0.25 | AH70: 0.3 | AI70: 0.3 | AJ70: 0.3 | AK70: 0.3
A71: R00283 | César Toscano | B71: C4 - Digital Architeture and Data Infrastructure Specialist | H71: x | M71: =4/9 -> 0.44444444 | N71: =4/9 -> 0.44444444 | O71: =4/9 -> 0.44444444 | P71: =4/9 -> 0.44444444 | Q71: =4/9 -> 0.44444444 | R71: =4/9 -> 0.44444444 | S71: =4/9 -> 0.44444444 | T71: =4/9 -> 0.44444444 | U71: =4/9 -> 0.44444444 | V71: =3/12 -> 0.25 | W71: =3/12 -> 0.25 | X71: =3/12 -> 0.25 | Y71: =3/12 -> 0.25 | Z71: =3/12 -> 0.25 | AA71: =3/12 -> 0.25 | AB71: =3/12 -> 0.25 | AC71: =3/12 -> 0.25 | ... AG71: =3/12 -> 0.25 | AH71: 0.3 | AI71: 0.3 | AJ71: 0.3 | AK71: 0.3
A72: R08340 | Hélio Cristiano Castro | B72: D2 - Technology Adoption Specialist | H72: x | V72: =1/12 -> 0.083333333 | W72: =1/12 -> 0.083333333 | X72: =1/12 -> 0.083333333 | Y72: =1/12 -> 0.083333333 | Z72: =1/12 -> 0.083333333 | AA72: =1/12 -> 0.083333333 | AB72: =1/12 -> 0.083333333 | AC72: =1/12 -> 0.083333333 | ... AG72: =1/12 -> 0.083333333 | AH72: 0.1 | AI72: 0.1 | AJ72: 0.1 | AK72: 0.1
A73: R04363 | Cristovão Sousa | B73: D3 - Data Management Specialist | H73: x | V73: =1/12 -> 0.083333333 | W73: =1/12 -> 0.083333333 | X73: =1/12 -> 0.083333333 | Y73: =1/12 -> 0.083333333 | Z73: =1/12 -> 0.083333333 | AA73: =1/12 -> 0.083333333 | AB73: =1/12 -> 0.083333333 | AC73: =1/12 -> 0.083333333 | ... AG73: =1/12 -> 0.083333333 | AH73: 0.1 | AI73: 0.1 | AJ73: 0.1 | AK73: 0.1
A74: R05965 | Luís Guimarães | B74: D4 - Data Analytics Specialist | H74: x | M74: =3/9 -> 0.33333333 | N74: =3/9 -> 0.33333333 | O74: =3/9 -> 0.33333333 | P74: =3/9 -> 0.33333333 | Q74: =3/9 -> 0.33333333 | R74: =3/9 -> 0.33333333 | S74: =3/9 -> 0.33333333 | T74: =3/9 -> 0.33333333 | U74: =3/9 -> 0.33333333 | V74: =2/12 -> 0.16666667 | W74: =2/12 -> 0.16666667 | X74: =2/12 -> 0.16666667 | Y74: =2/12 -> 0.16666667 | Z74: =2/12 -> 0.16666667 | AA74: =2/12 -> 0.16666667 | AB74: =2/12 -> 0.16666667 | AC74: =2/12 -> 0.16666667 | ... AG74: =2/12 -> 0.16666667 | AH74: 0.2 | AI74: 0.2 | AJ74: 0.2 | AK74: 0.2
A75: R08941 | Ricardo Ferreira | B75: C5 - Software Development Specialist | H75: x | M75: =7/9 -> 0.77777778 | N75: =7/9 -> 0.77777778 | O75: =7/9 -> 0.77777778 | P75: =7/9 -> 0.77777778 | Q75: =7/9 -> 0.77777778 | R75: =7/9 -> 0.77777778 | S75: =7/9 -> 0.77777778 | T75: =7/9 -> 0.77777778 | U75: =7/9 -> 0.77777778 | V75: =7/12 -> 0.58333333 | W75: =7/12 -> 0.58333333 | X75: =7/12 -> 0.58333333 | Y75: =7/12 -> 0.58333333 | Z75: =7/12 -> 0.58333333 | AA75: =7/12 -> 0.58333333 | AB75: =7/12 -> 0.58333333 | AC75: =7/12 -> 0.58333333 | ... AG75: =7/12 -> 0.58333333 | AH75: 0.6 | AI75: 0.6 | AJ75: 0.6 | AK75: 0.6
A76: R08708 | Henrique Piqueiro | B76: C6 - Simulation and Digital Twin Specialist | H76: x | M76: =7/9 -> 0.77777778 | N76: =7/9 -> 0.77777778 | O76: =7/9 -> 0.77777778 | P76: =7/9 -> 0.77777778 | Q76: =7/9 -> 0.77777778 | R76: =7/9 -> 0.77777778 | S76: =7/9 -> 0.77777778 | T76: =7/9 -> 0.77777778 | U76: =7/9 -> 0.77777778 | V76: =7/12 -> 0.58333333 | W76: =7/12 -> 0.58333333 | X76: =7/12 -> 0.58333333 | Y76: =7/12 -> 0.58333333 | Z76: =7/12 -> 0.58333333 | AA76: =7/12 -> 0.58333333 | AB76: =7/12 -> 0.58333333 | AC76: =7/12 -> 0.58333333 | ... AG76: =7/12 -> 0.58333333 | AH76: 0.6 | AI76: 0.6 | AJ76: 0.6 | AK76: 0.6
A77: R06081 | Gonçalo Reis Figueira | B77: D5 - Operations Management and Data Analytics Specialist | H77: x | M77: =1.5/9 -> 0.16666667 | N77: =1.5/9 -> 0.16666667 | O77: =1.5/9 -> 0.16666667 | P77: =1.5/9 -> 0.16666667 | Q77: =1.5/9 -> 0.16666667 | R77: =1.5/9 -> 0.16666667 | S77: =1.5/9 -> 0.16666667 | T77: =1.5/9 -> 0.16666667 | U77: =1.5/9 -> 0.16666667 | V77: =1.5/12 -> 0.125 | W77: =1.5/12 -> 0.125 | X77: =1.5/12 -> 0.125 | Y77: =1.5/12 -> 0.125 | Z77: =1.5/12 -> 0.125 | AA77: =1.5/12 -> 0.125 | AB77: =1.5/12 -> 0.125 | AC77: =1.5/12 -> 0.125 | ... AG77: =1.5/12 -> 0.125 | AH77: 0.1 | AI77: 0.1 | AJ77: 0.1 | AK77: 0.1
A79: 5 | B79: Integration and validation in industrial environment | C79: P | D79: P | E79: R | F79: P | G79: P | H79: P | I79: P
A81: 5.1 | B81: Vision HW and AI algorithms in Quality Gates (QG) | E81: x | G81: x | I81: x
A83: 5.2 | B83: Adaptive robotic cell for uppers: assembly and calibration | E83: x | I83: x
A85: 5.3 | B85: AI/CV/AR integration into CAD systems and cutting machines | E85: x | G85: x | I85: x
A87: 5.4 | B87: Closed-loop quality control implementation | E87: x | F87: x | G87: x | H87: x | I87: x
A89: 5.5 | B89: Full validation at CARITÉ (scan > laser > injection > QG) | C89: x | E89: x | F89: x | I89: x
A91: 5.6 | B91: Modular validation at RODIRO (QG on existing lines) | D91: x | E91: x | F91: x | I91: x
I92: x
A93: 5.7 | B93: Environmental impact and sustainability assessment | E93: x | I93: x
A95: R02160-1 | Américo Azevedo | B95: D1 - Operations Management Specialist | H95: x
A96: R03160 | Rui Diogo Rebelo | B96: C1 - Digital Architecture Specialist | H96: x | Y96: =1/9 -> 0.11111111 | Z96: =1/9 -> 0.11111111 | AA96: =1/9 -> 0.11111111 | AB96: =1/9 -> 0.11111111 | AC96: =1/9 -> 0.11111111 | AD96: =1/9 -> 0.11111111 | AE96: =1/9 -> 0.11111111 | AF96: =1/9 -> 0.11111111 | AG96: =1/9 -> 0.11111111 | AH96: =2/10 -> 0.2 | AI96: =2/10 -> 0.2 | AJ96: =2/10 -> 0.2 | AK96: =2/10 -> 0.2 | AL96: =2/10 -> 0.2 | AM96: =2/10 -> 0.2 | AN96: =2/10 -> 0.2
A97: R07328 | Romão Filipe Santos | B97: C2 - Simulation and Digital Twin Specialist | H97: x | Y97: =1/9 -> 0.11111111 | Z97: =1/9 -> 0.11111111 | AA97: =1/9 -> 0.11111111 | AB97: =1/9 -> 0.11111111 | AC97: =1/9 -> 0.11111111 | AD97: =1/9 -> 0.11111111 | AE97: =1/9 -> 0.11111111 | AF97: =1/9 -> 0.11111111 | AG97: =1/9 -> 0.11111111 | AH97: =3.2/10 -> 0.32 | AI97: =3.2/10 -> 0.32 | AJ97: =3.2/10 -> 0.32 | AK97: =3.2/10 -> 0.32 | AL97: =3.2/10 -> 0.32 | AM97: =3.2/10 -> 0.32 | AN97: =3.2/10 -> 0.32 | AO97: =3.2/10 -> 0.32 | ... AQ97: =3.2/10 -> 0.32
A98: R07929 | Ana Carolina Chaves | B98: C3 - Digital Architeture and Data Infrastructure Specialist | H98: x | Y98: =1/9 -> 0.11111111 | Z98: =1/9 -> 0.11111111 | AA98: =1/9 -> 0.11111111 | AB98: =1/9 -> 0.11111111 | AC98: =1/9 -> 0.11111111 | AD98: =1/9 -> 0.11111111 | AE98: =1/9 -> 0.11111111 | AF98: =1/9 -> 0.11111111 | AG98: =1/9 -> 0.11111111 | AH98: =2/10 -> 0.2 | AI98: =2/10 -> 0.2 | AJ98: =2/10 -> 0.2 | AK98: =2/10 -> 0.2 | AL98: =2/10 -> 0.2 | AM98: =2/10 -> 0.2 | AN98: =2/10 -> 0.2 | AO98: =2/10 -> 0.2 | ... AQ98: =2/10 -> 0.2
A99: R00283 | César Toscano | B99: C4 - Digital Architeture and Data Infrastructure Specialist | H99: x | Y99: =1/9 -> 0.11111111 | Z99: =1/9 -> 0.11111111 | AA99: =1/9 -> 0.11111111 | AB99: =1/9 -> 0.11111111 | AC99: =1/9 -> 0.11111111 | AD99: =1/9 -> 0.11111111 | AE99: =1/9 -> 0.11111111 | AF99: =1/9 -> 0.11111111 | AG99: =1/9 -> 0.11111111 | AH99: =3.2/10 -> 0.32 | AI99: =3.2/10 -> 0.32 | AJ99: =3.2/10 -> 0.32 | AK99: =3.2/10 -> 0.32 | AL99: =3.2/10 -> 0.32 | AM99: =3.2/10 -> 0.32 | AN99: =3.2/10 -> 0.32 | AO99: =3.2/10 -> 0.32 | ... AQ99: =3.2/10 -> 0.32
A100: R08340 | Hélio Cristiano Castro | B100: D2 - Technology Adoption Specialist | H100: x
A101: R04363 | Cristovão Sousa | B101: D3 - Data Management Specialist | H101: x
A102: R05965 | Luís Guimarães | B102: D4 - Data Analytics Specialist | H102: x | Y102: =1/9 -> 0.11111111 | Z102: =1/9 -> 0.11111111 | AA102: =1/9 -> 0.11111111 | AB102: =1/9 -> 0.11111111 | AC102: =1/9 -> 0.11111111 | AD102: =1/9 -> 0.11111111 | AE102: =1/9 -> 0.11111111 | AF102: =1/9 -> 0.11111111 | AG102: =1/9 -> 0.11111111
A103: R08941 | Ricardo Ferreira | B103: C5 - Software Development Specialist | H103: x
A104: R08708 | Henrique Piqueiro | B104: C6 - Simulation and Digital Twin Specialist | H104: x
A105: R06081 | Gonçalo Reis Figueira | B105: D5 - Operations Management and Data Analytics Specialist | H105: x
A107: 6 | B107: Digital twin industrial integration | C107: P | F107: R | H107: P | I107: P
A109: 6.1 | B109: Pilot implementation at CARITÉ and user adaptation | C109: x | F109: x | H109: x | I109: x
A111: 6.2 | B111: Industrial validation of FOOTWEAR TWIN and OPTIMIZE | C111: x | F111: x | H111: x | I111: x
A113: 6.3 | B113: Operational, economic and strategic impact measurement | F113: x | H113: x | I113: x
A115: R02160-1 | Américo Azevedo | B115: D1 - Operations Management Specialist | H115: x | Y115: =0.5/9 -> 0.055555556 | Z115: =0.5/9 -> 0.055555556 | AA115: =0.5/9 -> 0.055555556 | AB115: =0.5/9 -> 0.055555556 | AC115: =0.5/9 -> 0.055555556 | AD115: =0.5/9 -> 0.055555556 | AE115: =0.5/9 -> 0.055555556 | AF115: =0.5/9 -> 0.055555556 | AG115: =0.5/9 -> 0.055555556 | AH115: 0.1 | AI115: 0.1 | AJ115: 0.1 | AK115: 0.1 | AL115: 0.1 | AM115: 0.1
A116: R03160 | Rui Diogo Rebelo | B116: C1 - Digital Architecture Specialist | H116: x | Y116: =0.5/9 -> 0.055555556 | Z116: =0.5/9 -> 0.055555556 | AA116: =0.5/9 -> 0.055555556 | AB116: =0.5/9 -> 0.055555556 | AC116: =0.5/9 -> 0.055555556 | AD116: =0.5/9 -> 0.055555556 | AE116: =0.5/9 -> 0.055555556 | AF116: =0.5/9 -> 0.055555556 | AG116: =0.5/9 -> 0.055555556 | AH116: 0.1 | AI116: 0.1 | AJ116: 0.1 | AK116: 0.1 | AL116: 0.1 | AM116: 0.1
A117: R07328 | Romão Filipe Santos | B117: C2 - Simulation and Digital Twin Specialist | H117: x | Y117: =0.5/9 -> 0.055555556 | Z117: =0.5/9 -> 0.055555556 | AA117: =0.5/9 -> 0.055555556 | AB117: =0.5/9 -> 0.055555556 | AC117: =0.5/9 -> 0.055555556 | AD117: =0.5/9 -> 0.055555556 | AE117: =0.5/9 -> 0.055555556 | AF117: =0.5/9 -> 0.055555556 | AG117: =0.5/9 -> 0.055555556 | AH117: 0.1 | AI117: 0.1 | AJ117: 0.1 | AK117: 0.1 | AL117: 0.1 | AM117: 0.1
A118: R07929 | Ana Carolina Chaves | B118: C3 - Digital Architeture and Data Infrastructure Specialist | H118: x | Y118: =0.5/9 -> 0.055555556 | Z118: =0.5/9 -> 0.055555556 | AA118: =0.5/9 -> 0.055555556 | AB118: =0.5/9 -> 0.055555556 | AC118: =0.5/9 -> 0.055555556 | AD118: =0.5/9 -> 0.055555556 | AE118: =0.5/9 -> 0.055555556 | AF118: =0.5/9 -> 0.055555556 | AG118: =0.5/9 -> 0.055555556 | AH118: 0.1 | AI118: 0.1 | AJ118: 0.1 | AK118: 0.1 | AL118: 0.1 | AM118: 0.1
A119: R00283 | César Toscano | B119: C4 - Digital Architeture and Data Infrastructure Specialist | H119: x | Y119: =0.5/9 -> 0.055555556 | Z119: =0.5/9 -> 0.055555556 | AA119: =0.5/9 -> 0.055555556 | AB119: =0.5/9 -> 0.055555556 | AC119: =0.5/9 -> 0.055555556 | AD119: =0.5/9 -> 0.055555556 | AE119: =0.5/9 -> 0.055555556 | AF119: =0.5/9 -> 0.055555556 | AG119: =0.5/9 -> 0.055555556 | AH119: 0.1 | AI119: 0.1 | AJ119: 0.1 | AK119: 0.1 | AL119: 0.1 | AM119: 0.1
A120: R08340 | Hélio Cristiano Castro | B120: D2 - Technology Adoption Specialist | H120: x | Y120: =0.5/9 -> 0.055555556 | Z120: =0.5/9 -> 0.055555556 | AA120: =0.5/9 -> 0.055555556 | AB120: =0.5/9 -> 0.055555556 | AC120: =0.5/9 -> 0.055555556 | AD120: =0.5/9 -> 0.055555556 | AE120: =0.5/9 -> 0.055555556 | AF120: =0.5/9 -> 0.055555556 | AG120: =0.5/9 -> 0.055555556 | AH120: 0.1 | AI120: 0.1 | AJ120: 0.1 | AK120: 0.1
A121: R04363 | Cristovão Sousa | B121: D3 - Data Management Specialist | H121: x | Y121: =0.5/9 -> 0.055555556 | Z121: =0.5/9 -> 0.055555556 | AA121: =0.5/9 -> 0.055555556 | AB121: =0.5/9 -> 0.055555556 | AC121: =0.5/9 -> 0.055555556 | AD121: =0.5/9 -> 0.055555556 | AE121: =0.5/9 -> 0.055555556 | AF121: =0.5/9 -> 0.055555556 | AG121: =0.5/9 -> 0.055555556 | AH121: 0.1 | AI121: 0.1 | AJ121: 0.1 | AK121: 0.1
A122: R05965 | Luís Guimarães | B122: D4 - Data Analytics Specialist | H122: x
A123: R08941 | Ricardo Ferreira | B123: C5 - Software Development Specialist | H123: x | Y123: =0.5/9 -> 0.055555556 | Z123: =0.5/9 -> 0.055555556 | AA123: =0.5/9 -> 0.055555556 | AB123: =0.5/9 -> 0.055555556 | AC123: =0.5/9 -> 0.055555556 | AD123: =0.5/9 -> 0.055555556 | AE123: =0.5/9 -> 0.055555556 | AF123: =0.5/9 -> 0.055555556 | AG123: =0.5/9 -> 0.055555556 | AH123: =4.3/6 -> 0.71666667 | AI123: =4.3/6 -> 0.71666667 | AJ123: =4.3/6 -> 0.71666667 | AK123: =4.3/6 -> 0.71666667 | AL123: =4.3/6 -> 0.71666667 | AM123: 0.9
A124: R08708 | Henrique Piqueiro | B124: C6 - Simulation and Digital Twin Specialist | H124: x | Y124: =0.5/9 -> 0.055555556 | Z124: =0.5/9 -> 0.055555556 | AA124: =0.5/9 -> 0.055555556 | AB124: =0.5/9 -> 0.055555556 | AC124: =0.5/9 -> 0.055555556 | AD124: =0.5/9 -> 0.055555556 | AE124: =0.5/9 -> 0.055555556 | AF124: =0.5/9 -> 0.055555556 | AG124: =0.5/9 -> 0.055555556 | AH124: =4.3/6 -> 0.71666667 | AI124: =4.3/6 -> 0.71666667 | AJ124: =4.3/6 -> 0.71666667 | AK124: =4.3/6 -> 0.71666667 | AL124: =4.3/6 -> 0.71666667 | AM124: 0.9
A125: R06081 | Gonçalo Reis Figueira | B125: D5 - Operations Management and Data Analytics Specialist | H125: x | AH125: =1.1/7 -> 0.15714286 | AI125: =1.1/7 -> 0.15714286 | AJ125: =1.1/7 -> 0.15714286 | AK125: =1.1/7 -> 0.15714286 | AL125: =1.1/7 -> 0.15714286 | AM125: 0.3
A127: 7 | B127: Industrial implementation of solutions | C127: R | D127: P | E127: P | F127: P | G127: P | H127: P | I127: P
A129: 7.1 | B129: Industrialisation of AI technology products (MIND) | G129: x | I129: x
A131: 7.2 | B131: Industrialisation of robotic cells and laser (DCSI PRO) | E131: x | I131: x
A133: 7.3 | B133: ERP product and business model (OLIFEL) | C133: x | F133: x | I133: x
A135: 7.4 | B135: Definitive installation at CARITÉ (full demonstrator) | C135: x | E135: x | F135: x | G135: x | H135: x | I135: x
A137: 7.5 | B137: Quality Gates installation at RODIRO (modular demonstrator) | D137: x | E137: x | I137: x
A139: 7.6 | B139: Acquisition of robotic lines, QC laboratory and software (RODIRO) | E139: x | I139: x
A141: 7.7 | B141: Acquisition of laser robot, roughing line and injection machine (CARITÉ) | C141: x | I141: x
A143: R02160-1 | Américo Azevedo | B143: D1 - Operations Management Specialist | H143: x | AA143: =0.5/7 -> 0.071428571 | AB143: =0.5/7 -> 0.071428571 | AC143: =0.5/7 -> 0.071428571 | AD143: =0.5/7 -> 0.071428571 | AE143: =0.5/7 -> 0.071428571 | AF143: =0.5/7 -> 0.071428571 | AG143: =0.5/7 -> 0.071428571 | AH143: 0.1 | AI143: 0.1 | AJ143: 0.1 | AK143: 0.1 | AL143: 0.1 | AM143: 0.1 | AN143: 0.1 | AO143: 0.1 | AP143: 0.1 | AQ143: 0.1
A144: R03160 | Rui Diogo Rebelo | B144: C1 - Digital Architecture Specialist | H144: x | AA144: =0.5/7 -> 0.071428571 | AB144: =0.5/7 -> 0.071428571 | AC144: =0.5/7 -> 0.071428571 | AD144: =0.5/7 -> 0.071428571 | AE144: =0.5/7 -> 0.071428571 | AF144: =0.5/7 -> 0.071428571 | AG144: =0.5/7 -> 0.071428571 | AH144: 0.1 | AI144: 0.1 | AJ144: 0.1 | AK144: 0.1 | AL144: 0.1 | AM144: 0.1 | AN144: 0.1 | AO144: 0.1 | AP144: 0.1 | AQ144: 0.1 | AR144: 0.1 | AS144: 0.1
A145: R07328 | Romão Filipe Santos | B145: C2 - Simulation and Digital Twin Specialist | H145: x
A146: R07929 | Ana Carolina Chaves | B146: C3 - Digital Architeture and Data Infrastructure Specialist | H146: x | AA146: =0.5/7 -> 0.071428571 | AB146: =0.5/7 -> 0.071428571 | AC146: =0.5/7 -> 0.071428571 | AD146: =0.5/7 -> 0.071428571 | AE146: =0.5/7 -> 0.071428571 | AF146: =0.5/7 -> 0.071428571 | AG146: =0.5/7 -> 0.071428571 | AH146: 0.1 | AI146: 0.1 | AJ146: 0.1 | AK146: 0.1 | AL146: 0.1 | AM146: 0.1 | AN146: 0.1 | AO146: 0.1 | AP146: 0.1 | AQ146: 0.1 | AR146: 0.1 | AS146: 0.1
A147: R00283 | César Toscano | B147: C4 - Digital Architeture and Data Infrastructure Specialist | H147: x
...
