Workbook
Name D_Indice100: 1636.83
Name Estado: [1]Listas_limites!#REF!
Name Mês: [1]Listas_limites!#REF!

Sheet Categorias
A1: Aquisição de patentes e direitos de propriedade
A2: Matérias-primas e materiais consumíveis
A3: Aquisição de componentes
A4: Consultoria
A5: Estudos/Relatórios DNSH
A6: Assistência técnica
A7: Aquisição de serviços
A8: Equipamento informático
A9: Software e licenças
A10: Máquinas e equipamentos
A11: Aquisição de instrumentos e equipamento científico e técnico
A12: Registo de patentes (Taxas Oficiais)
... A21: CC/ROC

Sheet Tecnicos_SYSTEM
A1: ID | B1: Beneficiário | C1: Nova | D1: NIF | E1: Nome/Perfil (colocar perfis) | F1: Nível | G1: Vínculo | H1: Vencimento mês (Consultar SAAF para Valores) | I1: Seguro Social Voluntário | J1: Seguro Acidentes Pessoais | K1: Taxa Segurança Social | L1: Critico | M1: Custo ETI
B2: INESC TEC | C2: Não | E2: C1 - IT/OT Specialist | F2: Nível 7 - Mestre | G2: Contrato de Trabalho a Termo Certo | H2: =1751.58 -> 1751.58 | I2: =IF(G2="Bolseiro",158.99,0) -> 0 | J2: =IF(G2="Bolseiro",68.65,0) -> 0 | K2: =IF(G2="Bolseiro",0,22.3%) -> 0.223 | M2: =IF(G2="Bolseiro",(H2+I2+J2)*12/11,H2*(1+K2)*14/11) -> 2726.4139 | O2: =1751.58 -> 1751.58 | P2: =O2-H2 -> 0
B3: INESC TEC | C3: Não | E3: D1 - Operations Management Specialist | F3: Nível 8 - Doutorado | G3: Quadro de Cedência Ocasional [Docentes] | H3: 3851.67 | I3: =IF(G3="Bolseiro",158.99,0) -> 0 | J3: =IF(G3="Bolseiro",68.65,0) -> 0 | K3: =IF(G3="Bolseiro",0,22.3%) -> 0.223 | M3: =IF(G3="Bolseiro",(H3+I3+J3)*12/11,H3*(1+K3)*14/11) -> 5995.2994 | O3: 3851.67 | P3: =O3-H3 -> 0
B4: INESC TEC | C4: Não | E4: C2 - Digital Twin Specialist | F4: Nível 7 - Mestre | G4: Contrato de Trabalho a Tempo Indeterminado (Sem Termo) | H4: =1812 -> 1812 | I4: =IF(G4="Bolseiro",158.99,0) -> 0 | J4: =IF(G4="Bolseiro",68.65,0) -> 0 | K4: =IF(G4="Bolseiro",0,22.3%) -> 0.223 | M4: =IF(G4="Bolseiro",(H4+I4+J4)*12/11,H4*(1+K4)*14/11) -> 2820.4604 | O4: =1812 -> 1812 | P4: =O4-H4 -> 0
B5: INESC TEC | C5: Não | E5: C3 - Digital Twin Specialist | F5: Nível 7 - Mestre | G5: Contrato de Trabalho a Tempo Indeterminado (Sem Termo) | H5: =1896.07 -> 1896.07 | I5: =IF(G5="Bolseiro",158.99,0) -> 0 | J5: =IF(G5="Bolseiro",68.65,0) -> 0 | K5: =IF(G5="Bolseiro",0,22.3%) -> 0.223 | M5: =IF(G5="Bolseiro",(H5+I5+J5)*12/11,H5*(1+K5)*14/11) -> 2951.3191 | O5: =1896.07 -> 1896.07 | P5: =O5-H5 -> 0
B6: INESC TEC | C6: Não | E6: C4 - Tecnology Adoption Specialist | F6: Nível 7 - Mestre | G6: Contrato de Trabalho a Tempo Indeterminado (Sem Termo) | H6: =3666.51 -> 3666.51 | I6: =IF(G6="Bolseiro",158.99,0) -> 0 | J6: =IF(G6="Bolseiro",68.65,0) -> 0 | K6: =IF(G6="Bolseiro",0,22.3%) -> 0.223 | M6: =IF(G6="Bolseiro",(H6+I6+J6)*12/11,H6*(1+K6)*14/11) -> 5707.0895 | O6: =3666.51 -> 3666.51 | P6: =O6-H6 -> 0
B7: INESC TEC | C7: Não | E7: C5 - Operations Management Specialist | F7: Nível 8 - Doutorado | G7: Contrato de Trabalho a Tempo Indeterminado (Sem Termo) | H7: 4587.63 | I7: =IF(G7="Bolseiro",158.99,0) -> 0 | J7: =IF(G7="Bolseiro",68.65,0) -> 0 | K7: =IF(G7="Bolseiro",0,22.3%) -> 0.223 | M7: =IF(G7="Bolseiro",(H7+I7+J7)*12/11,H7*(1+K7)*14/11) -> 7140.8546 | O7: 4587.63 | P7: =O7-H7 -> 0
B8: INESC TEC | C8: Não | E8: D2 - AI Specialist | F8: Nível 8 - Doutorado | G8: Quadro de Cedência Ocasional [Docentes] | H8: =4035 -> 4035 | I8: =IF(G8="Bolseiro",158.99,0) -> 0 | J8: =IF(G8="Bolseiro",68.65,0) -> 0 | K8: =IF(G8="Bolseiro",0,22.3%) -> 0.223 | L8: Sim | M8: =IF(G8="Bolseiro",(H8+I8+J8)*12/11,H8*(1+K8)*14/11) -> 6280.6609 | O8: =4035 -> 4035 | P8: =O8-H8 -> 0
B9: INESC TEC | C9: Não | E9: D3 - Data Analytics Specialist | F9: Nível 8 - Doutorado | G9: Quadro de Cedência Ocasional [Docentes] | H9: =3576.56 -> 3576.56 | I9: =IF(G9="Bolseiro",158.99,0) -> 0 | J9: =IF(G9="Bolseiro",68.65,0) -> 0 | K9: =IF(G9="Bolseiro",0,22.3%) -> 0.223 | M9: =IF(G9="Bolseiro",(H9+I9+J9)*12/11,H9*(1+K9)*14/11) -> 5567.0782 | O9: =3576.56 -> 3576.56 | P9: =O9-H9 -> 0
B10: INESC TEC | C10: Não | E10: C6 - Operations Management Specialist | F10: Nível 8 - Doutorado | G10: Contrato de Trabalho a Tempo Indeterminado (Sem Termo) | H10: =3021.09 -> 3021.09 | I10: =IF(G10="Bolseiro",158.99,0) -> 0 | J10: =IF(G10="Bolseiro",68.65,0) -> 0 | K10: =IF(G10="Bolseiro",0,22.3%) -> 0.223 | M10: =IF(G10="Bolseiro",(H10+I10+J10)*12/11,H10*(1+K10)*14/11) -> 4702.4639 | O10: =3021.09 -> 3021.09 | P10: =O10-H10 -> 0
B11: INESC TEC | C11: Não | E11: C7 - Project Management Specialist | F11: Nível 8 - Doutorado | G11: Contrato de Trabalho a Tempo Indeterminado (Sem Termo) | H11: 3267.63 | I11: =IF(G11="Bolseiro",158.99,0) -> 0 | J11: =IF(G11="Bolseiro",68.65,0) -> 0 | K11: =IF(G11="Bolseiro",0,22.3%) -> 0.223 | M11: =IF(G11="Bolseiro",(H11+I11+J11)*12/11,H11*(1+K11)*14/11) -> 5086.2146 | O11: 3267.63 | P11: =O11-H11 -> 0
B12: INESC TEC | C12: Não | E12: D4 - Data Analytics and AI Specialist | F12: Nível 8 - Doutorado | G12: Quadro de Cedência Ocasional [Docentes] | H12: =4218.5 -> 4218.5 | I12: =IF(G12="Bolseiro",158.99,0) -> 0 | J12: =IF(G12="Bolseiro",68.65,0) -> 0 | K12: =IF(G12="Bolseiro",0,22.3%) -> 0.223 | M12: =IF(G12="Bolseiro",(H12+I12+J12)*12/11,H12*(1+K12)*14/11) -> 6566.287 | O12: =4218.5 -> 4218.5 | P12: =O12-H12 -> 0
B13: INESC TEC | C13: Não | E13: D5 - Data Analytics and AI Specialist | F13: Nível 8 - Doutorado | G13: Quadro de Cedência Ocasional [Docentes] | H13: =3576.56 -> 3576.56 | I13: =IF(G13="Bolseiro",158.99,0) -> 0 | J13: =IF(G13="Bolseiro",68.65,0) -> 0 | K13: =IF(G13="Bolseiro",0,22.3%) -> 0.223 | M13: =IF(G13="Bolseiro",(H13+I13+J13)*12/11,H13*(1+K13)*14/11) -> 5567.0782 | O13: =3576.56 -> 3576.56 | P13: =O13-H13 -> 0
I14: =IF(G14="Bolseiro",158.99,0) -> 0 | J14: =IF(G14="Bolseiro",68.65,0) -> 0 | K14: =IF(G14="Bolseiro",0,22.3%) -> 0.223 | M14: =IF(G14="Bolseiro",(H14+I14+J14)*12/11,H14*(1+K14)*14/11) -> 0
I15: =IF(G15="Bolseiro",158.99,0) -> 0 | J15: =IF(G15="Bolseiro",68.65,0) -> 0 | K15: =IF(G15="Bolseiro",0,22.3%) -> 0.223 | M15: =IF(G15="Bolseiro",(H15+I15+J15)*12/11,H15*(1+K15)*14/11) -> 0
I16: =IF(G16="Bolseiro",158.99,0) -> 0 | J16: =IF(G16="Bolseiro",68.65,0) -> 0 | K16: =IF(G16="Bolseiro",0,22.3%) -> 0.223 | M16: =IF(G16="Bolseiro",(H16+I16+J16)*12/11,H16*(1+K16)*14/11) -> 0
I17: =IF(G17="Bolseiro",158.99,0) -> 0 | J17: =IF(G17="Bolseiro",68.65,0) -> 0 | K17: =IF(G17="Bolseiro",0,22.3%) -> 0.223 | M17: =IF(G17="Bolseiro",(H17+I17+J17)*12/11,H17*(1+K17)*14/11) -> 0
I18: =IF(G18="Bolseiro",158.99,0) -> 0 | J18: =IF(G18="Bolseiro",68.65,0) -> 0 | K18: =IF(G18="Bolseiro",0,22.3%) -> 0.223 | M18: =IF(G18="Bolseiro",(H18+I18+J18)*12/11,H18*(1+K18)*14/11) -> 0
I19: =IF(G19="Bolseiro",158.99,0) -> 0 | J19: =IF(G19="Bolseiro",68.65,0) -> 0 | K19: =IF(G19="Bolseiro",0,22.3%) -> 0.223 | M19: =IF(G19="Bolseiro",(H19+I19+J19)*12/11,H19*(1+K19)*14/11) -> 0
I20: =IF(G20="Bolseiro",158.99,0) -> 0 | J20: =IF(G20="Bolseiro",68.65,0) -> 0 | K20: =IF(G20="Bolseiro",0,22.3%) -> 0.223 | M20: =IF(G20="Bolseiro",(H20+I20+J20)*12/11,H20*(1+K20)*14/11) -> 0

Sheet Tecnicos_CAP
A1: ID | B1: Beneficiário | C1: Nova | D1: NIF | E1: Nome/Perfil (colocar perfis) | F1: Perfil | G1: Nível | H1: Vínculo | I1: Vencimento mês (Consultar SAAF para Valores) | J1: Seguro Social Voluntário | K1: Seguro Acidentes Pessoais | L1: Taxa Segurança Social | M1: Critico | N1: Custo ETI
B2: INESC TEC | C2: Não | E2: C1 - Specialist in Signal Processing and Hardware Instrumentation Design | F2: C1 - Specialist in Signal Processing and Hardware Instrumentation Design | G2: Nível 8 - Doutorado | H2: Contrato de Trablho a Termo Incerto | I2: 2461.5 | J2: =IF(H2="Bolseiro",158.99,0) -> 0 | K2: =IF(H2="Bolseiro",68.65,0) -> 0 | L2: =IF(H2="Bolseiro",0,22.3%) -> 0.223 | N2: =IF(H2="Bolseiro",(I2+J2+K2)*12/11,I2*(1+L2)*14/11) -> 3831.4366
B3: INESC TEC | C3: Não | E3: C2 - Specialist in Electrochemistry | F3: C2 - Specialist in Electrochemistry | G3: Nível 8 - Doutorado | H3: Contrato de Trablho a Termo Incerto | I3: 2461.5 | J3: =IF(H3="Bolseiro",158.99,0) -> 0 | K3: =IF(H3="Bolseiro",68.65,0) -> 0 | L3: =IF(H3="Bolseiro",0,22.3%) -> 0.223 | N3: =IF(H3="Bolseiro",(I3+J3+K3)*12/11,I3*(1+L3)*14/11) -> 3831.4366
B4: INESC TEC | C4: Sim | E4: C3 - Specialist in Physics Engineering | F4: C3 - Specialist in Physics Engineering | G4: Nível 7 - Mestre | H4: Contrato de Trablho a Termo Incerto | I4: 1700 | J4: =IF(H4="Bolseiro",158.99,0) -> 0 | K4: =IF(H4="Bolseiro",68.65,0) -> 0 | L4: =IF(H4="Bolseiro",0,22.3%) -> 0.223 | N4: =IF(H4="Bolseiro",(I4+J4+K4)*12/11,I4*(1+L4)*14/11) -> 2646.1273
B5: INESC TEC | C5: Não | E5: C4 - Specialist in Optical Sensing Technologies | F5: C4 - Specialist in Optical Sensing Technologies | G5: Nível 8 - Doutorado | H5: Contrato de Trabalho a Tempo Indeterminado (Sem Termo) | I5: 4404.75 | J5: =IF(H5="Bolseiro",158.99,0) -> 0 | K5: =IF(H5="Bolseiro",68.65,0) -> 0 | L5: =IF(H5="Bolseiro",0,22.3%) -> 0.223 | M5: Sim | N5: =IF(H5="Bolseiro",(I5+J5+K5)*12/11,I5*(1+L5)*14/11) -> 6856.1936
B6: INESC TEC | C6: Não | E6: C5 - Specialist in Chemical Functionalization and Optical Sensing | F6: C5 - Specialist in Chemical Functionalization and Optical Sensing | G6: Nível 8 - Doutorado | H6: Contrato de Trablho a Termo Incerto | I6: 2461.5 | J6: =IF(H6="Bolseiro",158.99,0) -> 0 | K6: =IF(H6="Bolseiro",68.65,0) -> 0 | L6: =IF(H6="Bolseiro",0,22.3%) -> 0.223 | N6: =IF(H6="Bolseiro",(I6+J6+K6)*12/11,I6*(1+L6)*14/11) -> 3831.4366
B7: INESC TEC | C7: Não | E7: C6 - Electronic Technician Specialist | F7: C6 - Electronic Technician Specialist | G7: Nível 6 - Licenciado | H7: Contrato de Trablho a Termo Incerto | I7: 1263.16 | J7: =IF(H7="Bolseiro",158.99,0) -> 0 | K7: =IF(H7="Bolseiro",68.65,0) -> 0 | L7: =IF(H7="Bolseiro",0,22.3%) -> 0.223 | N7: =IF(H7="Bolseiro",(I7+J7+K7)*12/11,I7*(1+L7)*14/11) -> 1966.166
B8: INESC TEC | C8: Não | E8: C7 - Specialist in Electronics | F8: C7 - Specialist in Electronics | G8: Nível 6 - Licenciado | H8: Contrato de Trabalho a Tempo Indeterminado (Sem Termo) | I8: 1489.86 | J8: =IF(H8="Bolseiro",158.99,0) -> 0 | K8: =IF(H8="Bolseiro",68.65,0) -> 0 | L8: =IF(H8="Bolseiro",0,22.3%) -> 0.223 | N8: =IF(H8="Bolseiro",(I8+J8+K8)*12/11,I8*(1+L8)*14/11) -> 2319.0348
B9: INESC TEC | C9: Não | E9: D1 - Specialist in Physics | F9: D1 - Specialist in Physics | G9: Nível 8 - Doutorado | H9: Quadro de Cedência Ocasional [Docentes] | I9: 4860.47 | J9: =IF(H9="Bolseiro",158.99,0) -> 0 | K9: =IF(H9="Bolseiro",68.65,0) -> 0 | L9: =IF(H9="Bolseiro",0,22.3%) -> 0.223 | N9: =IF(H9="Bolseiro",(I9+J9+K9)*12/11,I9*(1+L9)*14/11) -> 7565.5425
B10: INESC TEC | C10: Sim | E10: C8 - Specialist in Optics and Instrumentation | F10: C8 - Specialist in Optics and Instrumentation | G10: Nível 6 - Licenciado | H10: Bolseiro | I10: 1090.98 | J10: =IF(H10="Bolseiro",158.99,0) -> 158.99 | K10: =IF(H10="Bolseiro",68.65,0) -> 68.65 | L10: =IF(H10="Bolseiro",0,22.3%) -> 0 | N10: =IF(H10="Bolseiro",(I10+J10+K10)*12/11,I10*(1+L10)*14/11) -> 1438.4945
B11: INESC TEC | C11: Não | E11: D2 - Specialist in Physics and Optics | F11: D1 - Specialist in Physics | G11: Nível 8 - Doutorado | H11: Quadro de Cedência Ocasional [Docentes] | I11: 4860.47 | L11: =IF(H11="Bolseiro",0,22.3%) -> 0.223 | N11: =IF(H11="Bolseiro",(I11+J11+K11)*12/11,I11*(1+L11)*14/11) -> 7565.5425
J12: =IF(H12="Bolseiro",158.99,0) -> 0 | K12: =IF(H12="Bolseiro",68.65,0) -> 0 | L12: =IF(H12="Bolseiro",0,22.3%) -> 0.223 | N12: =IF(H12="Bolseiro",(I12+J12+K12)*12/11,I12*(1+L12)*14/11) -> 0
J13: =IF(H13="Bolseiro",158.99,0) -> 0 | K13: =IF(H13="Bolseiro",68.65,0) -> 0 | L13: =IF(H13="Bolseiro",0,22.3%) -> 0.223 | N13: =IF(H13="Bolseiro",(I13+J13+K13)*12/11,I13*(1+L13)*14/11) -> 0
J14: =IF(H14="Bolseiro",158.99,0) -> 0 | K14: =IF(H14="Bolseiro",68.65,0) -> 0 | L14: =IF(H14="Bolseiro",0,22.3%) -> 0.223 | N14: =IF(H14="Bolseiro",(I14+J14+K14)*12/11,I14*(1+L14)*14/11) -> 0
J15: =IF(H15="Bolseiro",158.99,0) -> 0 | K15: =IF(H15="Bolseiro",68.65,0) -> 0 | L15: =IF(H15="Bolseiro",0,22.3%) -> 0.223 | N15: =IF(H15="Bolseiro",(I15+J15+K15)*12/11,I15*(1+L15)*14/11) -> 0
J16: =IF(H16="Bolseiro",158.99,0) -> 0 | K16: =IF(H16="Bolseiro",68.65,0) -> 0 | L16: =IF(H16="Bolseiro",0,22.3%) -> 0.223 | N16: =IF(H16="Bolseiro",(I16+J16+K16)*12/11,I16*(1+L16)*14/11) -> 0
J17: =IF(H17="Bolseiro",158.99,0) -> 0 | K17: =IF(H17="Bolseiro",68.65,0) -> 0 | L17: =IF(H17="Bolseiro",0,22.3%) -> 0.223 | N17: =IF(H17="Bolseiro",(I17+J17+K17)*12/11,I17*(1+L17)*14/11) -> 0
J18: =IF(H18="Bolseiro",158.99,0) -> 0 | K18: =IF(H18="Bolseiro",68.65,0) -> 0 | L18: =IF(H18="Bolseiro",0,22.3%) -> 0.223 | N18: =IF(H18="Bolseiro",(I18+J18+K18)*12/11,I18*(1+L18)*14/11) -> 0
J19: =IF(H19="Bolseiro",158.99,0) -> 0 | K19: =IF(H19="Bolseiro",68.65,0) -> 0 | L19: =IF(H19="Bolseiro",0,22.3%) -> 0.223 | N19: =IF(H19="Bolseiro",(I19+J19+K19)*12/11,I19*(1+L19)*14/11) -> 0
J20: =IF(H20="Bolseiro",158.99,0) -> 0 | K20: =IF(H20="Bolseiro",68.65,0) -> 0 | L20: =IF(H20="Bolseiro",0,22.3%) -> 0.223 | N20: =IF(H20="Bolseiro",(I20+J20+K20)*12/11,I20*(1+L20)*14/11) -> 0

Sheet Pessoal_SYSTEM
A1: N.º | B1: Técnico | C1: Conteúdo Funcional | D1: Estab. | E1: Perfil | F1: Atividade | G1: ETI 0 (Ano 2027) | H1: ETI 1 (Ano 2028) | I1: ET2 (Ano 2029) | J1: ET3 (Ano 2030) | K1: Valor (Custo Total Pessoal) | L1: Custo ETI (Ano 2027) | M1: Custo ETI (Ano 2028) | N1: Custo ETI (Ano 2029) | O1: Custo ETI (Ano 2030)
B2: D1 - Operations Management Specialist | D2: Sede | E2: D1 - Operations Management Specialist | F2: A1- Continuous Fermentation Development | G2: 2 | K2: =SUM(G2:J2)*L2 -> 23981.198 | L2: =IFERROR(VLOOKUP($B2,Tecnicos_SYSTEM!$E$1:$M$20,9,0)*G2,) -> 11990.599 | M2: =IFERROR(VLOOKUP($B2,Tecnicos_SYSTEM!$E$1:$M$20,9,0)*H2,) -> 0 | N2: =IFERROR(VLOOKUP($B2,Tecnicos_SYSTEM!$E$1:$M$20,9,0)*I2,) -> 0 | O2: =IFERROR(VLOOKUP($B2,Tecnicos_SYSTEM!$E$1:$M$20,9,0)*J2,) -> 0
B3: C5 - Operations Management Specialist | D3: Sede | E3: C5 - Operations Management Specialist | F3: A1 - Continuous Fermentation Development | G3: 2 | K3: =SUM(G3:J3)*L3 -> 28563.418 | L3: =IFERROR(VLOOKUP($B3,Tecnicos_SYSTEM!$E$1:$M$20,9,0)*G3,) -> 14281.709 | M3: =IFERROR(VLOOKUP($B3,Tecnicos_SYSTEM!$E$1:$M$20,9,0)*H3,) -> 0 | N3: =IFERROR(VLOOKUP($B3,Tecnicos_SYSTEM!$E$1:$M$20,9,0)*I3,) -> 0 | O3: =IFERROR(VLOOKUP($B3,Tecnicos_SYSTEM!$E$1:$M$20,9,0)*J3,) -> 0
B4: D2 - AI Specialist | D4: Sede | E4: D2 - AI Specialist | F4: A1 - Continuous Fermentation Development | G4: 2 | K4: =SUM(G4:J4)*L4 -> 25122.644 | L4: =IFERROR(VLOOKUP($B4,Tecnicos_SYSTEM!$E$1:$M$20,9,0)*G4,) -> 12561.322 | M4: =IFERROR(VLOOKUP($B4,Tecnicos_SYSTEM!$E$1:$M$20,9,0)*H4,) -> 0 | N4: =IFERROR(VLOOKUP($B4,Tecnicos_SYSTEM!$E$1:$M$20,9,0)*I4,) -> 0 | O4: =IFERROR(VLOOKUP($B4,Tecnicos_SYSTEM!$E$1:$M$20,9,0)*J4,) -> 0
B5: D3 - Data Analytics Specialist | D5: Sede | E5: D3 - Data Analytics Specialist | F5: A1 - Continuous Fermentation Development | G5: 1 | K5: =SUM(G5:J5)*L5 -> 5567.0782 | L5: =IFERROR(VLOOKUP($B5,Tecnicos_SYSTEM!$E$1:$M$20,9,0)*G5,) -> 5567.0782 | M5: =IFERROR(VLOOKUP($B5,Tecnicos_SYSTEM!$E$1:$M$20,9,0)*H5,) -> 0 | N5: =IFERROR(VLOOKUP($B5,Tecnicos_SYSTEM!$E$1:$M$20,9,0)*I5,) -> 0 | O5: =IFERROR(VLOOKUP($B5,Tecnicos_SYSTEM!$E$1:$M$20,9,0)*J5,) -> 0
B6: D4 - Data Analytics and AI Specialist | D6: Sede | E6: D4 - Data Analytics and AI Specialist | F6: A1 - Continuous Fermentation Development | G6: 2 | K6: =SUM(G6:J6)*L6 -> 26265.148 | L6: =IFERROR(VLOOKUP($B6,Tecnicos_SYSTEM!$E$1:$M$20,9,0)*G6,) -> 13132.574 | M6: =IFERROR(VLOOKUP($B6,Tecnicos_SYSTEM!$E$1:$M$20,9,0)*H6,) -> 0 | N6: =IFERROR(VLOOKUP($B6,Tecnicos_SYSTEM!$E$1:$M$20,9,0)*I6,) -> 0 | O6: =IFERROR(VLOOKUP($B6,Tecnicos_SYSTEM!$E$1:$M$20,9,0)*J6,) -> 0
B7: D5 - Data Analytics and AI Specialist | D7: Sede | E7: D5 - Data Analytics and AI Specialist | F7: A1 - Continuous Fermentation Development | G7: 1 | K7: =SUM(G7:J7)*L7 -> 5567.0782 | L7: =IFERROR(VLOOKUP($B7,Tecnicos_SYSTEM!$E$1:$M$20,9,0)*G7,) -> 5567.0782 | M7: =IFERROR(VLOOKUP($B7,Tecnicos_SYSTEM!$E$1:$M$20,9,0)*H7,) -> 0 | N7: =IFERROR(VLOOKUP($B7,Tecnicos_SYSTEM!$E$1:$M$20,9,0)*I7,) -> 0 | O7: =IFERROR(VLOOKUP($B7,Tecnicos_SYSTEM!$E$1:$M$20,9,0)*J7,) -> 0
B8: C1 - IT/OT Specialist | D8: Sede | E8: C1 - IT/OT Specialist | F8: A3 - AI-Driven Process Intelligence Development | G8: 4.5 | H8: 5.5 | I8: 4 | K8: =SUM(G8:J8)*L8 -> 171764.07 | L8: =IFERROR(VLOOKUP($B8,Tecnicos_SYSTEM!$E$1:$M$20,9,0)*G8,) -> 12268.862 | M8: =IFERROR(VLOOKUP($B8,Tecnicos_SYSTEM!$E$1:$M$20,9,0)*H8,) -> 14995.276 | N8: =IFERROR(VLOOKUP($B8,Tecnicos_SYSTEM!$E$1:$M$20,9,0)*I8,) -> 10905.656 | O8: =IFERROR(VLOOKUP($B8,Tecnicos_SYSTEM!$E$1:$M$20,9,0)*J8,) -> 0
B9: D1 - Operations Management Specialist | D9: Sede | E9: D1 - Operations Management Specialist | F9: A3 - AI-Driven Process Intelligence Development | G9: 2 | H9: 4 | I9: 2 | K9: =SUM(G9:J9)*L9 -> 95924.791 | L9: =IFERROR(VLOOKUP($B9,Tecnicos_SYSTEM!$E$1:$M$20,9,0)*G9,) -> 11990.599 | M9: =IFERROR(VLOOKUP($B9,Tecnicos_SYSTEM!$E$1:$M$20,9,0)*H9,) -> 23981.198 | N9: =IFERROR(VLOOKUP($B9,Tecnicos_SYSTEM!$E$1:$M$20,9,0)*I9,) -> 11990.599 | O9: =IFERROR(VLOOKUP($B9,Tecnicos_SYSTEM!$E$1:$M$20,9,0)*J9,) -> 0
B10: C2 - Digital Twin Specialist | D10: Sede | E10: C2 - Digital Twin Specialist | F10: A3 - AI-Driven Process Intelligence Development | G10: 6.5 | H10: 6.5 | I10: 4 | K10: =SUM(G10:J10)*L10 -> 311660.87 | L10: =IFERROR(VLOOKUP($B10,Tecnicos_SYSTEM!$E$1:$M$20,9,0)*G10,) -> 18332.992 | M10: =IFERROR(VLOOKUP($B10,Tecnicos_SYSTEM!$E$1:$M$20,9,0)*H10,) -> 18332.992 | N10: =IFERROR(VLOOKUP($B10,Tecnicos_SYSTEM!$E$1:$M$20,9,0)*I10,) -> 11281.841 | O10: =IFERROR(VLOOKUP($B10,Tecnicos_SYSTEM!$E$1:$M$20,9,0)*J10,) -> 0
B11: C3 - Digital Twin Specialist | D11: Sede | E11: C3 - Digital Twin Specialist | F11: A3 - AI-Driven Process Intelligence Development | G11: 6.5 | H11: 6.5 | I11: 4 | K11: =SUM(G11:J11)*L11 -> 326120.76 | L11: =IFERROR(VLOOKUP($B11,Tecnicos_SYSTEM!$E$1:$M$20,9,0)*G11,) -> 19183.574 | M11: =IFERROR(VLOOKUP($B11,Tecnicos_SYSTEM!$E$1:$M$20,9,0)*H11,) -> 19183.574 | N11: =IFERROR(VLOOKUP($B11,Tecnicos_SYSTEM!$E$1:$M$20,9,0)*I11,) -> 11805.277 | O11: =IFERROR(VLOOKUP($B11,Tecnicos_SYSTEM!$E$1:$M$20,9,0)*J11,) -> 0
B12: C5 - Operations Management Specialist | D12: Sede | E12: C5 - Operations Management Specialist | F12: A3 - AI-Driven Process Intelligence Development | G12: 3 | H12: 5 | I12: 2.5 | K12: =SUM(G12:J12)*L12 -> 224936.92 | L12: =IFERROR(VLOOKUP($B12,Tecnicos_SYSTEM!$E$1:$M$20,9,0)*G12,) -> 21422.564 | M12: =IFERROR(VLOOKUP($B12,Tecnicos_SYSTEM!$E$1:$M$20,9,0)*H12,) -> 35704.273 | N12: =IFERROR(VLOOKUP($B12,Tecnicos_SYSTEM!$E$1:$M$20,9,0)*I12,) -> 17852.137 | O12: =IFERROR(VLOOKUP($B12,Tecnicos_SYSTEM!$E$1:$M$20,9,0)*J12,) -> 0
B13: D2 - AI Specialist | D13: Sede | E13: D2 - AI Specialist | F13: A3 - AI-Driven Process Intelligence Development | G13: 1 | H13: 3 | I13: 1.5 | K13: =SUM(G13:J13)*L13 -> 34543.635 | L13: =IFERROR(VLOOKUP($B13,Tecnicos_SYSTEM!$E$1:$M$20,9,0)*G13,) -> 6280.6609 | M13: =IFERROR(VLOOKUP($B13,Tecnicos_SYSTEM!$E$1:$M$20,9,0)*H13,) -> 18841.983 | N13: =IFERROR(VLOOKUP($B13,Tecnicos_SYSTEM!$E$1:$M$20,9,0)*I13,) -> 9420.9914 | O13: =IFERROR(VLOOKUP($B13,Tecnicos_SYSTEM!$E$1:$M$20,9,0)*J13,) -> 0
B14: D3 - Data Analytics Specialist | D14: Sede | E14: D3 - Data Analytics Specialist | F14: A3 - AI-Driven Process Intelligence Development | G14: 1 | H14: 2 | I14: 1.5 | K14: =SUM(G14:J14)*L14 -> 25051.852 | L14: =IFERROR(VLOOKUP($B14,Tecnicos_SYSTEM!$E$1:$M$20,9,0)*G14,) -> 5567.0782 | M14: =IFERROR(VLOOKUP($B14,Tecnicos_SYSTEM!$E$1:$M$20,9,0)*H14,) -> 11134.156 | N14: =IFERROR(VLOOKUP($B14,Tecnicos_SYSTEM!$E$1:$M$20,9,0)*I14,) -> 8350.6173 | O14: =IFERROR(VLOOKUP($B14,Tecnicos_SYSTEM!$E$1:$M$20,9,0)*J14,) -> 0
B15: C6 - Operations Management Specialist | D15: Sede | E15: C6 - Operations Management Specialist | F15: A3 - AI-Driven Process Intelligence Development | G15: 5 | H15: 5 | I15: 2.5 | K15: =SUM(G15:J15)*L15 -> 293903.99 | L15: =IFERROR(VLOOKUP($B15,Tecnicos_SYSTEM!$E$1:$M$20,9,0)*G15,) -> 23512.32 | M15: =IFERROR(VLOOKUP($B15,Tecnicos_SYSTEM!$E$1:$M$20,9,0)*H15,) -> 23512.32 | N15: =IFERROR(VLOOKUP($B15,Tecnicos_SYSTEM!$E$1:$M$20,9,0)*I15,) -> 11756.16 | O15: =IFERROR(VLOOKUP($B15,Tecnicos_SYSTEM!$E$1:$M$20,9,0)*J15,) -> 0
B16: D4 - Data Analytics and AI Specialist | D16: Sede | E16: D4 - Data Analytics and AI Specialist | F16: A3 - AI-Driven Process Intelligence Development | G16: 2 | H16: 4 | I16: 2 | K16: =SUM(G16:J16)*L16 -> 105060.59 | L16: =IFERROR(VLOOKUP($B16,Tecnicos_SYSTEM!$E$1:$M$20,9,0)*G16,) -> 13132.574 | M16: =IFERROR(VLOOKUP($B16,Tecnicos_SYSTEM!$E$1:$M$20,9,0)*H16,) -> 26265.148 | N16: =IFERROR(VLOOKUP($B16,Tecnicos_SYSTEM!$E$1:$M$20,9,0)*I16,) -> 13132.574 | O16: =IFERROR(VLOOKUP($B16,Tecnicos_SYSTEM!$E$1:$M$20,9,0)*J16,) -> 0
B17: D5 - Data Analytics and AI Specialist | D17: Sede | E17: D5 - Data Analytics and AI Specialist | F17: A3 - AI-Driven Process Intelligence Development | G17: 2 | H17: 3 | I17: 1.5 | K17: =SUM(G17:J17)*L17 -> 72372.017 | L17: =IFERROR(VLOOKUP($B17,Tecnicos_SYSTEM!$E$1:$M$20,9,0)*G17,) -> 11134.156 | M17: =IFERROR(VLOOKUP($B17,Tecnicos_SYSTEM!$E$1:$M$20,9,0)*H17,) -> 16701.235 | N17: =IFERROR(VLOOKUP($B17,Tecnicos_SYSTEM!$E$1:$M$20,9,0)*I17,) -> 8350.6173 | O17: =IFERROR(VLOOKUP($B17,Tecnicos_SYSTEM!$E$1:$M$20,9,0)*J17,) -> 0
B18: C1 - IT/OT Specialist | D18: Sede | E18: C1 - IT/OT Specialist | F18: A4 - Bioreactor Design Development | G18: 3 | K18: =SUM(G18:J18)*L18 -> 24537.725 | L18: =IFERROR(VLOOKUP($B18,Tecnicos_SYSTEM!$E$1:$M$20,9,0)*G18,) -> 8179.2417 | M18: =IFERROR(VLOOKUP($B18,Tecnicos_SYSTEM!$E$1:$M$20,9,0)*H18,) -> 0 | N18: =IFERROR(VLOOKUP($B18,Tecnicos_SYSTEM!$E$1:$M$20,9,0)*I18,) -> 0 | O18: =IFERROR(VLOOKUP($B18,Tecnicos_SYSTEM!$E$1:$M$20,9,0)*J18,) -> 0
B19: C2 - Digital Twin Specialist | D19: Sede | E19: C2 - Digital Twin Specialist | F19: A4 - Bioreactor Design Development | G19: 1 | K19: =SUM(G19:J19)*L19 -> 2820.4604 | L19: =IFERROR(VLOOKUP($B19,Tecnicos_SYSTEM!$E$1:$M$20,9,0)*G19,) -> 2820.4604 | M19: =IFERROR(VLOOKUP($B19,Tecnicos_SYSTEM!$E$1:$M$20,9,0)*H19,) -> 0 | N19: =IFERROR(VLOOKUP($B19,Tecnicos_SYSTEM!$E$1:$M$20,9,0)*I19,) -> 0 | O19: =IFERROR(VLOOKUP($B19,Tecnicos_SYSTEM!$E$1:$M$20,9,0)*J19,) -> 0
B20: C3 - Digital Twin Specialist | D20: Sede | E20: C3 - Digital Twin Specialist | F20: A4 - Bioreactor Design Development | G20: 1 | K20: =SUM(G20:J20)*L20 -> 2951.3191 | L20: =IFERROR(VLOOKUP($B20,Tecnicos_SYSTEM!$E$1:$M$20,9,0)*G20,) -> 2951.3191 | M20: =IFERROR(VLOOKUP($B20,Tecnicos_SYSTEM!$E$1:$M$20,9,0)*H20,) -> 0 | N20: =IFERROR(VLOOKUP($B20,Tecnicos_SYSTEM!$E$1:$M$20,9,0)*I20,) -> 0 | O20: =IFERROR(VLOOKUP($B20,Tecnicos_SYSTEM!$E$1:$M$20,9,0)*J20,) -> 0
B21: C4 - Tecnology Adoption Specialist | D21: Sede | E21: C4 - Tecnology Adoption Specialist | F21: A4 - Bioreactor Design Development | G21: 3 | K21: =SUM(G21:J21)*L21 -> 51363.805 | L21: =IFERROR(VLOOKUP($B21,Tecnicos_SYSTEM!$E$1:$M$20,9,0)*G21,) -> 17121.268 | M21: =IFERROR(VLOOKUP($B21,Tecnicos_SYSTEM!$E$1:$M$20,9,0)*H21,) -> 0 | N21: =IFERROR(VLOOKUP($B21,Tecnicos_SYSTEM!$E$1:$M$20,9,0)*I21,) -> 0 | O21: =IFERROR(VLOOKUP($B21,Tecnicos_SYSTEM!$E$1:$M$20,9,0)*J21,) -> 0
B22: D3 - Data Analytics Specialist | D22: Sede | E22: D3 - Data Analytics Specialist | F22: A4 - Bioreactor Design Development | G22: 1 | K22: =SUM(G22:J22)*L22 -> 5567.0782 | L22: =IFERROR(VLOOKUP($B22,Tecnicos_SYSTEM!$E$1:$M$20,9,0)*G22,) -> 5567.0782 | M22: =IFERROR(VLOOKUP($B22,Tecnicos_SYSTEM!$E$1:$M$20,9,0)*H22,) -> 0 | N22: =IFERROR(VLOOKUP($B22,Tecnicos_SYSTEM!$E$1:$M$20,9,0)*I22,) -> 0 | O22: =IFERROR(VLOOKUP($B22,Tecnicos_SYSTEM!$E$1:$M$20,9,0)*J22,) -> 0
B23: C1 - IT/OT Specialist | D23: Sede | E23: C1 - IT/OT Specialist | F23: A6 - Bioreactor Scale-Up | H23: 2 | I23: 3.5 | K23: =SUM(G23:J23)*L23 -> 0 | L23: =IFERROR(VLOOKUP($B23,Tecnicos_SYSTEM!$E$1:$M$20,9,0)*G23,) -> 0 | M23: =IFERROR(VLOOKUP($B23,Tecnicos_SYSTEM!$E$1:$M$20,9,0)*H23,) -> 5452.8278 | N23: =IFERROR(VLOOKUP($B23,Tecnicos_SYSTEM!$E$1:$M$20,9,0)*I23,) -> 9542.4486 | O23: =IFERROR(VLOOKUP($B23,Tecnicos_SYSTEM!$E$1:$M$20,9,0)*J23,) -> 0
B24: D1 - Operations Management Specialist | D24: Sede | E24: D1 - Operations Management Specialist | F24: A6 - Bioreactor Scale-Up | I24: 2 | K24: =SUM(G24:J24)*L24 -> 0 | L24: =IFERROR(VLOOKUP($B24,Tecnicos_SYSTEM!$E$1:$M$20,9,0)*G24,) -> 0 | M24: =IFERROR(VLOOKUP($B24,Tecnicos_SYSTEM!$E$1:$M$20,9,0)*H24,) -> 0 | N24: =IFERROR(VLOOKUP($B24,Tecnicos_SYSTEM!$E$1:$M$20,9,0)*I24,) -> 11990.599 | O24: =IFERROR(VLOOKUP($B24,Tecnicos_SYSTEM!$E$1:$M$20,9,0)*J24,) -> 0
B25: C2 - Digital Twin Specialist | D25: Sede | E25: C2 - Digital Twin Specialist | F25: A6 - Bioreactor Scale-Up | H25: 1 | I25: 3.5 | K25: =SUM(G25:J25)*L25 -> 0 | L25: =IFERROR(VLOOKUP($B25,Tecnicos_SYSTEM!$E$1:$M$20,9,0)*G25,) -> 0 | M25: =IFERROR(VLOOKUP($B25,Tecnicos_SYSTEM!$E$1:$M$20,9,0)*H25,) -> 2820.4604 | N25: =IFERROR(VLOOKUP($B25,Tecnicos_SYSTEM!$E$1:$M$20,9,0)*I25,) -> 9871.6113 | O25: =IFERROR(VLOOKUP($B25,Tecnicos_SYSTEM!$E$1:$M$20,9,0)*J25,) -> 0
B26: C3 - Digital Twin Specialist | D26: Sede | E26: C3 - Digital Twin Specialist | F26: A6 - Bioreactor Scale-Up | H26: 1 | I26: 3.5 | K26: =SUM(G26:J26)*L26 -> 0 | L26: =IFERROR(VLOOKUP($B26,Tecnicos_SYSTEM!$E$1:$M$20,9,0)*G26,) -> 0 | M26: =IFERROR(VLOOKUP($B26,Tecnicos_SYSTEM!$E$1:$M$20,9,0)*H26,) -> 2951.3191 | N26: =IFERROR(VLOOKUP($B26,Tecnicos_SYSTEM!$E$1:$M$20,9,0)*I26,) -> 10329.617 | O26: =IFERROR(VLOOKUP($B26,Tecnicos_SYSTEM!$E$1:$M$20,9,0)*J26,) -> 0
B27: C4 - Tecnology Adoption Specialist | D27: Sede | E27: C4 - Tecnology Adoption Specialist | F27: A6 - Bioreactor Scale-Up | H27: 3 | I27: 3 | K27: =SUM(G27:J27)*L27 -> 0 | L27: =IFERROR(VLOOKUP($B27,Tecnicos_SYSTEM!$E$1:$M$20,9,0)*G27,) -> 0 | M27: =IFERROR(VLOOKUP($B27,Tecnicos_SYSTEM!$E$1:$M$20,9,0)*H27,) -> 17121.268 | N27: =IFERROR(VLOOKUP($B27,Tecnicos_SYSTEM!$E$1:$M$20,9,0)*I27,) -> 17121.268 | O27: =IFERROR(VLOOKUP($B27,Tecnicos_SYSTEM!$E$1:$M$20,9,0)*J27,) -> 0
B28: C5 - Operations Management Specialist | D28: Sede | E28: C5 - Operations Management Specialist | F28: A6 - Bioreactor Scale-Up | I28: 2.5 | K28: =SUM(G28:J28)*L28 -> 0 | L28: =IFERROR(VLOOKUP($B28,Tecnicos_SYSTEM!$E$1:$M$20,9,0)*G28,) -> 0 | M28: =IFERROR(VLOOKUP($B28,Tecnicos_SYSTEM!$E$1:$M$20,9,0)*H28,) -> 0 | N28: =IFERROR(VLOOKUP($B28,Tecnicos_SYSTEM!$E$1:$M$20,9,0)*I28,) -> 17852.137 | O28: =IFERROR(VLOOKUP($B28,Tecnicos_SYSTEM!$E$1:$M$20,9,0)*J28,) -> 0
B29: D2 - AI Specialist | D29: Sede | E29: D2 - AI Specialist | F29: A6 - Bioreactor Scale-Up | I29: 1.5 | K29: =SUM(G29:J29)*L29 -> 0 | L29: =IFERROR(VLOOKUP($B29,Tecnicos_SYSTEM!$E$1:$M$20,9,0)*G29,) -> 0 | M29: =IFERROR(VLOOKUP($B29,Tecnicos_SYSTEM!$E$1:$M$20,9,0)*H29,) -> 0 | N29: =IFERROR(VLOOKUP($B29,Tecnicos_SYSTEM!$E$1:$M$20,9,0)*I29,) -> 9420.9914 | O29: =IFERROR(VLOOKUP($B29,Tecnicos_SYSTEM!$E$1:$M$20,9,0)*J29,) -> 0
B30: D3 - Data Analytics Specialist | D30: Sede | E30: D3 - Data Analytics Specialist | F30: A6 - Bioreactor Scale-Up | H30: 1 | I30: 1.5 | K30: =SUM(G30:J30)*L30 -> 0 | L30: =IFERROR(VLOOKUP($B30,Tecnicos_SYSTEM!$E$1:$M$20,9,0)*G30,) -> 0 | M30: =IFERROR(VLOOKUP($B30,Tecnicos_SYSTEM!$E$1:$M$20,9,0)*H30,) -> 5567.0782 | N30: =IFERROR(VLOOKUP($B30,Tecnicos_SYSTEM!$E$1:$M$20,9,0)*I30,) -> 8350.6173 | O30: =IFERROR(VLOOKUP($B30,Tecnicos_SYSTEM!$E$1:$M$20,9,0)*J30,) -> 0
B31: C6 - Operations Management Specialist | D31: Sede | E31: C6 - Operations Management Specialist | F31: A6 - Bioreactor Scale-Up | I31: 2.5 | K31: =SUM(G31:J31)*L31 -> 0 | L31: =IFERROR(VLOOKUP($B31,Tecnicos_SYSTEM!$E$1:$M$20,9,0)*G31,) -> 0 | M31: =IFERROR(VLOOKUP($B31,Tecnicos_SYSTEM!$E$1:$M$20,9,0)*H31,) -> 0 | N31: =IFERROR(VLOOKUP($B31,Tecnicos_SYSTEM!$E$1:$M$20,9,0)*I31,) -> 11756.16 | O31: =IFERROR(VLOOKUP($B31,Tecnicos_SYSTEM!$E$1:$M$20,9,0)*J31,) -> 0
B32: D4 - Data Analytics and AI Specialist | D32: Sede | E32: D4 - Data Analytics and AI Specialist | F32: A6 - Bioreactor Scale-Up | I32: 2 | K32: =SUM(G32:J32)*L32 -> 0 | L32: =IFERROR(VLOOKUP($B32,Tecnicos_SYSTEM!$E$1:$M$20,9,0)*G32,) -> 0 | M32: =IFERROR(VLOOKUP($B32,Tecnicos_SYSTEM!$E$1:$M$20,9,0)*H32,) -> 0 | N32: =IFERROR(VLOOKUP($B32,Tecnicos_SYSTEM!$E$1:$M$20,9,0)*I32,) -> 13132.574 | O32: =IFERROR(VLOOKUP($B32,Tecnicos_SYSTEM!$E$1:$M$20,9,0)*J32,) -> 0
B33: D5 - Data Analytics and AI Specialist | D33: Sede | E33: D5 - Data Analytics and AI Specialist | F33: A6 - Bioreactor Scale-Up | I33: 1.5 | K33: =SUM(G33:J33)*L33 -> 0 | L33: =IFERROR(VLOOKUP($B33,Tecnicos_SYSTEM!$E$1:$M$20,9,0)*G33,) -> 0 | M33: =IFERROR(VLOOKUP($B33,Tecnicos_SYSTEM!$E$1:$M$20,9,0)*H33,) -> 0 | N33: =IFERROR(VLOOKUP($B33,Tecnicos_SYSTEM!$E$1:$M$20,9,0)*I33,) -> 8350.6173 | O33: =IFERROR(VLOOKUP($B33,Tecnicos_SYSTEM!$E$1:$M$20,9,0)*J33,) -> 0
B34: C5 - Operations Management Specialist | D34: Sede | E34: C5 - Operations Management Specialist | F34: A7 - Textile Testing & Validation | K34: =SUM(G34:J34)*L34 -> 0 | L34: =IFERROR(VLOOKUP($B34,Tecnicos_SYSTEM!$E$1:$M$20,9,0)*G34,) -> 0 | M34: =IFERROR(VLOOKUP($B34,Tecnicos_SYSTEM!$E$1:$M$20,9,0)*H34,) -> 0 | N34: =IFERROR(VLOOKUP($B34,Tecnicos_SYSTEM!$E$1:$M$20,9,0)*I34,) -> 0 | O34: =IFERROR(VLOOKUP($B34,Tecnicos_SYSTEM!$E$1:$M$20,9,0)*J34,) -> 0
B35: D2 - AI Specialist | D35: Sede | E35: D2 - AI Specialist | F35: A7 - Textile Testing & Validation | K35: =SUM(G35:J35)*L35 -> 0 | L35: =IFERROR(VLOOKUP($B35,Tecnicos_SYSTEM!$E$1:$M$20,9,0)*G35,) -> 0 | M35: =IFERROR(VLOOKUP($B35,Tecnicos_SYSTEM!$E$1:$M$20,9,0)*H35,) -> 0 | N35: =IFERROR(VLOOKUP($B35,Tecnicos_SYSTEM!$E$1:$M$20,9,0)*I35,) -> 0 | O35: =IFERROR(VLOOKUP($B35,Tecnicos_SYSTEM!$E$1:$M$20,9,0)*J35,) -> 0
B36: C6 - Operations Management Specialist | D36: Sede | E36: C6 - Operations Management Specialist | F36: A7 - Textile Testing & Validation | K36: =SUM(G36:J36)*L36 -> 0 | L36: =IFERROR(VLOOKUP($B36,Tecnicos_SYSTEM!$E$1:$M$20,9,0)*G36,) -> 0 | M36: =IFERROR(VLOOKUP($B36,Tecnicos_SYSTEM!$E$1:$M$20,9,0)*H36,) -> 0 | N36: =IFERROR(VLOOKUP($B36,Tecnicos_SYSTEM!$E$1:$M$20,9,0)*I36,) -> 0 | O36: =IFERROR(VLOOKUP($B36,Tecnicos_SYSTEM!$E$1:$M$20,9,0)*J36,) -> 0
B37: D5 - Data Analytics and AI Specialist | D37: Sede | E37: D5 - Data Analytics and AI Specialist | F37: A7 - Textile Testing & Validation | K37: =SUM(G37:J37)*L37 -> 0 | L37: =IFERROR(VLOOKUP($B37,Tecnicos_SYSTEM!$E$1:$M$20,9,0)*G37,) -> 0 | M37: =IFERROR(VLOOKUP($B37,Tecnicos_SYSTEM!$E$1:$M$20,9,0)*H37,) -> 0 | N37: =IFERROR(VLOOKUP($B37,Tecnicos_SYSTEM!$E$1:$M$20,9,0)*I37,) -> 0 | O37: =IFERROR(VLOOKUP($B37,Tecnicos_SYSTEM!$E$1:$M$20,9,0)*J37,) -> 0
B38: C1 - IT/OT Specialist | D38: Sede | E38: C1 - IT/OT Specialist | F38: A8 - Industrial-Scale Dyeing Performance Assessment | K38: =SUM(G38:J38)*L38 -> 0 | L38: =IFERROR(VLOOKUP($B38,Tecnicos_SYSTEM!$E$1:$M$20,9,0)*G38,) -> 0 | M38: =IFERROR(VLOOKUP($B38,Tecnicos_SYSTEM!$E$1:$M$20,9,0)*H38,) -> 0 | N38: =IFERROR(VLOOKUP($B38,Tecnicos_SYSTEM!$E$1:$M$20,9,0)*I38,) -> 0 | O38: =IFERROR(VLOOKUP($B38,Tecnicos_SYSTEM!$E$1:$M$20,9,0)*J38,) -> 0
B39: D1 - Operations Management Specialist | D39: Sede | E39: D1 - Operations Management Specialist | F39: A8 - Industrial-Scale Dyeing Performance Assessment | K39: =SUM(G39:J39)*L39 -> 0 | L39: =IFERROR(VLOOKUP($B39,Tecnicos_SYSTEM!$E$1:$M$20,9,0)*G39,) -> 0 | M39: =IFERROR(VLOOKUP($B39,Tecnicos_SYSTEM!$E$1:$M$20,9,0)*H39,) -> 0 | N39: =IFERROR(VLOOKUP($B39,Tecnicos_SYSTEM!$E$1:$M$20,9,0)*I39,) -> 0 | O39: =IFERROR(VLOOKUP($B39,Tecnicos_SYSTEM!$E$1:$M$20,9,0)*J39,) -> 0
B40: C2 - Digital Twin Specialist | D40: Sede | E40: C2 - Digital Twin Specialist | F40: A8 - Industrial-Scale Dyeing Performance Assessment | K40: =SUM(G40:J40)*L40 -> 0 | L40: =IFERROR(VLOOKUP($B40,Tecnicos_SYSTEM!$E$1:$M$20,9,0)*G40,) -> 0 | M40: =IFERROR(VLOOKUP($B40,Tecnicos_SYSTEM!$E$1:$M$20,9,0)*H40,) -> 0 | N40: =IFERROR(VLOOKUP($B40,Tecnicos_SYSTEM!$E$1:$M$20,9,0)*I40,) -> 0 | O40: =IFERROR(VLOOKUP($B40,Tecnicos_SYSTEM!$E$1:$M$20,9,0)*J40,) -> 0
...

Sheet Folha1
A3: Rótulos de Linha | B3: Soma de ETI 0 (Ano 2027) | C3: Soma de ETI 1 (Ano 2028) | D3: Soma de ET2 (Ano 2029) | E3: Soma de ET3
A4: C1 - Specialist in Signal Processing and Hardware Instrumentation Design | B4: 4.5 | C4: 11 | D4: 6.5
A5: C2 - Specialist in Electrochemistry | B5: 0 | C5: 2 | D5: 2.5
A6: C3 - Specialist in Physics Engineering | B6: 11 | C6: 11 | D6: 11
A7: C4 - Specialist in Optical Sensing Technologies | B7: 2.5 | C7: 2.5 | D7: 2.5
A8: C5 - Specialist in Chemical Functionalization and Optical Sensing | B8: 2 | C8: 2.5 | D8: 1.5
A9: C6 - Electronic Technician Specialist | B9: 0.5 | C9: 5 | D9: 4
A10: C7 - Specialist in Electronics | B10: 3 | C10: 5 | D10: 4
A11: C8 - Specialist in Optics and Instrumentation | B11: 8 | C11: 11 | D11: 3
A12: D1 - Specialist in Physics | D12: 5.5
A13: D2 - Specialist in Physics and Optics | B13: 4 | C13: 4 | D13: 4
A14: (em branco)
A15: Total Geral | B15: 35.5 | C15: 54 | D15: 44.5

Sheet Pessoal_CAP
A1: N.º | B1: Técnico | C1: Conteúdo Funcional | D1: Estab. | E1: Perfil | F1: Atividade | G1: ETI 0 (Ano 2027) | H1: ETI 1 (Ano 2028) | I1: ET2 (Ano 2029) | J1: ET3 (Ano 2030) | K1: Valor (Custo Total Pessoal) | L1: Custo ETI (Ano 2027) | M1: Custo ETI (Ano 2028) | N1: Custo ETI (Ano 2029) | O1: Custo ETI (Ano 2030) | S1: 2027 | T1: 2028 | U1: 2029 | V1: Total | X1: 2027 | Y1: 2028 | Z1: 2029 | AA1: Total
B2: C2 - Specialist in Electrochemistry | D2: Polo Ciências | F2: Activity 1 - Continuous Fermentation Development | G2: 0 | K2: =SUM(L2:O2) -> 0 | L2: =IFERROR(VLOOKUP($B2,Tecnicos_CAP!$E$1:$N$20,10,0)*G2,) -> 0 | M2: =IFERROR(VLOOKUP($B2,Tecnicos_CAP!$E$1:$N$20,10,0)*H2,) -> 0 | N2: =IFERROR(VLOOKUP($B2,Tecnicos_CAP!$E$1:$N$20,10,0)*I2,) -> 0 | O2: =IFERROR(VLOOKUP($B2,Tecnicos_CAP!$E$1:$N$20,10,0)*J2,) -> 0 | Q2: =SUM(G2:I2) -> 0 | S2: =G2+G13+G24+G35+G46+G57+G68+G79 -> 0 | T2: =H2+H13+H24+H35+H46+H57+H68+H79 -> 2 | U2: =I2+I13+I24+I35+I46+I57+I68+I79 -> 2.5 | V2: =S2+T2+U2 -> 4.5 | X2: =L2+L13+L24+L35+L46+L57+L68+L79 -> 0 | Y2: =M2+M13+M24+M35+M46+M57+M68+M79 -> 7662.8733 | Z2: =N2+N13+N24+N35+N46+N57+N68+N79 -> 9578.5916 | AA2: =X2+Y2+Z2 -> 17241.465
B3: C5 - Specialist in Chemical Functionalization and Optical Sensing | D3: Polo Ciências | F3: Activity 1 - Continuous Fermentation Development | K3: =SUM(L3:O3) -> 0 | L3: =IFERROR(VLOOKUP($B3,Tecnicos_CAP!$E$1:$N$20,10,0)*G3,) -> 0 | M3: =IFERROR(VLOOKUP($B3,Tecnicos_CAP!$E$1:$N$20,10,0)*H3,) -> 0 | N3: =IFERROR(VLOOKUP($B3,Tecnicos_CAP!$E$1:$N$20,10,0)*I3,) -> 0 | O3: =IFERROR(VLOOKUP($B3,Tecnicos_CAP!$E$1:$N$20,10,0)*J3,) -> 0 | Q3: =SUM(G3:I3) -> 0 | S3: =G3+G14+G25+G36+G47+G58+G69+G80 -> 2 | T3: =H3+H14+H25+H36+H47+H58+H69+H80 -> 2.5 | U3: =I3+I14+I25+I36+I47+I58+I69+I80 -> 1.5 | V3: =S3+T3+U3 -> 6 | X3: =L3+L14+L25+L36+L47+L58+L69+L80 -> 7662.8733 | Y3: =M3+M14+M25+M36+M47+M58+M69+M80 -> 9578.5916 | Z3: =N3+N14+N25+N36+N47+N58+N69+N80 -> 5747.155 | AA3: =X3+Y3+Z3 -> 22988.62
B4: C1 - Specialist in Signal Processing and Hardware Instrumentation Design | D4: Polo Ciências | F4: Activity 1 - Continuous Fermentation Development | G4: 1 | K4: =SUM(L4:O4) -> 3831.4366 | L4: =IFERROR(VLOOKUP($B4,Tecnicos_CAP!$E$1:$N$20,10,0)*G4,) -> 3831.4366 | M4: =IFERROR(VLOOKUP($B4,Tecnicos_CAP!$E$1:$N$20,10,0)*H4,) -> 0 | N4: =IFERROR(VLOOKUP($B4,Tecnicos_CAP!$E$1:$N$20,10,0)*I4,) -> 0 | O4: =IFERROR(VLOOKUP($B4,Tecnicos_CAP!$E$1:$N$20,10,0)*J4,) -> 0 | Q4: =SUM(G4:I4) -> 1 | S4: =G4+G15+G26+G37+G48+G59+G70+G81 -> 4.5 | T4: =H4+H15+H26+H37+H48+H59+H70+H81 -> 11 | U4: =I4+I15+I26+I37+I48+I59+I70+I81 -> 6.5 | V4: =S4+T4+U4 -> 22 | X4: =L4+L15+L26+L37+L48+L59+L70+L81 -> 17241.465 | Y4: =M4+M15+M26+M37+M48+M59+M70+M81 -> 42145.803 | Z4: =N4+N15+N26+N37+N48+N59+N70+N81 -> 24904.338 | AA4: =X4+Y4+Z4 -> 84291.606
B5: C3 - Specialist in Physics Engineering | D5: Polo Ciências | F5: Activity 1 - Continuous Fermentation Development | G5: 1 | K5: =SUM(L5:O5) -> 2646.1273 | L5: =IFERROR(VLOOKUP($B5,Tecnicos_CAP!$E$1:$N$20,10,0)*G5,) -> 2646.1273 | M5: =IFERROR(VLOOKUP($B5,Tecnicos_CAP!$E$1:$N$20,10,0)*H5,) -> 0 | N5: =IFERROR(VLOOKUP($B5,Tecnicos_CAP!$E$1:$N$20,10,0)*I5,) -> 0 | O5: =IFERROR(VLOOKUP($B5,Tecnicos_CAP!$E$1:$N$20,10,0)*J5,) -> 0 | Q5: =SUM(G5:I5) -> 1 | S5: =G5+G16+G27+G38+G49+G60+G71+G82 -> 11 | T5: =H5+H16+H27+H38+H49+H60+H71+H82 -> 11 | U5: =I5+I16+I27+I38+I49+I60+I71+I82 -> 11 | V5: =S5+T5+U5 -> 33 | X5: =L5+L16+L27+L38+L49+L60+L71+L82 -> 29107.4 | Y5: =M5+M16+M27+M38+M49+M60+M71+M82 -> 29107.4 | Z5: =N5+N16+N27+N38+N49+N60+N71+N82 -> 29107.4 | AA5: =X5+Y5+Z5 -> 87322.2
B6: C4 - Specialist in Optical Sensing Technologies | D6: Polo Ciências | F6: Activity 1 - Continuous Fermentation Development | K6: =SUM(L6:O6) -> 0 | L6: =IFERROR(VLOOKUP($B6,Tecnicos_CAP!$E$1:$N$20,10,0)*G6,) -> 0 | M6: =IFERROR(VLOOKUP($B6,Tecnicos_CAP!$E$1:$N$20,10,0)*H6,) -> 0 | N6: =IFERROR(VLOOKUP($B6,Tecnicos_CAP!$E$1:$N$20,10,0)*I6,) -> 0 | O6: =IFERROR(VLOOKUP($B6,Tecnicos_CAP!$E$1:$N$20,10,0)*J6,) -> 0 | Q6: =SUM(G6:I6) -> 0 | S6: =G6+G17+G28+G39+G50+G61+G72+G83 -> 2.5 | T6: =H6+H17+H28+H39+H50+H61+H72+H83 -> 2.5 | U6: =I6+I17+I28+I39+I50+I61+I72+I83 -> 2.5 | V6: =S6+T6+U6 -> 7.5 | X6: =L6+L17+L28+L39+L50+L61+L72+L83 -> 17140.484 | Y6: =M6+M17+M28+M39+M50+M61+M72+M83 -> 17140.484 | Z6: =N6+N17+N28+N39+N50+N61+N72+N83 -> 17140.484 | AA6: =X6+Y6+Z6 -> 51421.452
B7: C6 - Electronic Technician Specialist | D7: Polo Ciências | F7: Activity 1 - Continuous Fermentation Development | K7: =SUM(L7:O7) -> 0 | L7: =IFERROR(VLOOKUP($B7,Tecnicos_CAP!$E$1:$N$20,10,0)*G7,) -> 0 | M7: =IFERROR(VLOOKUP($B7,Tecnicos_CAP!$E$1:$N$20,10,0)*H7,) -> 0 | N7: =IFERROR(VLOOKUP($B7,Tecnicos_CAP!$E$1:$N$20,10,0)*I7,) -> 0 | O7: =IFERROR(VLOOKUP($B7,Tecnicos_CAP!$E$1:$N$20,10,0)*J7,) -> 0 | Q7: =SUM(G7:I7) -> 0 | S7: =G7+G18+G29+G40+G51+G62+G73+G84 -> 0.5 | T7: =H7+H18+H29+H40+H51+H62+H73+H84 -> 5 | U7: =I7+I18+I29+I40+I51+I62+I73+I84 -> 4 | V7: =S7+T7+U7 -> 9.5 | X7: =L7+L18+L29+L40+L51+L62+L73+L84 -> 983.08298 | Y7: =M7+M18+M29+M40+M51+M62+M73+M84 -> 9830.8298 | Z7: =N7+N18+N29+N40+N51+N62+N73+N84 -> 7864.6638 | AA7: =X7+Y7+Z7 -> 18678.577
B8: C7 - Specialist in Electronics | D8: Polo Ciências | F8: Activity 1 - Continuous Fermentation Development | K8: =SUM(L8:O8) -> 0 | L8: =IFERROR(VLOOKUP($B8,Tecnicos_CAP!$E$1:$N$20,10,0)*G8,) -> 0 | M8: =IFERROR(VLOOKUP($B8,Tecnicos_CAP!$E$1:$N$20,10,0)*H8,) -> 0 | N8: =IFERROR(VLOOKUP($B8,Tecnicos_CAP!$E$1:$N$20,10,0)*I8,) -> 0 | O8: =IFERROR(VLOOKUP($B8,Tecnicos_CAP!$E$1:$N$20,10,0)*J8,) -> 0 | Q8: =SUM(G8:I8) -> 0 | S8: =G8+G19+G30+G41+G52+G63+G74+G85 -> 3 | T8: =H8+H19+H30+H41+H52+H63+H74+H85 -> 5 | U8: =I8+I19+I30+I41+I52+I63+I74+I85 -> 4 | V8: =S8+T8+U8 -> 12 | X8: =L8+L19+L30+L41+L52+L63+L74+L85 -> 6957.1044 | Y8: =M8+M19+M30+M41+M52+M63+M74+M85 -> 11595.174 | Z8: =N8+N19+N30+N41+N52+N63+N74+N85 -> 9276.1392 | AA8: =X8+Y8+Z8 -> 27828.418
B9: D1 - Specialist in Physics | D9: Polo Ciências | F9: Activity 1 - Continuous Fermentation Development | K9: =SUM(L9:O9) -> 0 | L9: =IFERROR(VLOOKUP($B9,Tecnicos_CAP!$E$1:$N$20,10,0)*G9,) -> 0 | M9: =IFERROR(VLOOKUP($B9,Tecnicos_CAP!$E$1:$N$20,10,0)*H9,) -> 0 | N9: =IFERROR(VLOOKUP($B9,Tecnicos_CAP!$E$1:$N$20,10,0)*I9,) -> 0 | O9: =IFERROR(VLOOKUP($B9,Tecnicos_CAP!$E$1:$N$20,10,0)*J9,) -> 0 | Q9: =SUM(G9:I9) -> 0 | S9: =G9+G20+G31+G42+G53+G64+G75+G86 -> 0 | T9: =H9+H20+H31+H42+H53+H64+H75+H86 -> 0 | U9: =I9+I20+I31+I42+I53+I64+I75+I86 -> 5.5 | V9: =S9+T9+U9 -> 5.5 | X9: =L9+L20+L31+L42+L53+L64+L75+L86 -> 0 | Y9: =M9+M20+M31+M42+M53+M64+M75+M86 -> 0 | Z9: =N9+N20+N31+N42+N53+N64+N75+N86 -> 41610.484 | AA9: =X9+Y9+Z9 -> 41610.484
B10: C8 - Specialist in Optics and Instrumentation | D10: Polo Ciências | F10: Activity 1 - Continuous Fermentation Development | K10: =SUM(L10:O10) -> 0 | L10: =IFERROR(VLOOKUP($B10,Tecnicos_CAP!$E$1:$N$20,10,0)*G10,) -> 0 | M10: =IFERROR(VLOOKUP($B10,Tecnicos_CAP!$E$1:$N$20,10,0)*H10,) -> 0 | N10: =IFERROR(VLOOKUP($B10,Tecnicos_CAP!$E$1:$N$20,10,0)*I10,) -> 0 | O10: =IFERROR(VLOOKUP($B10,Tecnicos_CAP!$E$1:$N$20,10,0)*J10,) -> 0 | Q10: =SUM(G10:I10) -> 0 | S10: =G10+G21+G32+G43+G54+G65+G76+G87 -> 8 | T10: =H10+H21+H32+H43+H54+H65+H76+H87 -> 11 | U10: =I10+I21+I32+I43+I54+I65+I76+I87 -> 3 | V10: =S10+T10+U10 -> 22 | X10: =L10+L21+L32+L43+L54+L65+L76+L87 -> 11507.956 | Y10: =M10+M21+M32+M43+M54+M65+M76+M87 -> 15823.44 | Z10: =N10+N21+N32+N43+N54+N65+N76+N87 -> 4315.4836 | AA10: =X10+Y10+Z10 -> 31646.88
B11: D2 - Specialist in Physics and Optics | Q11: =SUM(G11:I11) -> 0 | S11: =G11+G22+G33+G44+G55+G66+G77+G88 -> 4 | T11: =H11+H22+H33+H44+H55+H66+H77+H88 -> 4 | U11: =I11+I22+I33+I44+I55+I66+I77+I88 -> 4 | V11: =S11+T11+U11 -> 12 | X11: =L11+L22+L33+L44+L55+L66+L77+L88 -> 30262.17 | Y11: =M11+M22+M33+M44+M55+M66+M77+M88 -> 30262.17 | Z11: =N11+N22+N33+N44+N55+N66+N77+N88 -> 30262.17 | AA11: =X11+Y11+Z11 -> 90786.51
D12: Polo Ciências | L12: =IFERROR(VLOOKUP($B12,Tecnicos_CAP!$E$1:$N$20,10,0)*G12,) -> 0 | M12: =IFERROR(VLOOKUP($B12,Tecnicos_CAP!$E$1:$N$20,10,0)*H12,) -> 0 | N12: =IFERROR(VLOOKUP($B12,Tecnicos_CAP!$E$1:$N$20,10,0)*I12,) -> 0 | O12: =IFERROR(VLOOKUP($B12,Tecnicos_CAP!$E$1:$N$20,10,0)*J12,) -> 0 | R12: =SUM(R2:R11) -> 0 | S12: =SUM(S2:S11) -> 35.5 | T12: =SUM(T2:T11) -> 54 | U12: =SUM(U2:U11) -> 44.5 | V12: =SUM(V2:V11) -> 134 | W12: =SUM(W2:W11) -> 0 | X12: =SUM(X2:X11) -> 120862.54 | Y12: =SUM(Y2:Y11) -> 173146.77 | ... AA12: =SUM(AA2:AA11) -> 473816.21
B13: =B2 -> C2 - Specialist in Electrochemistry | D13: Polo Ciências | F13: Activity 2 - Feedstock Characterisation and Screening | G13: 0 | K13: =SUM(L13:O13) -> 0 | L13: =IFERROR(VLOOKUP($B13,Tecnicos_CAP!$E$1:$N$20,10,0)*G13,) -> 0 | M13: =IFERROR(VLOOKUP($B13,Tecnicos_CAP!$E$1:$N$20,10,0)*H13,) -> 0 | N13: =IFERROR(VLOOKUP($B13,Tecnicos_CAP!$E$1:$N$20,10,0)*I13,) -> 0 | O13: =IFERROR(VLOOKUP($B13,Tecnicos_CAP!$E$1:$N$20,10,0)*J13,) -> 0 | AA13: =SUM(AA2:AA11) -> 473816.21
B14: =B3 -> C5 - Specialist in Chemical Functionalization and Optical Sensing | D14: Polo Ciências | F14: Activity 2 - Feedstock Characterisation and Screening | G14: 1 | K14: =SUM(L14:O14) -> 3831.4366 | L14: =IFERROR(VLOOKUP($B14,Tecnicos_CAP!$E$1:$N$20,10,0)*G14,) -> 3831.4366 | M14: =IFERROR(VLOOKUP($B14,Tecnicos_CAP!$E$1:$N$20,10,0)*H14,) -> 0 | N14: =IFERROR(VLOOKUP($B14,Tecnicos_CAP!$E$1:$N$20,10,0)*I14,) -> 0 | O14: =IFERROR(VLOOKUP($B14,Tecnicos_CAP!$E$1:$N$20,10,0)*J14,) -> 0
B15: =B4 -> C1 - Specialist in Signal Processing and Hardware Instrumentation Design | D15: Polo Ciências | F15: Activity 2 - Feedstock Characterisation and Screening | G15: 1 | K15: =SUM(L15:O15) -> 3831.4366 | L15: =IFERROR(VLOOKUP($B15,Tecnicos_CAP!$E$1:$N$20,10,0)*G15,) -> 3831.4366 | M15: =IFERROR(VLOOKUP($B15,Tecnicos_CAP!$E$1:$N$20,10,0)*H15,) -> 0 | N15: =IFERROR(VLOOKUP($B15,Tecnicos_CAP!$E$1:$N$20,10,0)*I15,) -> 0 | O15: =IFERROR(VLOOKUP($B15,Tecnicos_CAP!$E$1:$N$20,10,0)*J15,) -> 0
B16: =B5 -> C3 - Specialist in Physics Engineering | D16: Polo Ciências | F16: Activity 2 - Feedstock Characterisation and Screening | G16: 1 | K16: =SUM(L16:O16) -> 2646.1273 | L16: =IFERROR(VLOOKUP($B16,Tecnicos_CAP!$E$1:$N$20,10,0)*G16,) -> 2646.1273 | M16: =IFERROR(VLOOKUP($B16,Tecnicos_CAP!$E$1:$N$20,10,0)*H16,) -> 0 | N16: =IFERROR(VLOOKUP($B16,Tecnicos_CAP!$E$1:$N$20,10,0)*I16,) -> 0 | O16: =IFERROR(VLOOKUP($B16,Tecnicos_CAP!$E$1:$N$20,10,0)*J16,) -> 0
B17: =B6 -> C4 - Specialist in Optical Sensing Technologies | D17: Polo Ciências | F17: Activity 2 - Feedstock Characterisation and Screening | K17: =SUM(L17:O17) -> 0 | L17: =IFERROR(VLOOKUP($B17,Tecnicos_CAP!$E$1:$N$20,10,0)*G17,) -> 0 | M17: =IFERROR(VLOOKUP($B17,Tecnicos_CAP!$E$1:$N$20,10,0)*H17,) -> 0 | N17: =IFERROR(VLOOKUP($B17,Tecnicos_CAP!$E$1:$N$20,10,0)*I17,) -> 0 | O17: =IFERROR(VLOOKUP($B17,Tecnicos_CAP!$E$1:$N$20,10,0)*J17,) -> 0
B18: =B7 -> C6 - Electronic Technician Specialist | D18: Polo Ciências | F18: Activity 2 - Feedstock Characterisation and Screening | K18: =SUM(L18:O18) -> 0 | L18: =IFERROR(VLOOKUP($B18,Tecnicos_CAP!$E$1:$N$20,10,0)*G18,) -> 0 | M18: =IFERROR(VLOOKUP($B18,Tecnicos_CAP!$E$1:$N$20,10,0)*H18,) -> 0 | N18: =IFERROR(VLOOKUP($B18,Tecnicos_CAP!$E$1:$N$20,10,0)*I18,) -> 0 | O18: =IFERROR(VLOOKUP($B18,Tecnicos_CAP!$E$1:$N$20,10,0)*J18,) -> 0
B19: =B8 -> C7 - Specialist in Electronics | D19: Polo Ciências | F19: Activity 2 - Feedstock Characterisation and Screening | K19: =SUM(L19:O19) -> 0 | L19: =IFERROR(VLOOKUP($B19,Tecnicos_CAP!$E$1:$N$20,10,0)*G19,) -> 0 | M19: =IFERROR(VLOOKUP($B19,Tecnicos_CAP!$E$1:$N$20,10,0)*H19,) -> 0 | N19: =IFERROR(VLOOKUP($B19,Tecnicos_CAP!$E$1:$N$20,10,0)*I19,) -> 0 | O19: =IFERROR(VLOOKUP($B19,Tecnicos_CAP!$E$1:$N$20,10,0)*J19,) -> 0
B20: =B9 -> D1 - Specialist in Physics | D20: Polo Ciências | F20: Activity 2 - Feedstock Characterisation and Screening | K20: =SUM(L20:O20) -> 0 | L20: =IFERROR(VLOOKUP($B20,Tecnicos_CAP!$E$1:$N$20,10,0)*G20,) -> 0 | M20: =IFERROR(VLOOKUP($B20,Tecnicos_CAP!$E$1:$N$20,10,0)*H20,) -> 0 | N20: =IFERROR(VLOOKUP($B20,Tecnicos_CAP!$E$1:$N$20,10,0)*I20,) -> 0 | O20: =IFERROR(VLOOKUP($B20,Tecnicos_CAP!$E$1:$N$20,10,0)*J20,) -> 0
B21: =B10 -> C8 - Specialist in Optics and Instrumentation | D21: Polo Ciências | F21: Activity 2 - Feedstock Characterisation and Screening | K21: =SUM(L21:O21) -> 0 | L21: =IFERROR(VLOOKUP($B21,Tecnicos_CAP!$E$1:$N$20,10,0)*G21,) -> 0 | M21: =IFERROR(VLOOKUP($B21,Tecnicos_CAP!$E$1:$N$20,10,0)*H21,) -> 0 | N21: =IFERROR(VLOOKUP($B21,Tecnicos_CAP!$E$1:$N$20,10,0)*I21,) -> 0 | O21: =IFERROR(VLOOKUP($B21,Tecnicos_CAP!$E$1:$N$20,10,0)*J21,) -> 0
B22: D2 - Specialist in Physics and Optics
D23: Polo Ciências | F23: Activity 2 - Feedstock Characterisation and Screening | L23: =IFERROR(VLOOKUP($B23,Tecnicos_CAP!$E$1:$N$20,10,0)*G23,) -> 0 | M23: =IFERROR(VLOOKUP($B23,Tecnicos_CAP!$E$1:$N$20,10,0)*H23,) -> 0 | N23: =IFERROR(VLOOKUP($B23,Tecnicos_CAP!$E$1:$N$20,10,0)*I23,) -> 0 | O23: =IFERROR(VLOOKUP($B23,Tecnicos_CAP!$E$1:$N$20,10,0)*J23,) -> 0
B24: =B2 -> C2 - Specialist in Electrochemistry | D24: Polo Ciências | F24: Activity 3 - AI-Driven Process Intelligence Development | H24: 1 | K24: =SUM(L24:O24) -> 3831.4366 | L24: =IFERROR(VLOOKUP($B24,Tecnicos_CAP!$E$1:$N$20,10,0)*G24,) -> 0 | M24: =IFERROR(VLOOKUP($B24,Tecnicos_CAP!$E$1:$N$20,10,0)*H24,) -> 3831.4366 | N24: =IFERROR(VLOOKUP($B24,Tecnicos_CAP!$E$1:$N$20,10,0)*I24,) -> 0 | O24: =IFERROR(VLOOKUP($B24,Tecnicos_CAP!$E$1:$N$20,10,0)*J24,) -> 0
B25: =B3 -> C5 - Specialist in Chemical Functionalization and Optical Sensing | D25: Polo Ciências | F25: Activity 3 - AI-Driven Process Intelligence Development | H25: 2 | K25: =SUM(L25:O25) -> 7662.8733 | L25: =IFERROR(VLOOKUP($B25,Tecnicos_CAP!$E$1:$N$20,10,0)*G25,) -> 0 | M25: =IFERROR(VLOOKUP($B25,Tecnicos_CAP!$E$1:$N$20,10,0)*H25,) -> 7662.8733 | N25: =IFERROR(VLOOKUP($B25,Tecnicos_CAP!$E$1:$N$20,10,0)*I25,) -> 0 | O25: =IFERROR(VLOOKUP($B25,Tecnicos_CAP!$E$1:$N$20,10,0)*J25,) -> 0
B26: =B4 -> C1 - Specialist in Signal Processing and Hardware Instrumentation Design | D26: Polo Ciências | F26: Activity 3 - AI-Driven Process Intelligence Development | H26: 11 | I26: 2 | K26: =SUM(L26:O26) -> 49808.676 | L26: =IFERROR(VLOOKUP($B26,Tecnicos_CAP!$E$1:$N$20,10,0)*G26,) -> 0 | M26: =IFERROR(VLOOKUP($B26,Tecnicos_CAP!$E$1:$N$20,10,0)*H26,) -> 42145.803 | N26: =IFERROR(VLOOKUP($B26,Tecnicos_CAP!$E$1:$N$20,10,0)*I26,) -> 7662.8733 | O26: =IFERROR(VLOOKUP($B26,Tecnicos_CAP!$E$1:$N$20,10,0)*J26,) -> 0
B27: =B5 -> C3 - Specialist in Physics Engineering | D27: Polo Ciências | F27: Activity 3 - AI-Driven Process Intelligence Development | G27: 6 | H27: 11 | I27: 2 | K27: =SUM(L27:O27) -> 50276.418 | L27: =IFERROR(VLOOKUP($B27,Tecnicos_CAP!$E$1:$N$20,10,0)*G27,) -> 15876.764 | M27: =IFERROR(VLOOKUP($B27,Tecnicos_CAP!$E$1:$N$20,10,0)*H27,) -> 29107.4 | N27: =IFERROR(VLOOKUP($B27,Tecnicos_CAP!$E$1:$N$20,10,0)*I27,) -> 5292.2545 | O27: =IFERROR(VLOOKUP($B27,Tecnicos_CAP!$E$1:$N$20,10,0)*J27,) -> 0
B28: =B6 -> C4 - Specialist in Optical Sensing Technologies | D28: Polo Ciências | F28: Activity 3 - AI-Driven Process Intelligence Development | G28: 1.5 | H28: 1 | K28: =SUM(L28:O28) -> 17140.484 | L28: =IFERROR(VLOOKUP($B28,Tecnicos_CAP!$E$1:$N$20,10,0)*G28,) -> 10284.29 | M28: =IFERROR(VLOOKUP($B28,Tecnicos_CAP!$E$1:$N$20,10,0)*H28,) -> 6856.1936 | N28: =IFERROR(VLOOKUP($B28,Tecnicos_CAP!$E$1:$N$20,10,0)*I28,) -> 0 | O28: =IFERROR(VLOOKUP($B28,Tecnicos_CAP!$E$1:$N$20,10,0)*J28,) -> 0
B29: =B7 -> C6 - Electronic Technician Specialist | D29: Polo Ciências | F29: Activity 3 - AI-Driven Process Intelligence Development | G29: 0.5 | H29: 5 | I29: 2 | K29: =SUM(L29:O29) -> 14746.245 | L29: =IFERROR(VLOOKUP($B29,Tecnicos_CAP!$E$1:$N$20,10,0)*G29,) -> 983.08298 | M29: =IFERROR(VLOOKUP($B29,Tecnicos_CAP!$E$1:$N$20,10,0)*H29,) -> 9830.8298 | N29: =IFERROR(VLOOKUP($B29,Tecnicos_CAP!$E$1:$N$20,10,0)*I29,) -> 3932.3319 | O29: =IFERROR(VLOOKUP($B29,Tecnicos_CAP!$E$1:$N$20,10,0)*J29,) -> 0
B30: =B8 -> C7 - Specialist in Electronics | D30: Polo Ciências | F30: Activity 3 - AI-Driven Process Intelligence Development | G30: 3 | H30: 5 | I30: 2 | K30: =SUM(L30:O30) -> 23190.348 | L30: =IFERROR(VLOOKUP($B30,Tecnicos_CAP!$E$1:$N$20,10,0)*G30,) -> 6957.1044 | M30: =IFERROR(VLOOKUP($B30,Tecnicos_CAP!$E$1:$N$20,10,0)*H30,) -> 11595.174 | N30: =IFERROR(VLOOKUP($B30,Tecnicos_CAP!$E$1:$N$20,10,0)*I30,) -> 4638.0696 | O30: =IFERROR(VLOOKUP($B30,Tecnicos_CAP!$E$1:$N$20,10,0)*J30,) -> 0
B31: =B9 -> D1 - Specialist in Physics | D31: Polo Ciências | F31: Activity 3 - AI-Driven Process Intelligence Development | I31: 2 | K31: =SUM(L31:O31) -> 15131.085 | L31: =IFERROR(VLOOKUP($B31,Tecnicos_CAP!$E$1:$N$20,10,0)*G31,) -> 0 | M31: =IFERROR(VLOOKUP($B31,Tecnicos_CAP!$E$1:$N$20,10,0)*H31,) -> 0 | N31: =IFERROR(VLOOKUP($B31,Tecnicos_CAP!$E$1:$N$20,10,0)*I31,) -> 15131.085 | O31: =IFERROR(VLOOKUP($B31,Tecnicos_CAP!$E$1:$N$20,10,0)*J31,) -> 0
B32: =B10 -> C8 - Specialist in Optics and Instrumentation | D32: Polo Ciências | F32: Activity 3 - AI-Driven Process Intelligence Development | G32: 8 | H32: 11 | K32: =SUM(L32:O32) -> 27331.396 | L32: =IFERROR(VLOOKUP($B32,Tecnicos_CAP!$E$1:$N$20,10,0)*G32,) -> 11507.956 | M32: =IFERROR(VLOOKUP($B32,Tecnicos_CAP!$E$1:$N$20,10,0)*H32,) -> 15823.44 | N32: =IFERROR(VLOOKUP($B32,Tecnicos_CAP!$E$1:$N$20,10,0)*I32,) -> 0 | O32: =IFERROR(VLOOKUP($B32,Tecnicos_CAP!$E$1:$N$20,10,0)*J32,) -> 0
B33: D2 - Specialist in Physics and Optics | G33: 4 | H33: 4 | I33: 2 | L33: =IFERROR(VLOOKUP($B33,Tecnicos_CAP!$E$1:$N$20,10,0)*G33,) -> 30262.17 | M33: =IFERROR(VLOOKUP($B33,Tecnicos_CAP!$E$1:$N$20,10,0)*H33,) -> 30262.17 | N33: =IFERROR(VLOOKUP($B33,Tecnicos_CAP!$E$1:$N$20,10,0)*I33,) -> 15131.085 | O33: =IFERROR(VLOOKUP($B33,Tecnicos_CAP!$E$1:$N$20,10,0)*J33,) -> 0
D34: Polo Ciências | L34: =IFERROR(VLOOKUP($B34,Tecnicos_CAP!$E$1:$N$20,10,0)*G34,) -> 0 | M34: =IFERROR(VLOOKUP($B34,Tecnicos_CAP!$E$1:$N$20,10,0)*H34,) -> 0 | N34: =IFERROR(VLOOKUP($B34,Tecnicos_CAP!$E$1:$N$20,10,0)*I34,) -> 0 | O34: =IFERROR(VLOOKUP($B34,Tecnicos_CAP!$E$1:$N$20,10,0)*J34,) -> 0
B35: =B13 -> C2 - Specialist in Electrochemistry | D35: Polo Ciências | F35: Activity 4 - Bioreactor Design Development | K35: =SUM(L35:O35) -> 0 | L35: =IFERROR(VLOOKUP($B35,Tecnicos_CAP!$E$1:$N$20,10,0)*G35,) -> 0 | M35: =IFERROR(VLOOKUP($B35,Tecnicos_CAP!$E$1:$N$20,10,0)*H35,) -> 0 | N35: =IFERROR(VLOOKUP($B35,Tecnicos_CAP!$E$1:$N$20,10,0)*I35,) -> 0 | O35: =IFERROR(VLOOKUP($B35,Tecnicos_CAP!$E$1:$N$20,10,0)*J35,) -> 0
B36: =B14 -> C5 - Specialist in Chemical Functionalization and Optical Sensing | D36: Polo Ciências | F36: Activity 4 - Bioreactor Design Development | K36: =SUM(L36:O36) -> 0 | L36: =IFERROR(VLOOKUP($B36,Tecnicos_CAP!$E$1:$N$20,10,0)*G36,) -> 0 | M36: =IFERROR(VLOOKUP($B36,Tecnicos_CAP!$E$1:$N$20,10,0)*H36,) -> 0 | N36: =IFERROR(VLOOKUP($B36,Tecnicos_CAP!$E$1:$N$20,10,0)*I36,) -> 0 | O36: =IFERROR(VLOOKUP($B36,Tecnicos_CAP!$E$1:$N$20,10,0)*J36,) -> 0
B37: =B15 -> C1 - Specialist in Signal Processing and Hardware Instrumentation Design | D37: Polo Ciências | F37: Activity 4 - Bioreactor Design Development | G37: 1 | K37: =SUM(L37:O37) -> 3831.4366 | L37: =IFERROR(VLOOKUP($B37,Tecnicos_CAP!$E$1:$N$20,10,0)*G37,) -> 3831.4366 | M37: =IFERROR(VLOOKUP($B37,Tecnicos_CAP!$E$1:$N$20,10,0)*H37,) -> 0 | N37: =IFERROR(VLOOKUP($B37,Tecnicos_CAP!$E$1:$N$20,10,0)*I37,) -> 0 | O37: =IFERROR(VLOOKUP($B37,Tecnicos_CAP!$E$1:$N$20,10,0)*J37,) -> 0
B38: =B16 -> C3 - Specialist in Physics Engineering | D38: Polo Ciências | F38: Activity 4 - Bioreactor Design Development | G38: 1 | K38: =SUM(L38:O38) -> 2646.1273 | L38: =IFERROR(VLOOKUP($B38,Tecnicos_CAP!$E$1:$N$20,10,0)*G38,) -> 2646.1273 | M38: =IFERROR(VLOOKUP($B38,Tecnicos_CAP!$E$1:$N$20,10,0)*H38,) -> 0 | N38: =IFERROR(VLOOKUP($B38,Tecnicos_CAP!$E$1:$N$20,10,0)*I38,) -> 0 | O38: =IFERROR(VLOOKUP($B38,Tecnicos_CAP!$E$1:$N$20,10,0)*J38,) -> 0
B39: =B17 -> C4 - Specialist in Optical Sensing Technologies | D39: Polo Ciências | F39: Activity 4 - Bioreactor Design Development | K39: =SUM(L39:O39) -> 0 | L39: =IFERROR(VLOOKUP($B39,Tecnicos_CAP!$E$1:$N$20,10,0)*G39,) -> 0 | M39: =IFERROR(VLOOKUP($B39,Tecnicos_CAP!$E$1:$N$20,10,0)*H39,) -> 0 | N39: =IFERROR(VLOOKUP($B39,Tecnicos_CAP!$E$1:$N$20,10,0)*I39,) -> 0 | O39: =IFERROR(VLOOKUP($B39,Tecnicos_CAP!$E$1:$N$20,10,0)*J39,) -> 0
B40: =B18 -> C6 - Electronic Technician Specialist | D40: Polo Ciências | F40: Activity 4 - Bioreactor Design Development | K40: =SUM(L40:O40) -> 0 | L40: =IFERROR(VLOOKUP($B40,Tecnicos_CAP!$E$1:$N$20,10,0)*G40,) -> 0 | M40: =IFERROR(VLOOKUP($B40,Tecnicos_CAP!$E$1:$N$20,10,0)*H40,) -> 0 | N40: =IFERROR(VLOOKUP($B40,Tecnicos_CAP!$E$1:$N$20,10,0)*I40,) -> 0 | O40: =IFERROR(VLOOKUP($B40,Tecnicos_CAP!$E$1:$N$20,10,0)*J40,) -> 0
...

Sheet Custos_SYSTEM
A1: ID | B1: Âmbito | C1: N.º | D1: Beneficiário | E1: Estab. | F1: Ativ. | G1: Designação | H1: Rubrica | I1: Ano | J1: Mês | K1: Custo | L1: EF
H2: Custos com Pessoal | I2: 2027 | K2: =Pessoal_SYSTEM!L55 -> 276378.79
H3: Custos com Pessoal | I3: 2028 | K3: =Pessoal_SYSTEM!M55 -> 276378.79
H4: Custos com Pessoal | I4: 2029 | K4: =Pessoal_SYSTEM!N55 -> 276378.79
H5: Custos com Pessoal | I5: 2030 | K5: =Pessoal_SYSTEM!O55 -> 0
D6: INESC TEC | E6: Sede | F6: Activity 3 - AI-Driven Process Intelligence Development | G6: Aquisição de GPU e 2 computadores+monitores | H6: Equipamento informático | I6: 2027 | J6: 4 | K6: 20000
D7: INESC TEC | E7: Sede | F7: Activity 3 - AI-Driven Process Intelligence Development | G7: Aquisição 3 licenças Flexsim anuais | H7: Software e licenças | I7: 2027 | J7: 4 | K7: 15000
D8: INESC TEC | E8: Sede | F8: Activity 3 - AI-Driven Process Intelligence Development | G8: Aquisição 3 licenças Flexsim anuais | H8: Software e licenças | I8: 2028 | J8: 1 | K8: 15000
D9: INESC TEC | E9: Sede | F9: Activity 3 - AI-Driven Process Intelligence Development | G9: Aquisição 3 licenças Flexsim anuais | H9: Software e licenças | I9: 2029 | J9: 1 | K9: 15000
D10: INESC TEC | E10: Sede | F10: Activity 9 - Promotion, Dissemination & IP | G10: Registo 1 pessoa em 2 conferências FAIM 2028 e APMS 2028 | H10: Seminários e Conferências | I10: 2028 | J10: 1 | K10: 1500
D11: INESC TEC | E11: Sede | F11: Activity 9 - Promotion, Dissemination & IP | G11: Registo em 2 conferências: FAIM 2029 e APMS 2029 | H11: Seminários e Conferências | I11: 2029 | J11: 1 | K11: 1500
D12: INESC TEC | E12: Sede | F12: Activity 9 - Promotion, Dissemination & IP | G12: Deslocação 2 conferências: FAIM 2028 e APMS 2028 nos Estados Unidos (localização a prever) | H12: Deslocações | I12: 2028 | J12: 1 | K12: 2000 | L12: =1188*2 -> 2376 | M12: Previsão OPO-EUA
D13: INESC TEC | E13: Sede | F13: Activity 9 - Promotion, Dissemination & IP | G13: Deslocação 2 conferências: FAIM 2029 e APMS 2029 na Europa (localização a prever) | H13: Deslocações | I13: 2029 | J13: 1 | K13: 2000 | L13: =309*2 -> 618 | M13: Previsão OPO-FR
D14: INESC TEC | E14: Sede | F14: Activity 9 - Promotion, Dissemination & IP | G14: Estadia 5 dias, 1 pessoa, em 2 conferências FAIM 2028 e APMS 2028 nos Estados Unidos | H14: Estadias | I14: 2028 | J14: 1 | K14: 2000 | L14: =(280*5)*2 -> 2800 | M14: Previsão estadia EUA
D15: INESC TEC | E15: Sede | F15: Activity 9 - Promotion, Dissemination & IP | G15: Estadia 5 dias, 1 pessoa, em 2 conferências FAIM 2029 e APMS 2029 na Europa (localização a prever) | H15: Estadias | I15: 2029 | J15: 1 | K15: 2000 | L15: =(282*5)*2 -> 2820 | M15: Previsão Estadia FR
D16: INESC TEC | E16: Sede | F16: Activity 9 - Promotion, Dissemination & IP | G16: Open Access Journal | H16: Promoção e divulgação | I16: 2029 | J16: 1 | K16: 3000 | V16: NOTA: Limite de 85,00€/noite por estadia em Hotel (DL 106/98) em território nacional; 148,91€/noite no estrangeiro
V21: Orçamento Total
V22: 2027 | W22: =SUMIFS($K$2:$K$46,$I$2:$I$46,V22) -> 333175.3
V23: 2028 | W23: =SUMIFS($K$2:$K$46,$I$2:$I$46,V23) -> 317660.3
V24: 2029 | W24: =SUMIFS($K$2:$K$46,$I$2:$I$46,V24) -> 320870.3
V25: 2030 | W25: =SUMIFS($K$2:$K$46,$I$2:$I$46,V25) -> 0
V26: Total | W26: =SUM(W22:W25) -> 971705.91
H43: Custos Indiretos | I43: 2026 | K43: =SUMIFS($K$2:$K$42,$I$2:$I$42,2025)*0.07 -> 0
H44: Custos Indiretos | I44: 2027 | K44: =SUMIFS($K$2:$K$42,$I$2:$I$42,2027)*0.07 -> 21796.515
H45: Custos Indiretos | I45: 2028 | K45: =SUMIFS($K$2:$K$42,$I$2:$I$42,2028)*0.07 -> 20781.515
H46: Custos Indiretos | I46: 2029 | K46: =SUMIFS($K$2:$K$42,$I$2:$I$42,2029)*0.07 -> 20991.515

Sheet Custos_CAP
A1: ID | B1: Âmbito | C1: N.º | D1: Beneficiário | E1: Estab. | F1: Ativ. | G1: Designação | H1: Rubrica | J1: Ano | K1: Mês | L1: Custo | M1: EF | O1: Justificação
H2: Custos com Pessoal | J2: 2027 | L2: =Pessoal_CAP!L90 -> 120862.54
H3: Custos com Pessoal | J3: 2028 | L3: =Pessoal_CAP!M90 -> 173146.77
H4: Custos com Pessoal | J4: 2029 | L4: =Pessoal_CAP!N90 -> 179806.91
H5: Custos com Pessoal | J5: 2030 | L5: =[2]Pessoal_CAP!O82 -> 0
E6: Polo Ciências | F6: A2 | G6: Deslocações para acompanhamento da tarefa, nomeadamente setup experimental e processos de fermentação aquando da mudança para métodos de alimentação alternativos | H6: Deslocações | I6: Nacionais | J6: 2027 | K6: 1 | L6: 1000 | M6: =28*2 -> 56 | O6: Deslocações para acompanhamento da tarefa, nomeadamente setup experimental e processos de fermentação aquando da mudança para métodos de alimentação alternativos
E7: Polo Ciências | F7: A1 | G7: Deslocações para acompanhamento da tarefa, nomeadamente setup experimental e processos de fermentação para o desenvolvimento dos sensores e respetiva implementação | H7: Deslocações | I7: Nacionais | J7: 2027 | K7: 1 | L7: 1000 | M7: =28*2 -> 56 | O7: Deslocações para acompanhamento da tarefa, nomeadamente setup experimental e processos de fermentação para o desenvolvimento dos sensores e respetiva implementação.
E8: Polo Ciências | F8: A3 | G8: Material de laboratório e reagentes quimicos relevantes para o desenvolvimento dos sensores | H8: Matérias-primas e materiais consumíveis | I8: 0 | J8: 2027 | K8: 3 | L8: 7450 | M8: 7450 | O8: Aquisição de consumíveis, tais como material de laboratório e reagentes quimicos relevantes para o desenvolvimento dos sensores.
E9: Polo Ciências | F9: A3 | G9: Material de laboratório e reagentes quimicos relevantes para o desenvolvimento dos sensores | H9: Matérias-primas e materiais consumíveis | I9: 0 | J9: 2028 | K9: 1 | L9: 7400 | M9: 7400 | O9: Aquisição de consumíveis, tais como material de laboratório e reagentes quimicos relevantes para o desenvolvimento dos sensores.
E10: Polo Ciências | F10: A6 | G10: Consumíveis, tais como material de laboratório e reagentes químicos relevantes para o desenvolvimento dos sensores e adaptação ao processo de scale-up | H10: Matérias-primas e materiais consumíveis | I10: 0 | J10: 2029 | K10: 1 | L10: 2000 | M10: 2000 | O10: Aquisição de consumíveis, tais como material de laboratório e reagentes químicos relevantes para o desenvolvimento dos sensores e adaptação ao processo de scale-up
